BEGIN:VCALENDAR
VERSION:2.0
PRODID:-//Monlife - ECPv6.15.18//NONSGML v1.0//EN
CALSCALE:GREGORIAN
METHOD:PUBLISH
X-ORIGINAL-URL:https://www.monlife.co.uk
X-WR-CALDESC:Events for Monlife
REFRESH-INTERVAL;VALUE=DURATION:PT1H
X-Robots-Tag:noindex
X-PUBLISHED-TTL:PT1H
BEGIN:VTIMEZONE
TZID:Europe/London
BEGIN:DAYLIGHT
TZOFFSETFROM:+0000
TZOFFSETTO:+0100
TZNAME:BST
DTSTART:20230326T010000
END:DAYLIGHT
BEGIN:STANDARD
TZOFFSETFROM:+0100
TZOFFSETTO:+0000
TZNAME:GMT
DTSTART:20231029T010000
END:STANDARD
BEGIN:DAYLIGHT
TZOFFSETFROM:+0000
TZOFFSETTO:+0100
TZNAME:BST
DTSTART:20240331T010000
END:DAYLIGHT
BEGIN:STANDARD
TZOFFSETFROM:+0100
TZOFFSETTO:+0000
TZNAME:GMT
DTSTART:20241027T010000
END:STANDARD
BEGIN:DAYLIGHT
TZOFFSETFROM:+0000
TZOFFSETTO:+0100
TZNAME:BST
DTSTART:20250330T010000
END:DAYLIGHT
BEGIN:STANDARD
TZOFFSETFROM:+0100
TZOFFSETTO:+0000
TZNAME:GMT
DTSTART:20251026T010000
END:STANDARD
END:VTIMEZONE
BEGIN:VEVENT
DTSTART;TZID=Europe/London:20240326T140000
DTEND;TZID=Europe/London:20240326T150000
DTSTAMP:20260424T133500
CREATED:20240229T121302Z
LAST-MODIFIED:20240314T114223Z
UID:10001744-1711461600-1711465200@www.monlife.co.uk
SUMMARY:Easter Story Time & Crafts
DESCRIPTION:Join us in Caldicot Hub during the Easter Holidays for a special Easter Story Time & Craft activity! \nBook here! \nSuitable for ages 4 – 8. \nPlease ensure all children are accompanied by an adult.
URL:https://www.monlife.co.uk/event/easter-story-time-crafts/
LOCATION:Caldicot Community Hub\, Woodstock Way\, Caldicot\, Monmouthshire\, NP26 5DB\, United Kingdom
CATEGORIES:Free Activities,May Half Term,MonLife Heritage
ATTACH;FMTTYPE=image/png:https://www.monlife.co.uk/wp-content/uploads/2024/02/Easter-Story-Time-Craft-Instagram-Post.png
END:VEVENT
BEGIN:VEVENT
DTSTART;TZID=Europe/London:20240327T101500
DTEND;TZID=Europe/London:20240327T104500
DTSTAMP:20260424T133500
CREATED:20240325T124640Z
LAST-MODIFIED:20240325T124640Z
UID:10001801-1711534500-1711536300@www.monlife.co.uk
SUMMARY:Easter Stories & Crafts
DESCRIPTION:Join us in Abergavenny Library during the Easter Holidays for a special Easter Story Time & Craft activity. \nNo booking required.
URL:https://www.monlife.co.uk/event/easter-stories-crafts-2/2024-03-27/1/
LOCATION:Abergavenny Community Hub/Library\, Town Hall\, Cross Street\, Abergavenny\, Monmouthshire\, NP7 5HD\, United Kingdom
CATEGORIES:Free Activities,May Half Term,MonLife Heritage
ATTACH;FMTTYPE=image/png:https://www.monlife.co.uk/wp-content/uploads/2024/03/Easter-Stories-Crafts-ABVY.png
END:VEVENT
BEGIN:VEVENT
DTSTART;TZID=Europe/London:20240327T103000
DTEND;TZID=Europe/London:20240327T113000
DTSTAMP:20260424T133500
CREATED:20240318T153323Z
LAST-MODIFIED:20240318T153323Z
UID:10001793-1711535400-1711539000@www.monlife.co.uk
SUMMARY:Easter Stories & Crafts
DESCRIPTION:Join us in Monmouth Hub during the Easter Holidays for a special Easter Story Time & Craft activity! \nNo booking required. \nSuitable for ages 4 – 8. \nPlease ensure all children all accompanied by an adult.
URL:https://www.monlife.co.uk/event/easter-stories-crafts/
LOCATION:Monmouth Community Hub\, Rolls Hall\, Whitecross St\, Monmouth\, Monmouthshire\, NP25 3BY\, United Kingdom
CATEGORIES:Free Activities,May Half Term,MonLife Heritage
ATTACH;FMTTYPE=image/png:https://www.monlife.co.uk/wp-content/uploads/2024/03/Monmouth-Easter-Instagram-Post.png
END:VEVENT
BEGIN:VEVENT
DTSTART;TZID=Europe/London:20240327T141500
DTEND;TZID=Europe/London:20240327T144500
DTSTAMP:20260424T133500
CREATED:20240325T124640Z
LAST-MODIFIED:20240325T124640Z
UID:10001802-1711548900-1711550700@www.monlife.co.uk
SUMMARY:Easter Stories & Crafts
DESCRIPTION:Join us in Abergavenny Library during the Easter Holidays for a special Easter Story Time & Craft activity. \nNo booking required.
URL:https://www.monlife.co.uk/event/easter-stories-crafts-2/2024-03-27/2/
LOCATION:Abergavenny Community Hub/Library\, Town Hall\, Cross Street\, Abergavenny\, Monmouthshire\, NP7 5HD\, United Kingdom
CATEGORIES:Free Activities,May Half Term,MonLife Heritage
ATTACH;FMTTYPE=image/png:https://www.monlife.co.uk/wp-content/uploads/2024/03/Easter-Stories-Crafts-ABVY.png
END:VEVENT
BEGIN:VEVENT
DTSTART;TZID=Europe/London:20240328T103000
DTEND;TZID=Europe/London:20240328T113000
DTSTAMP:20260424T133500
CREATED:20240229T122156Z
LAST-MODIFIED:20240314T112849Z
UID:10001747-1711621800-1711625400@www.monlife.co.uk
SUMMARY:Bunny Stories & Crafts
DESCRIPTION:Come down to Usk Hub during Easter Half-Term and join us for a morning of Bunny Stories & Crafts! \nBook here! \nSuitable for ages 2 – 5. \nPlease ensure that all children are accompanied by an adult.
URL:https://www.monlife.co.uk/event/bunny-stories-crafts/
LOCATION:Usk Community Hub\, 35 Maryport St\, Usk\, Monmouthshire\, NP15 1AE\, United Kingdom
CATEGORIES:Free Activities,May Half Term,MonLife Heritage
ATTACH;FMTTYPE=image/png:https://www.monlife.co.uk/wp-content/uploads/2024/02/Bunny-Story-Craft-Lou-1.png
END:VEVENT
BEGIN:VEVENT
DTSTART;TZID=Europe/London:20240329T100000
DTEND;TZID=Europe/London:20240401T150000
DTSTAMP:20260424T133500
CREATED:20240216T155839Z
LAST-MODIFIED:20240322T143612Z
UID:10001578-1711706400-1711983600@www.monlife.co.uk
SUMMARY:Sold out: Easter Egg hunt at Caldicot Castle
DESCRIPTION:Head to Caldicot Castle this Easter for a great children’s egg hunt. \nClick here to book your tickets \nDates: From Good Friday to Easter Monday (March 29th\, 30th\, 31st and April 1st)\nTimes: Two sessions available (arrive any time within these sessions): 10am – midday or 1pm – 3pm.\nCost: £3.50 per child (includes Easter treat) \nHead to Caldicot Castle this Easter for a great children’s egg hunt. There’ll be two activity sheets available\, one for children 5 and under and a more challenging one for children aged 6 and up. Please let us know when booking which sheets you would like. Each hunt is self-guided around the courtyard\, with an Easter treat upon completion at the tea room. There’s two sessions (morning and afternoon) that you can arrive anytime within to complete the egg hunt. \nThere’ll also be arts and crafts activities around the castle to enjoy. These are free and do not require booking. \nT&Cs \nNo refunds possible (unless event cancelled)\, and parents must accompany their own child. Bookings are non-transferable. ID / proof of booking may be required upon arrival. \nAdults do not have to book a ticket.
URL:https://www.monlife.co.uk/event/easter-egg-hunt-at-caldicot-castle/
LOCATION:Caldicot Castle & Country Park\, Church Rd\,\, Caldicot\, Monmouthshire\, NP26 4HU\, United Kingdom
CATEGORIES:May Half Term,MonLife Heritage
ATTACH;FMTTYPE=image/png:https://www.monlife.co.uk/wp-content/uploads/2024/02/Easter-Egg-Hunt-Caldicot-Castle-02.png
ORGANIZER;CN="MonLife":MAILTO:-
END:VEVENT
END:VCALENDAR