BEGIN:VCALENDAR
VERSION:2.0
PRODID:-//Monlife - ECPv6.15.18//NONSGML v1.0//EN
CALSCALE:GREGORIAN
METHOD:PUBLISH
X-WR-CALNAME:Monlife
X-ORIGINAL-URL:https://www.monlife.co.uk
X-WR-CALDESC:Events for Monlife
REFRESH-INTERVAL;VALUE=DURATION:PT1H
X-Robots-Tag:noindex
X-PUBLISHED-TTL:PT1H
BEGIN:VTIMEZONE
TZID:Europe/London
BEGIN:DAYLIGHT
TZOFFSETFROM:+0000
TZOFFSETTO:+0100
TZNAME:BST
DTSTART:20250330T010000
END:DAYLIGHT
BEGIN:STANDARD
TZOFFSETFROM:+0100
TZOFFSETTO:+0000
TZNAME:GMT
DTSTART:20251026T010000
END:STANDARD
BEGIN:DAYLIGHT
TZOFFSETFROM:+0000
TZOFFSETTO:+0100
TZNAME:BST
DTSTART:20260329T010000
END:DAYLIGHT
BEGIN:STANDARD
TZOFFSETFROM:+0100
TZOFFSETTO:+0000
TZNAME:GMT
DTSTART:20261025T010000
END:STANDARD
BEGIN:DAYLIGHT
TZOFFSETFROM:+0000
TZOFFSETTO:+0100
TZNAME:BST
DTSTART:20270328T010000
END:DAYLIGHT
BEGIN:STANDARD
TZOFFSETFROM:+0100
TZOFFSETTO:+0000
TZNAME:GMT
DTSTART:20271031T010000
END:STANDARD
END:VTIMEZONE
BEGIN:VEVENT
DTSTART;TZID=Europe/London:20260526T083000
DTEND;TZID=Europe/London:20260526T163000
DTSTAMP:20260423T161128
CREATED:20260422T090259Z
LAST-MODIFIED:20260421T224712Z
UID:10009298-1779784200-1779813000@www.monlife.co.uk
SUMMARY:TMG May 2026
DESCRIPTION:We’re returning with a re‑energised programme designed to give children a truly fun‑filled and action‑packed experience this easter holiday! Expect a brilliant mix of popular sports\, team games and skill‑building activities – all focused on fun\, learning and keeping active. \nDon’t wait\, book your spot now for the dates: \nAbergavenny\, Caldicot\, Monmouth: 26/05/26 – 29/05/26 \nChepstow: 26/05/26 – 28/05/26 \nTMG runs from 8:30am-4:30pm and is only £21 per child. But hurry\, spaces are limited! \nTake advantage of our special offer: get a 25% discount when you purchase 10 sessions in advance\, saving you a huge £52.50! \nHow do I book my child onto The Monmouthshire Games?\nYou can book your child onto TMG by registering below: \nThe Monmouthshire Games May 2026
URL:https://www.monlife.co.uk/event/tmg-may-2026/2026-05-26/
CATEGORIES:Free Activities,May Half Term
ATTACH;FMTTYPE=image/png:https://www.monlife.co.uk/wp-content/uploads/2026/04/Social-Tile-1-Chepstow-TMG-Blue.png
ORGANIZER;CN="MonLife":MAILTO:-
END:VEVENT
BEGIN:VEVENT
DTSTART;TZID=Europe/London:20260527T083000
DTEND;TZID=Europe/London:20260527T163000
DTSTAMP:20260423T161128
CREATED:20260422T090259Z
LAST-MODIFIED:20260421T224712Z
UID:10009299-1779870600-1779899400@www.monlife.co.uk
SUMMARY:TMG May 2026
DESCRIPTION:We’re returning with a re‑energised programme designed to give children a truly fun‑filled and action‑packed experience this easter holiday! Expect a brilliant mix of popular sports\, team games and skill‑building activities – all focused on fun\, learning and keeping active. \nDon’t wait\, book your spot now for the dates: \nAbergavenny\, Caldicot\, Monmouth: 26/05/26 – 29/05/26 \nChepstow: 26/05/26 – 28/05/26 \nTMG runs from 8:30am-4:30pm and is only £21 per child. But hurry\, spaces are limited! \nTake advantage of our special offer: get a 25% discount when you purchase 10 sessions in advance\, saving you a huge £52.50! \nHow do I book my child onto The Monmouthshire Games?\nYou can book your child onto TMG by registering below: \nThe Monmouthshire Games May 2026
URL:https://www.monlife.co.uk/event/tmg-may-2026/2026-05-27/
CATEGORIES:Free Activities,May Half Term
ATTACH;FMTTYPE=image/png:https://www.monlife.co.uk/wp-content/uploads/2026/04/Social-Tile-1-Chepstow-TMG-Blue.png
ORGANIZER;CN="MonLife":MAILTO:-
END:VEVENT
BEGIN:VEVENT
DTSTART;TZID=Europe/London:20260528T083000
DTEND;TZID=Europe/London:20260528T163000
DTSTAMP:20260423T161128
CREATED:20260422T090259Z
LAST-MODIFIED:20260421T224712Z
UID:10009300-1779957000-1779985800@www.monlife.co.uk
SUMMARY:TMG May 2026
DESCRIPTION:We’re returning with a re‑energised programme designed to give children a truly fun‑filled and action‑packed experience this easter holiday! Expect a brilliant mix of popular sports\, team games and skill‑building activities – all focused on fun\, learning and keeping active. \nDon’t wait\, book your spot now for the dates: \nAbergavenny\, Caldicot\, Monmouth: 26/05/26 – 29/05/26 \nChepstow: 26/05/26 – 28/05/26 \nTMG runs from 8:30am-4:30pm and is only £21 per child. But hurry\, spaces are limited! \nTake advantage of our special offer: get a 25% discount when you purchase 10 sessions in advance\, saving you a huge £52.50! \nHow do I book my child onto The Monmouthshire Games?\nYou can book your child onto TMG by registering below: \nThe Monmouthshire Games May 2026
URL:https://www.monlife.co.uk/event/tmg-may-2026/2026-05-28/
CATEGORIES:Free Activities,May Half Term
ATTACH;FMTTYPE=image/png:https://www.monlife.co.uk/wp-content/uploads/2026/04/Social-Tile-1-Chepstow-TMG-Blue.png
ORGANIZER;CN="MonLife":MAILTO:-
END:VEVENT
BEGIN:VEVENT
DTSTART;TZID=Europe/London:20260529T083000
DTEND;TZID=Europe/London:20260529T163000
DTSTAMP:20260423T161128
CREATED:20260422T090259Z
LAST-MODIFIED:20260421T224712Z
UID:10009301-1780043400-1780072200@www.monlife.co.uk
SUMMARY:TMG May 2026
DESCRIPTION:We’re returning with a re‑energised programme designed to give children a truly fun‑filled and action‑packed experience this easter holiday! Expect a brilliant mix of popular sports\, team games and skill‑building activities – all focused on fun\, learning and keeping active. \nDon’t wait\, book your spot now for the dates: \nAbergavenny\, Caldicot\, Monmouth: 26/05/26 – 29/05/26 \nChepstow: 26/05/26 – 28/05/26 \nTMG runs from 8:30am-4:30pm and is only £21 per child. But hurry\, spaces are limited! \nTake advantage of our special offer: get a 25% discount when you purchase 10 sessions in advance\, saving you a huge £52.50! \nHow do I book my child onto The Monmouthshire Games?\nYou can book your child onto TMG by registering below: \nThe Monmouthshire Games May 2026
URL:https://www.monlife.co.uk/event/tmg-may-2026/2026-05-29/
CATEGORIES:Free Activities,May Half Term
ATTACH;FMTTYPE=image/png:https://www.monlife.co.uk/wp-content/uploads/2026/04/Social-Tile-1-Chepstow-TMG-Blue.png
ORGANIZER;CN="MonLife":MAILTO:-
END:VEVENT
END:VCALENDAR