BEGIN:VCALENDAR
VERSION:2.0
PRODID:-//Monlife - ECPv6.15.18//NONSGML v1.0//EN
CALSCALE:GREGORIAN
METHOD:PUBLISH
X-WR-CALNAME:Monlife
X-ORIGINAL-URL:https://www.monlife.co.uk
X-WR-CALDESC:Events for Monlife
REFRESH-INTERVAL;VALUE=DURATION:PT1H
X-Robots-Tag:noindex
X-PUBLISHED-TTL:PT1H
BEGIN:VTIMEZONE
TZID:Europe/London
BEGIN:DAYLIGHT
TZOFFSETFROM:+0000
TZOFFSETTO:+0100
TZNAME:BST
DTSTART:20250330T010000
END:DAYLIGHT
BEGIN:STANDARD
TZOFFSETFROM:+0100
TZOFFSETTO:+0000
TZNAME:GMT
DTSTART:20251026T010000
END:STANDARD
BEGIN:DAYLIGHT
TZOFFSETFROM:+0000
TZOFFSETTO:+0100
TZNAME:BST
DTSTART:20260329T010000
END:DAYLIGHT
BEGIN:STANDARD
TZOFFSETFROM:+0100
TZOFFSETTO:+0000
TZNAME:GMT
DTSTART:20261025T010000
END:STANDARD
BEGIN:DAYLIGHT
TZOFFSETFROM:+0000
TZOFFSETTO:+0100
TZNAME:BST
DTSTART:20270328T010000
END:DAYLIGHT
BEGIN:STANDARD
TZOFFSETFROM:+0100
TZOFFSETTO:+0000
TZNAME:GMT
DTSTART:20271031T010000
END:STANDARD
END:VTIMEZONE
BEGIN:VEVENT
DTSTART;TZID=Europe/London:20260403T100000
DTEND;TZID=Europe/London:20260403T160000
DTSTAMP:20260421T084422
CREATED:20260318T150713Z
LAST-MODIFIED:20260318T151050Z
UID:10009266-1775210400-1775232000@www.monlife.co.uk
SUMMARY:Easter Activity Trail
DESCRIPTION:Looking for something fun to do this Easter? Why not pop down to the Old Station Tearooms and pick up your Easter trail! \nThey are self led trails and will require you to hunt all across the site. Please come prepared with appropriate footwear.🐥 \n\n\nAvailable From Wednesday 1st – Sunday 12th April 2026 \n£3.50
URL:https://www.monlife.co.uk/event/easter-activity-trail/2026-04-03/
LOCATION:Old Station Tintern\, Tintern Heights\, Catbrook\, Brockweir\,\, Chepstow\, Monmouthshire\, NP16 7NX\, United Kingdom
CATEGORIES:Easter Holidays,MonLife Heritage
ATTACH;FMTTYPE=image/png:https://www.monlife.co.uk/wp-content/uploads/2026/03/Social-Media-Poster-2.png
ORGANIZER;CN="MonLife":MAILTO:-
END:VEVENT
BEGIN:VEVENT
DTSTART;TZID=Europe/London:20260403T110000
DTEND;TZID=Europe/London:20260403T160000
DTSTAMP:20260421T084422
CREATED:20260318T151847Z
LAST-MODIFIED:20260318T151847Z
UID:10009288-1775214000-1775232000@www.monlife.co.uk
SUMMARY:Easter Egg Hunt
DESCRIPTION:Head to Caldicot Castle this Easter for a great children’s egg hunt. \nDates: From Good Friday to Easter Monday (3rd April – 6April)\nTimes: Two sessions available (arrive any time within these sessions): 11am or 12.30pm – 1.30pm – 4pm.\nCost: £5 per child (includes Easter treat which is NOT chocolate or food based) \nBook your space now!\nHead to Caldicot Castle this Easter for a great children’s egg hunt. Each hunt is self guided around the courtyard so please dress appropriately for the weather and wear sturdy shoes. There will be an Easter gift upon completion at the tea room. \nPlease allow approx 30 minutes to complete the trail. \nThere’ll also be arts and crafts activities around the castle to enjoy. These are free and do not require booking. \nT&Cs \nNo refunds possible (unless event cancelled)\, and parents must accompany their own child. Bookings are non-transferable. ID / proof of booking may be required upon arrival. \nAdults do not have to book a ticket.
URL:https://www.monlife.co.uk/event/easter-egg-hunt-3/2026-04-03/
LOCATION:Caldicot Castle & Country Park\, Church Rd\,\, Caldicot\, Monmouthshire\, NP26 4HU\, United Kingdom
CATEGORIES:Easter Holidays,MonLife Heritage
ATTACH;FMTTYPE=image/jpeg:https://www.monlife.co.uk/wp-content/uploads/2026/03/650650641_1410529001115370_7375551797230995014_n.jpg
ORGANIZER;CN="MonLife":MAILTO:-
END:VEVENT
BEGIN:VEVENT
DTSTART;TZID=Europe/London:20260404T100000
DTEND;TZID=Europe/London:20260404T160000
DTSTAMP:20260421T084422
CREATED:20260318T150713Z
LAST-MODIFIED:20260318T151050Z
UID:10009267-1775296800-1775318400@www.monlife.co.uk
SUMMARY:Easter Activity Trail
DESCRIPTION:Looking for something fun to do this Easter? Why not pop down to the Old Station Tearooms and pick up your Easter trail! \nThey are self led trails and will require you to hunt all across the site. Please come prepared with appropriate footwear.🐥 \n\n\nAvailable From Wednesday 1st – Sunday 12th April 2026 \n£3.50
URL:https://www.monlife.co.uk/event/easter-activity-trail/2026-04-04/
LOCATION:Old Station Tintern\, Tintern Heights\, Catbrook\, Brockweir\,\, Chepstow\, Monmouthshire\, NP16 7NX\, United Kingdom
CATEGORIES:Easter Holidays,MonLife Heritage
ATTACH;FMTTYPE=image/png:https://www.monlife.co.uk/wp-content/uploads/2026/03/Social-Media-Poster-2.png
ORGANIZER;CN="MonLife":MAILTO:-
END:VEVENT
BEGIN:VEVENT
DTSTART;TZID=Europe/London:20260404T110000
DTEND;TZID=Europe/London:20260404T160000
DTSTAMP:20260421T084422
CREATED:20260318T151847Z
LAST-MODIFIED:20260318T151847Z
UID:10009289-1775300400-1775318400@www.monlife.co.uk
SUMMARY:Easter Egg Hunt
DESCRIPTION:Head to Caldicot Castle this Easter for a great children’s egg hunt. \nDates: From Good Friday to Easter Monday (3rd April – 6April)\nTimes: Two sessions available (arrive any time within these sessions): 11am or 12.30pm – 1.30pm – 4pm.\nCost: £5 per child (includes Easter treat which is NOT chocolate or food based) \nBook your space now!\nHead to Caldicot Castle this Easter for a great children’s egg hunt. Each hunt is self guided around the courtyard so please dress appropriately for the weather and wear sturdy shoes. There will be an Easter gift upon completion at the tea room. \nPlease allow approx 30 minutes to complete the trail. \nThere’ll also be arts and crafts activities around the castle to enjoy. These are free and do not require booking. \nT&Cs \nNo refunds possible (unless event cancelled)\, and parents must accompany their own child. Bookings are non-transferable. ID / proof of booking may be required upon arrival. \nAdults do not have to book a ticket.
URL:https://www.monlife.co.uk/event/easter-egg-hunt-3/2026-04-04/
LOCATION:Caldicot Castle & Country Park\, Church Rd\,\, Caldicot\, Monmouthshire\, NP26 4HU\, United Kingdom
CATEGORIES:Easter Holidays,MonLife Heritage
ATTACH;FMTTYPE=image/jpeg:https://www.monlife.co.uk/wp-content/uploads/2026/03/650650641_1410529001115370_7375551797230995014_n.jpg
ORGANIZER;CN="MonLife":MAILTO:-
END:VEVENT
BEGIN:VEVENT
DTSTART;TZID=Europe/London:20260405T100000
DTEND;TZID=Europe/London:20260405T160000
DTSTAMP:20260421T084422
CREATED:20260318T150713Z
LAST-MODIFIED:20260318T151050Z
UID:10009268-1775383200-1775404800@www.monlife.co.uk
SUMMARY:Easter Activity Trail
DESCRIPTION:Looking for something fun to do this Easter? Why not pop down to the Old Station Tearooms and pick up your Easter trail! \nThey are self led trails and will require you to hunt all across the site. Please come prepared with appropriate footwear.🐥 \n\n\nAvailable From Wednesday 1st – Sunday 12th April 2026 \n£3.50
URL:https://www.monlife.co.uk/event/easter-activity-trail/2026-04-05/
LOCATION:Old Station Tintern\, Tintern Heights\, Catbrook\, Brockweir\,\, Chepstow\, Monmouthshire\, NP16 7NX\, United Kingdom
CATEGORIES:Easter Holidays,MonLife Heritage
ATTACH;FMTTYPE=image/png:https://www.monlife.co.uk/wp-content/uploads/2026/03/Social-Media-Poster-2.png
ORGANIZER;CN="MonLife":MAILTO:-
END:VEVENT
BEGIN:VEVENT
DTSTART;TZID=Europe/London:20260405T110000
DTEND;TZID=Europe/London:20260405T160000
DTSTAMP:20260421T084422
CREATED:20260318T151847Z
LAST-MODIFIED:20260318T151847Z
UID:10009290-1775386800-1775404800@www.monlife.co.uk
SUMMARY:Easter Egg Hunt
DESCRIPTION:Head to Caldicot Castle this Easter for a great children’s egg hunt. \nDates: From Good Friday to Easter Monday (3rd April – 6April)\nTimes: Two sessions available (arrive any time within these sessions): 11am or 12.30pm – 1.30pm – 4pm.\nCost: £5 per child (includes Easter treat which is NOT chocolate or food based) \nBook your space now!\nHead to Caldicot Castle this Easter for a great children’s egg hunt. Each hunt is self guided around the courtyard so please dress appropriately for the weather and wear sturdy shoes. There will be an Easter gift upon completion at the tea room. \nPlease allow approx 30 minutes to complete the trail. \nThere’ll also be arts and crafts activities around the castle to enjoy. These are free and do not require booking. \nT&Cs \nNo refunds possible (unless event cancelled)\, and parents must accompany their own child. Bookings are non-transferable. ID / proof of booking may be required upon arrival. \nAdults do not have to book a ticket.
URL:https://www.monlife.co.uk/event/easter-egg-hunt-3/2026-04-05/
LOCATION:Caldicot Castle & Country Park\, Church Rd\,\, Caldicot\, Monmouthshire\, NP26 4HU\, United Kingdom
CATEGORIES:Easter Holidays,MonLife Heritage
ATTACH;FMTTYPE=image/jpeg:https://www.monlife.co.uk/wp-content/uploads/2026/03/650650641_1410529001115370_7375551797230995014_n.jpg
ORGANIZER;CN="MonLife":MAILTO:-
END:VEVENT
BEGIN:VEVENT
DTSTART;TZID=Europe/London:20260406T100000
DTEND;TZID=Europe/London:20260406T160000
DTSTAMP:20260421T084422
CREATED:20260318T150713Z
LAST-MODIFIED:20260318T151050Z
UID:10009269-1775469600-1775491200@www.monlife.co.uk
SUMMARY:Easter Activity Trail
DESCRIPTION:Looking for something fun to do this Easter? Why not pop down to the Old Station Tearooms and pick up your Easter trail! \nThey are self led trails and will require you to hunt all across the site. Please come prepared with appropriate footwear.🐥 \n\n\nAvailable From Wednesday 1st – Sunday 12th April 2026 \n£3.50
URL:https://www.monlife.co.uk/event/easter-activity-trail/2026-04-06/
LOCATION:Old Station Tintern\, Tintern Heights\, Catbrook\, Brockweir\,\, Chepstow\, Monmouthshire\, NP16 7NX\, United Kingdom
CATEGORIES:Easter Holidays,MonLife Heritage
ATTACH;FMTTYPE=image/png:https://www.monlife.co.uk/wp-content/uploads/2026/03/Social-Media-Poster-2.png
ORGANIZER;CN="MonLife":MAILTO:-
END:VEVENT
BEGIN:VEVENT
DTSTART;TZID=Europe/London:20260406T100000
DTEND;TZID=Europe/London:20260406T160000
DTSTAMP:20260421T084422
CREATED:20260318T152323Z
LAST-MODIFIED:20260318T152323Z
UID:10009296-1775469600-1775491200@www.monlife.co.uk
SUMMARY:Green Top Markets - At Caldicot Castle!
DESCRIPTION:Returning with their popular Easter Fayre\, Green Top Markets will be here to kick start our events for the season. \n 06/04/2026\n 10:00-16:00\nCaldicot Castle
URL:https://www.monlife.co.uk/event/green-top-markets-at-caldicot-castle/
LOCATION:Caldicot Castle & Country Park\, Church Rd\,\, Caldicot\, Monmouthshire\, NP26 4HU\, United Kingdom
CATEGORIES:Easter Holidays,MonLife Heritage
ATTACH;FMTTYPE=image/jpeg:https://www.monlife.co.uk/wp-content/uploads/2026/03/LWYab7C5kWiPESM.jpg
ORGANIZER;CN="MonLife":MAILTO:-
END:VEVENT
BEGIN:VEVENT
DTSTART;TZID=Europe/London:20260406T110000
DTEND;TZID=Europe/London:20260406T160000
DTSTAMP:20260421T084422
CREATED:20260318T151847Z
LAST-MODIFIED:20260318T151847Z
UID:10009291-1775473200-1775491200@www.monlife.co.uk
SUMMARY:Easter Egg Hunt
DESCRIPTION:Head to Caldicot Castle this Easter for a great children’s egg hunt. \nDates: From Good Friday to Easter Monday (3rd April – 6April)\nTimes: Two sessions available (arrive any time within these sessions): 11am or 12.30pm – 1.30pm – 4pm.\nCost: £5 per child (includes Easter treat which is NOT chocolate or food based) \nBook your space now!\nHead to Caldicot Castle this Easter for a great children’s egg hunt. Each hunt is self guided around the courtyard so please dress appropriately for the weather and wear sturdy shoes. There will be an Easter gift upon completion at the tea room. \nPlease allow approx 30 minutes to complete the trail. \nThere’ll also be arts and crafts activities around the castle to enjoy. These are free and do not require booking. \nT&Cs \nNo refunds possible (unless event cancelled)\, and parents must accompany their own child. Bookings are non-transferable. ID / proof of booking may be required upon arrival. \nAdults do not have to book a ticket.
URL:https://www.monlife.co.uk/event/easter-egg-hunt-3/2026-04-06/
LOCATION:Caldicot Castle & Country Park\, Church Rd\,\, Caldicot\, Monmouthshire\, NP26 4HU\, United Kingdom
CATEGORIES:Easter Holidays,MonLife Heritage
ATTACH;FMTTYPE=image/jpeg:https://www.monlife.co.uk/wp-content/uploads/2026/03/650650641_1410529001115370_7375551797230995014_n.jpg
ORGANIZER;CN="MonLife":MAILTO:-
END:VEVENT
BEGIN:VEVENT
DTSTART;TZID=Europe/London:20260407T100000
DTEND;TZID=Europe/London:20260407T160000
DTSTAMP:20260421T084422
CREATED:20260318T150713Z
LAST-MODIFIED:20260318T151050Z
UID:10009270-1775556000-1775577600@www.monlife.co.uk
SUMMARY:Easter Activity Trail
DESCRIPTION:Looking for something fun to do this Easter? Why not pop down to the Old Station Tearooms and pick up your Easter trail! \nThey are self led trails and will require you to hunt all across the site. Please come prepared with appropriate footwear.🐥 \n\n\nAvailable From Wednesday 1st – Sunday 12th April 2026 \n£3.50
URL:https://www.monlife.co.uk/event/easter-activity-trail/2026-04-07/
LOCATION:Old Station Tintern\, Tintern Heights\, Catbrook\, Brockweir\,\, Chepstow\, Monmouthshire\, NP16 7NX\, United Kingdom
CATEGORIES:Easter Holidays,MonLife Heritage
ATTACH;FMTTYPE=image/png:https://www.monlife.co.uk/wp-content/uploads/2026/03/Social-Media-Poster-2.png
ORGANIZER;CN="MonLife":MAILTO:-
END:VEVENT
BEGIN:VEVENT
DTSTART;TZID=Europe/London:20260408T083000
DTEND;TZID=Europe/London:20260408T163000
DTSTAMP:20260421T084422
CREATED:20260311T223826Z
LAST-MODIFIED:20260311T223826Z
UID:10009259-1775637000-1775665800@www.monlife.co.uk
SUMMARY:TMG Easter 2026
DESCRIPTION:We’re returning with a re‑energised programme designed to give children a truly fun‑filled and action‑packed experience this easter holiday! Expect a brilliant mix of popular sports\, team games and skill‑building activities – all focused on fun\, learning and keeping active. \nDon’t wait\, book your spot now for the dates: \nAbergavenny\, Caldicot\, Monmouth: 30/03/26 – 02/04/26 & 08/04/26 – 10/04/26 \nChepstow: 30/03/26 – 02/04/26 & 08/04/26 – 09/04/26 \nTMG runs from 8:30am-4:30pm and is only £21 per child. But hurry\, spaces are limited! \nTake advantage of our special offer: get a 25% discount when you purchase 10 sessions in advance\, saving you a huge £52.50! \nHow do I book my child onto The Monmouthshire Games?\nYou can book your child onto TMG by registering below: \nThe Monmouthshire Games April 2026
URL:https://www.monlife.co.uk/event/tmg-easter-2026/2026-04-08/
LOCATION:Abergavenny Leisure Centre\, Old Hereford Road\, Abergavenny\, Monmouthshire\, NP7 6EP\, United Kingdom
CATEGORIES:Easter Holidays
ATTACH;FMTTYPE=image/png:https://www.monlife.co.uk/wp-content/uploads/2026/03/Social-Tile-1-TMG-Easter-2026-PNG.png
ORGANIZER;CN="MonLife":MAILTO:-
END:VEVENT
BEGIN:VEVENT
DTSTART;TZID=Europe/London:20260408T100000
DTEND;TZID=Europe/London:20260408T160000
DTSTAMP:20260421T084422
CREATED:20260318T150713Z
LAST-MODIFIED:20260318T151050Z
UID:10009271-1775642400-1775664000@www.monlife.co.uk
SUMMARY:Easter Activity Trail
DESCRIPTION:Looking for something fun to do this Easter? Why not pop down to the Old Station Tearooms and pick up your Easter trail! \nThey are self led trails and will require you to hunt all across the site. Please come prepared with appropriate footwear.🐥 \n\n\nAvailable From Wednesday 1st – Sunday 12th April 2026 \n£3.50
URL:https://www.monlife.co.uk/event/easter-activity-trail/2026-04-08/
LOCATION:Old Station Tintern\, Tintern Heights\, Catbrook\, Brockweir\,\, Chepstow\, Monmouthshire\, NP16 7NX\, United Kingdom
CATEGORIES:Easter Holidays,MonLife Heritage
ATTACH;FMTTYPE=image/png:https://www.monlife.co.uk/wp-content/uploads/2026/03/Social-Media-Poster-2.png
ORGANIZER;CN="MonLife":MAILTO:-
END:VEVENT
BEGIN:VEVENT
DTSTART;TZID=Europe/London:20260409T083000
DTEND;TZID=Europe/London:20260409T163000
DTSTAMP:20260421T084422
CREATED:20260311T223826Z
LAST-MODIFIED:20260311T223826Z
UID:10009260-1775723400-1775752200@www.monlife.co.uk
SUMMARY:TMG Easter 2026
DESCRIPTION:We’re returning with a re‑energised programme designed to give children a truly fun‑filled and action‑packed experience this easter holiday! Expect a brilliant mix of popular sports\, team games and skill‑building activities – all focused on fun\, learning and keeping active. \nDon’t wait\, book your spot now for the dates: \nAbergavenny\, Caldicot\, Monmouth: 30/03/26 – 02/04/26 & 08/04/26 – 10/04/26 \nChepstow: 30/03/26 – 02/04/26 & 08/04/26 – 09/04/26 \nTMG runs from 8:30am-4:30pm and is only £21 per child. But hurry\, spaces are limited! \nTake advantage of our special offer: get a 25% discount when you purchase 10 sessions in advance\, saving you a huge £52.50! \nHow do I book my child onto The Monmouthshire Games?\nYou can book your child onto TMG by registering below: \nThe Monmouthshire Games April 2026
URL:https://www.monlife.co.uk/event/tmg-easter-2026/2026-04-09/
LOCATION:Abergavenny Leisure Centre\, Old Hereford Road\, Abergavenny\, Monmouthshire\, NP7 6EP\, United Kingdom
CATEGORIES:Easter Holidays
ATTACH;FMTTYPE=image/png:https://www.monlife.co.uk/wp-content/uploads/2026/03/Social-Tile-1-TMG-Easter-2026-PNG.png
ORGANIZER;CN="MonLife":MAILTO:-
END:VEVENT
BEGIN:VEVENT
DTSTART;TZID=Europe/London:20260409T100000
DTEND;TZID=Europe/London:20260409T160000
DTSTAMP:20260421T084422
CREATED:20260318T150713Z
LAST-MODIFIED:20260318T151050Z
UID:10009272-1775728800-1775750400@www.monlife.co.uk
SUMMARY:Easter Activity Trail
DESCRIPTION:Looking for something fun to do this Easter? Why not pop down to the Old Station Tearooms and pick up your Easter trail! \nThey are self led trails and will require you to hunt all across the site. Please come prepared with appropriate footwear.🐥 \n\n\nAvailable From Wednesday 1st – Sunday 12th April 2026 \n£3.50
URL:https://www.monlife.co.uk/event/easter-activity-trail/2026-04-09/
LOCATION:Old Station Tintern\, Tintern Heights\, Catbrook\, Brockweir\,\, Chepstow\, Monmouthshire\, NP16 7NX\, United Kingdom
CATEGORIES:Easter Holidays,MonLife Heritage
ATTACH;FMTTYPE=image/png:https://www.monlife.co.uk/wp-content/uploads/2026/03/Social-Media-Poster-2.png
ORGANIZER;CN="MonLife":MAILTO:-
END:VEVENT
BEGIN:VEVENT
DTSTART;TZID=Europe/London:20260410T083000
DTEND;TZID=Europe/London:20260410T163000
DTSTAMP:20260421T084422
CREATED:20260311T223826Z
LAST-MODIFIED:20260311T223826Z
UID:10009261-1775809800-1775838600@www.monlife.co.uk
SUMMARY:TMG Easter 2026
DESCRIPTION:We’re returning with a re‑energised programme designed to give children a truly fun‑filled and action‑packed experience this easter holiday! Expect a brilliant mix of popular sports\, team games and skill‑building activities – all focused on fun\, learning and keeping active. \nDon’t wait\, book your spot now for the dates: \nAbergavenny\, Caldicot\, Monmouth: 30/03/26 – 02/04/26 & 08/04/26 – 10/04/26 \nChepstow: 30/03/26 – 02/04/26 & 08/04/26 – 09/04/26 \nTMG runs from 8:30am-4:30pm and is only £21 per child. But hurry\, spaces are limited! \nTake advantage of our special offer: get a 25% discount when you purchase 10 sessions in advance\, saving you a huge £52.50! \nHow do I book my child onto The Monmouthshire Games?\nYou can book your child onto TMG by registering below: \nThe Monmouthshire Games April 2026
URL:https://www.monlife.co.uk/event/tmg-easter-2026/2026-04-10/
LOCATION:Abergavenny Leisure Centre\, Old Hereford Road\, Abergavenny\, Monmouthshire\, NP7 6EP\, United Kingdom
CATEGORIES:Easter Holidays
ATTACH;FMTTYPE=image/png:https://www.monlife.co.uk/wp-content/uploads/2026/03/Social-Tile-1-TMG-Easter-2026-PNG.png
ORGANIZER;CN="MonLife":MAILTO:-
END:VEVENT
BEGIN:VEVENT
DTSTART;TZID=Europe/London:20260410T100000
DTEND;TZID=Europe/London:20260410T160000
DTSTAMP:20260421T084422
CREATED:20260318T150713Z
LAST-MODIFIED:20260318T151050Z
UID:10009273-1775815200-1775836800@www.monlife.co.uk
SUMMARY:Easter Activity Trail
DESCRIPTION:Looking for something fun to do this Easter? Why not pop down to the Old Station Tearooms and pick up your Easter trail! \nThey are self led trails and will require you to hunt all across the site. Please come prepared with appropriate footwear.🐥 \n\n\nAvailable From Wednesday 1st – Sunday 12th April 2026 \n£3.50
URL:https://www.monlife.co.uk/event/easter-activity-trail/2026-04-10/
LOCATION:Old Station Tintern\, Tintern Heights\, Catbrook\, Brockweir\,\, Chepstow\, Monmouthshire\, NP16 7NX\, United Kingdom
CATEGORIES:Easter Holidays,MonLife Heritage
ATTACH;FMTTYPE=image/png:https://www.monlife.co.uk/wp-content/uploads/2026/03/Social-Media-Poster-2.png
ORGANIZER;CN="MonLife":MAILTO:-
END:VEVENT
BEGIN:VEVENT
DTSTART;TZID=Europe/London:20260411T100000
DTEND;TZID=Europe/London:20260411T160000
DTSTAMP:20260421T084422
CREATED:20260318T150713Z
LAST-MODIFIED:20260318T151050Z
UID:10009274-1775901600-1775923200@www.monlife.co.uk
SUMMARY:Easter Activity Trail
DESCRIPTION:Looking for something fun to do this Easter? Why not pop down to the Old Station Tearooms and pick up your Easter trail! \nThey are self led trails and will require you to hunt all across the site. Please come prepared with appropriate footwear.🐥 \n\n\nAvailable From Wednesday 1st – Sunday 12th April 2026 \n£3.50
URL:https://www.monlife.co.uk/event/easter-activity-trail/2026-04-11/
LOCATION:Old Station Tintern\, Tintern Heights\, Catbrook\, Brockweir\,\, Chepstow\, Monmouthshire\, NP16 7NX\, United Kingdom
CATEGORIES:Easter Holidays,MonLife Heritage
ATTACH;FMTTYPE=image/png:https://www.monlife.co.uk/wp-content/uploads/2026/03/Social-Media-Poster-2.png
ORGANIZER;CN="MonLife":MAILTO:-
END:VEVENT
BEGIN:VEVENT
DTSTART;TZID=Europe/London:20260412T100000
DTEND;TZID=Europe/London:20260412T160000
DTSTAMP:20260421T084422
CREATED:20260318T150713Z
LAST-MODIFIED:20260318T151050Z
UID:10009275-1775988000-1776009600@www.monlife.co.uk
SUMMARY:Easter Activity Trail
DESCRIPTION:Looking for something fun to do this Easter? Why not pop down to the Old Station Tearooms and pick up your Easter trail! \nThey are self led trails and will require you to hunt all across the site. Please come prepared with appropriate footwear.🐥 \n\n\nAvailable From Wednesday 1st – Sunday 12th April 2026 \n£3.50
URL:https://www.monlife.co.uk/event/easter-activity-trail/2026-04-12/
LOCATION:Old Station Tintern\, Tintern Heights\, Catbrook\, Brockweir\,\, Chepstow\, Monmouthshire\, NP16 7NX\, United Kingdom
CATEGORIES:Easter Holidays,MonLife Heritage
ATTACH;FMTTYPE=image/png:https://www.monlife.co.uk/wp-content/uploads/2026/03/Social-Media-Poster-2.png
ORGANIZER;CN="MonLife":MAILTO:-
END:VEVENT
END:VCALENDAR