BEGIN:VCALENDAR
VERSION:2.0
PRODID:-//Monlife - ECPv6.15.18//NONSGML v1.0//EN
CALSCALE:GREGORIAN
METHOD:PUBLISH
X-ORIGINAL-URL:https://www.monlife.co.uk
X-WR-CALDESC:Events for Monlife
REFRESH-INTERVAL;VALUE=DURATION:PT1H
X-Robots-Tag:noindex
X-PUBLISHED-TTL:PT1H
BEGIN:VTIMEZONE
TZID:Europe/London
BEGIN:DAYLIGHT
TZOFFSETFROM:+0000
TZOFFSETTO:+0100
TZNAME:BST
DTSTART:20220327T010000
END:DAYLIGHT
BEGIN:STANDARD
TZOFFSETFROM:+0100
TZOFFSETTO:+0000
TZNAME:GMT
DTSTART:20221030T010000
END:STANDARD
BEGIN:DAYLIGHT
TZOFFSETFROM:+0000
TZOFFSETTO:+0100
TZNAME:BST
DTSTART:20230326T010000
END:DAYLIGHT
BEGIN:STANDARD
TZOFFSETFROM:+0100
TZOFFSETTO:+0000
TZNAME:GMT
DTSTART:20231029T010000
END:STANDARD
BEGIN:DAYLIGHT
TZOFFSETFROM:+0000
TZOFFSETTO:+0100
TZNAME:BST
DTSTART:20240331T010000
END:DAYLIGHT
BEGIN:STANDARD
TZOFFSETFROM:+0100
TZOFFSETTO:+0000
TZNAME:GMT
DTSTART:20241027T010000
END:STANDARD
BEGIN:DAYLIGHT
TZOFFSETFROM:+0000
TZOFFSETTO:+0100
TZNAME:BST
DTSTART:20250330T010000
END:DAYLIGHT
BEGIN:STANDARD
TZOFFSETFROM:+0100
TZOFFSETTO:+0000
TZNAME:GMT
DTSTART:20251026T010000
END:STANDARD
END:VTIMEZONE
BEGIN:VEVENT
DTSTART;TZID=Europe/London:20240706T093000
DTEND;TZID=Europe/London:20240706T123000
DTSTAMP:20260424T085444
CREATED:20240618T153054Z
LAST-MODIFIED:20240618T153054Z
UID:10003464-1720258200-1720269000@www.monlife.co.uk
SUMMARY:Folk Art/Barge Painting Workshop
DESCRIPTION:On this workshop you will learn to paint with one stroke\, this is a popular and interesting decorative painting technique\, where double and multi-loading is used to achieve highlights\, shadows and colour changes in one strike. \n\nSaturday\, 6th July 2024\n9.30am – 12.30pm\nCost £15\n01291 426888 uskhub@monmouthshire.gov.uk
URL:https://www.monlife.co.uk/event/folk-art-barge-painting-workshop/
LOCATION:Usk Community Hub\, 35 Maryport St\, Usk\, Monmouthshire\, NP15 1AE\, United Kingdom
CATEGORIES:MonLife Connect
ATTACH;FMTTYPE=image/png:https://www.monlife.co.uk/wp-content/uploads/2024/06/1-3.png
END:VEVENT
BEGIN:VEVENT
DTSTART;TZID=Europe/London:20240705T100000
DTEND;TZID=Europe/London:20240705T130000
DTSTAMP:20260424T085445
CREATED:20240618T154013Z
LAST-MODIFIED:20240618T154013Z
UID:10003466-1720173600-1720184400@www.monlife.co.uk
SUMMARY:Pen & Ink Drawing Workshop
DESCRIPTION:On this workshop we will experiment with pen and coloured ink to create a vibrant landscape. \n\nFriday\, 5th July 2024\n10am – 1pm\nCost £15\n01291 426888 / uskhub@monmouthshire.gov.uk
URL:https://www.monlife.co.uk/event/pen-ink-drawing-workshop/
LOCATION:Usk Community Hub\, 35 Maryport St\, Usk\, Monmouthshire\, NP15 1AE\, United Kingdom
CATEGORIES:MonLife Connect
ATTACH;FMTTYPE=image/png:https://www.monlife.co.uk/wp-content/uploads/2024/06/1-4.png
END:VEVENT
BEGIN:VEVENT
DTSTART;TZID=Europe/London:20240628T100000
DTEND;TZID=Europe/London:20240628T130000
DTSTAMP:20260424T085445
CREATED:20240614T115745Z
LAST-MODIFIED:20240614T115745Z
UID:10003454-1719568800-1719579600@www.monlife.co.uk
SUMMARY:Splash Watercolour Flower Painting Workshop
DESCRIPTION:Learn to paint flowers the easy way. Using lot’s of different techniques to create beautiful artwork. \n\nFriday\, 28th June 2024\n10am – 1pm\nCost: £15\n\nBook your space via 01291 426888 or by emailing uskhub@monmouthshire.gov.uk
URL:https://www.monlife.co.uk/event/splash-watercolour-flower-painting-workshop/
LOCATION:Usk Community Hub\, 35 Maryport St\, Usk\, Monmouthshire\, NP15 1AE\, United Kingdom
CATEGORIES:MonLife Connect
ATTACH;FMTTYPE=image/png:https://www.monlife.co.uk/wp-content/uploads/2024/06/Sblash-Dyfrlliw-Gweithdy-Peintio-Blodau.png
END:VEVENT
BEGIN:VEVENT
DTSTART;TZID=Europe/London:20240622T130000
DTEND;TZID=Europe/London:20240622T150000
DTSTAMP:20260424T085445
CREATED:20240618T135939Z
LAST-MODIFIED:20240618T140309Z
UID:10003456-1719061200-1719068400@www.monlife.co.uk
SUMMARY:ADULT & CHILD Willow Weaving Garden Decorations Workshop
DESCRIPTION:Have fun together learning simple willow weaving techniques to create your own garden decorations. \n\nSaturday\, 22nd June 2024\n1pm – 3pm\nCost – Adult £10 Child £5 (age 5+)\nplus materials £2 per person\n\n01291 426888 / uskhub@monmouthshire.gov.uk
URL:https://www.monlife.co.uk/event/adult-child-willow-weaving-garden-decorations-workshop/
LOCATION:Usk Community Hub\, 35 Maryport St\, Usk\, Monmouthshire\, NP15 1AE\, United Kingdom
CATEGORIES:MonLife Connect
ATTACH;FMTTYPE=image/png:https://www.monlife.co.uk/wp-content/uploads/2024/06/Usk-Gardens-willow-whsp-Instagram-Post.png
END:VEVENT
BEGIN:VEVENT
DTSTART;TZID=Europe/London:20240622T093000
DTEND;TZID=Europe/London:20240622T130000
DTSTAMP:20260424T085445
CREATED:20240618T154822Z
LAST-MODIFIED:20240618T154822Z
UID:10003468-1719048600-1719061200@www.monlife.co.uk
SUMMARY:Summer Exhibition of Students Work
DESCRIPTION:Usk Community Learning are very excited to present their ‘Exhibition of Students Work’. Come along and view some of the fantastic work our very talented learners have achieved throughout the year. \n\nUsk Community Hub\nSaturday\, 22nd June 2024\n9.30am – 1pm\n01291 426888 / uskhub@monmouthshire.gov.uk
URL:https://www.monlife.co.uk/event/summer-exhibition-of-students-work/
LOCATION:Usk Community Hub\, 35 Maryport St\, Usk\, Monmouthshire\, NP15 1AE\, United Kingdom
CATEGORIES:MonLife Connect
ATTACH;FMTTYPE=image/png:https://www.monlife.co.uk/wp-content/uploads/2024/06/1-5.png
END:VEVENT
BEGIN:VEVENT
DTSTART;TZID=Europe/London:20240326T110000
DTEND;TZID=Europe/London:20240326T150000
DTSTAMP:20260424T085445
CREATED:20240315T120008Z
LAST-MODIFIED:20240315T120008Z
UID:10001787-1711450800-1711465200@www.monlife.co.uk
SUMMARY:6 A SIDE FOOTBALL TOURNAMENT
DESCRIPTION:Easter Holiday Activity! Free 6 a side football Tournament\, at Caldicot Leisure Centre on the 26/03/2024. Ages 11 (*year 7*) to 16. Please use the link (https://forms.office.com/e/jM74VJh7nH) to sign up! The deadline for this event is the 22/03/2024. **Consent forms need to be filled out by an adult with parental responsibility.**
URL:https://www.monlife.co.uk/event/6-a-side-football-tournament/
LOCATION:Caldicot Leisure Centre\, Mill Lane\, Caldicot\, Monmouthshire\, NP26 4BN\, United Kingdom
CATEGORIES:Free Activities,May Half Term,MonLife Active,MonLife Connect
ATTACH;FMTTYPE=image/jpeg:https://www.monlife.co.uk/wp-content/uploads/2024/03/DSC02701-scaled.jpg
ORGANIZER;CN="MonLife":MAILTO:-
END:VEVENT
BEGIN:VEVENT
DTSTART;TZID=Europe/London:20240215T133000
DTEND;TZID=Europe/London:20240215T152500
DTSTAMP:20260424T085445
CREATED:20240202T130720Z
LAST-MODIFIED:20240202T130752Z
UID:10001045-1708003800-1708010700@www.monlife.co.uk
SUMMARY:SOLD OUT - Active Play Session - Caldicot Leisure Centre
DESCRIPTION:SOLD OUT\n\nMonLife are holding FREE Active Play sessions during half term ?\n\n\n \n15.02.24\, 13:30-15:25am\n\n\n\nOur ‘Play’ programme is 1 hours and 55 minutes where children aged 5-11 can be left with our highly trained and experienced playworkers and choose from a range of activities to play including physical play\, arts and crafts\, archery or wherever their imagination takes them.\n\n\n\n\n\nParents will need to complete a registration form to book their children to attend.\n\n\n \n\n\n 
URL:https://www.monlife.co.uk/event/sold-out-active-play-session-caldicot-leisure-centre/
LOCATION:Caldicot Leisure Centre\, Mill Lane\, Caldicot\, Monmouthshire\, NP26 4BN\, United Kingdom
CATEGORIES:May Half Term,MonLife Connect
ATTACH;FMTTYPE=image/png:https://www.monlife.co.uk/wp-content/uploads/2024/02/Active-Play-03.png
ORGANIZER;CN="MonLife":MAILTO:-
END:VEVENT
BEGIN:VEVENT
DTSTART;TZID=Europe/London:20240213T133000
DTEND;TZID=Europe/London:20240213T152500
DTSTAMP:20260424T085445
CREATED:20240202T125733Z
LAST-MODIFIED:20240208T092500Z
UID:10001043-1707831000-1707837900@www.monlife.co.uk
SUMMARY:SOLD OUT : Active Play Session - Deri View Primary School
DESCRIPTION:Sold out : MonLife are holding FREE Active Play sessions during half term ?\n\n\n \n13.02.24\, 10:00-11:55am\n\n\n\nOur ‘Play’ programme is 1 hours and 55 minutes where children aged 5-11 can be left with our highly trained and experienced playworkers and choose from a range of activities to play including physical play\, arts and crafts\, archery or wherever their imagination takes them.\n\n\n\n\n\nParents will need to complete a registration form to book their children to attend.\n\n\n \n\n\n 
URL:https://www.monlife.co.uk/event/active-play-session-deri-view-primary-school/
LOCATION:Deri View Primary School\, Llwynu Ln\, Abergavenny\, NP7 6AR\, United Kingdom
CATEGORIES:May Half Term,MonLife Connect
ATTACH;FMTTYPE=image/png:https://www.monlife.co.uk/wp-content/uploads/2024/02/Active-Play-03.png
ORGANIZER;CN="MonLife":MAILTO:-
END:VEVENT
BEGIN:VEVENT
DTSTART;TZID=Europe/London:20240213T100000
DTEND;TZID=Europe/London:20240213T115500
DTSTAMP:20260424T085445
CREATED:20240202T124144Z
LAST-MODIFIED:20240202T124144Z
UID:10001041-1707818400-1707825300@www.monlife.co.uk
SUMMARY:Active Play Session - Monmouth Leisure Centre
DESCRIPTION:MonLife are holding FREE Active Play sessions during half term ?\n\n\n \n13.02.24\, 10:00-11:55am\n\n\n\nOur ‘Play’ programme is 1 hours and 55 minutes where children aged 5-11 can be left with our highly trained and experienced playworkers and choose from a range of activities to play including physical play\, arts and crafts\, archery or wherever their imagination takes them.\n\n\n\n\n\nParents will need to complete a registration form to book their children to attend.\n\n\n \n\n\n 
URL:https://www.monlife.co.uk/event/active-play-session-monmouth-leisure-centre/
LOCATION:Monmouth Leisure Centre\, Old Dixton Rd\, Monmouth\, Monmouthshire\, NP25 3DP\, United Kingdom
CATEGORIES:May Half Term,MonLife Connect
ATTACH;FMTTYPE=image/png:https://www.monlife.co.uk/wp-content/uploads/2024/02/Active-Play-03.png
ORGANIZER;CN="MonLife":MAILTO:-
END:VEVENT
BEGIN:VEVENT
DTSTART;TZID=Europe/London:20240213T100000
DTEND;TZID=Europe/London:20240213T115500
DTSTAMP:20260424T085445
CREATED:20240202T123612Z
LAST-MODIFIED:20240202T123612Z
UID:10001039-1707818400-1707825300@www.monlife.co.uk
SUMMARY:Active Play Session - Chepstow Leisure Centre
DESCRIPTION:MonLife are holding FREE Active Play sessions during half term ?\n\n\n \n13.02.24\, 10:00-11:55am\n\n\n\nOur ‘Play’ programme is 1 hours and 55 minutes where children aged 5-11 can be left with our highly trained and experienced playworkers and choose from a range of activities to play including physical play\, arts and crafts\, archery or wherever their imagination takes them.\n\n\n\n\n\nParents will need to complete a registration form to book their children to attend.\n\n\n \n\n\n 
URL:https://www.monlife.co.uk/event/active-play-session-chepstow-leisure-centre/
LOCATION:Chepstow Leisure Centre\, Welsh St\, Chepstow\, Monmouthshire\, NP16 5LX\, United Kingdom
CATEGORIES:May Half Term,MonLife Connect
ATTACH;FMTTYPE=image/png:https://www.monlife.co.uk/wp-content/uploads/2024/02/Active-Play-03.png
END:VEVENT
BEGIN:VEVENT
DTSTART;TZID=Europe/London:20231031T160000
DTEND;TZID=Europe/London:20231031T210000
DTSTAMP:20260424T085445
CREATED:20231024T163251Z
LAST-MODIFIED:20231024T163824Z
UID:10000310-1698768000-1698786000@www.monlife.co.uk
SUMMARY:Halloween at The Zone
DESCRIPTION:You are invited to Halloween at The Zone\, Tuesday 31 October\, 4-9pm – Treats\, games and more! \n  \n  \n 
URL:https://www.monlife.co.uk/event/halloween-at-the-zone/
LOCATION:The Zone\, Caldicot Youth Centre\, 1 Chepstow Road\, Caldicot\, Monmouthshire\, NP26 4XY\, United Kingdom
CATEGORIES:May Half Term,MonLife Connect
ATTACH;FMTTYPE=image/png:https://www.monlife.co.uk/wp-content/uploads/2023/10/Cabin-halloween-welsh-cropped.png
ORGANIZER;CN="MonLife":MAILTO:-
END:VEVENT
BEGIN:VEVENT
DTSTART;TZID=Europe/London:20231031T160000
DTEND;TZID=Europe/London:20231031T210000
DTSTAMP:20260424T085445
CREATED:20231024T162556Z
LAST-MODIFIED:20231024T163157Z
UID:10000308-1698768000-1698786000@www.monlife.co.uk
SUMMARY:Halloween at The Cabin
DESCRIPTION:You are invited to Halloween at The Cabin\, Tuesday 31 October\, 4-9pm – Treats\, games and more! \n  \n  \n 
URL:https://www.monlife.co.uk/event/halloween-at-the-cabin/
LOCATION:The Cabin\, Abergavenny Youth Centre\, Old Hereford Road\, Abergavenny\, Monmouthshire\, NP7 6EL\, United Kingdom
CATEGORIES:May Half Term,MonLife Connect
ATTACH;FMTTYPE=image/png:https://www.monlife.co.uk/wp-content/uploads/2023/10/Cabin-halloween-welsh-cropped.png
ORGANIZER;CN="MonLife":MAILTO:-
END:VEVENT
END:VCALENDAR