BEGIN:VCALENDAR
VERSION:2.0
PRODID:-//Monlife - ECPv6.15.18//NONSGML v1.0//EN
CALSCALE:GREGORIAN
METHOD:PUBLISH
X-ORIGINAL-URL:https://www.monlife.co.uk
X-WR-CALDESC:Events for Monlife
REFRESH-INTERVAL;VALUE=DURATION:PT1H
X-Robots-Tag:noindex
X-PUBLISHED-TTL:PT1H
BEGIN:VTIMEZONE
TZID:Europe/London
BEGIN:DAYLIGHT
TZOFFSETFROM:+0000
TZOFFSETTO:+0100
TZNAME:BST
DTSTART:20250330T010000
END:DAYLIGHT
BEGIN:STANDARD
TZOFFSETFROM:+0100
TZOFFSETTO:+0000
TZNAME:GMT
DTSTART:20251026T010000
END:STANDARD
BEGIN:DAYLIGHT
TZOFFSETFROM:+0000
TZOFFSETTO:+0100
TZNAME:BST
DTSTART:20260329T010000
END:DAYLIGHT
BEGIN:STANDARD
TZOFFSETFROM:+0100
TZOFFSETTO:+0000
TZNAME:GMT
DTSTART:20261025T010000
END:STANDARD
BEGIN:DAYLIGHT
TZOFFSETFROM:+0000
TZOFFSETTO:+0100
TZNAME:BST
DTSTART:20270328T010000
END:DAYLIGHT
BEGIN:STANDARD
TZOFFSETFROM:+0100
TZOFFSETTO:+0000
TZNAME:GMT
DTSTART:20271031T010000
END:STANDARD
END:VTIMEZONE
BEGIN:VEVENT
DTSTART;TZID=Europe/London:20260216T083000
DTEND;TZID=Europe/London:20260216T163000
DTSTAMP:20260421T184758
CREATED:20260114T185145Z
LAST-MODIFIED:20260114T185614Z
UID:10009196-1771230600-1771259400@www.monlife.co.uk
SUMMARY:February 2026 TMG
DESCRIPTION:Offering a playful platform for learning new skills\, fostering confidence\, expanding social circles\, and\, above all\, relishing the thrill of sports\, TMG is the ultimate playground for children and young people aged 5-11 years during the school holidays. With a maximum of 30 spaces available per day at each site\, TMG ensures personalised attention and fosters a supportive environment for every participant to flourish. \nTaking place across Monmouthshire\, join us at one of the following locations: \n\nAbergavenny Leisure Centre\nMonmouth Leisure Centre\nCaldicot Leisure Centre\nChepstow Leisure Centre\n\nHow do I book my child onto The Monmouthshire Games?\nYou can book your child onto TMG by registering below: \nThe Monmouthshire Games February 2026
URL:https://www.monlife.co.uk/event/february-2026-tmg/2026-02-16/
LOCATION:Monmouth Leisure Centre\, Old Dixton Rd\, Monmouth\, Monmouthshire\, NP25 3DP\, United Kingdom
CATEGORIES:Easter Holidays,MonLife Active
ATTACH;FMTTYPE=image/png:https://www.monlife.co.uk/wp-content/uploads/2026/01/Social-Tile-SQ.png
ORGANIZER;CN="MonLife":MAILTO:-
END:VEVENT
END:VCALENDAR