BEGIN:VCALENDAR
VERSION:2.0
PRODID:-//Monlife - ECPv6.15.18//NONSGML v1.0//EN
CALSCALE:GREGORIAN
METHOD:PUBLISH
X-WR-CALNAME:Monlife
X-ORIGINAL-URL:https://www.monlife.co.uk
X-WR-CALDESC:Events for Monlife
REFRESH-INTERVAL;VALUE=DURATION:PT1H
X-Robots-Tag:noindex
X-PUBLISHED-TTL:PT1H
BEGIN:VTIMEZONE
TZID:Europe/London
BEGIN:DAYLIGHT
TZOFFSETFROM:+0000
TZOFFSETTO:+0100
TZNAME:BST
DTSTART:20240331T010000
END:DAYLIGHT
BEGIN:STANDARD
TZOFFSETFROM:+0100
TZOFFSETTO:+0000
TZNAME:GMT
DTSTART:20241027T010000
END:STANDARD
BEGIN:DAYLIGHT
TZOFFSETFROM:+0000
TZOFFSETTO:+0100
TZNAME:BST
DTSTART:20250330T010000
END:DAYLIGHT
BEGIN:STANDARD
TZOFFSETFROM:+0100
TZOFFSETTO:+0000
TZNAME:GMT
DTSTART:20251026T010000
END:STANDARD
BEGIN:DAYLIGHT
TZOFFSETFROM:+0000
TZOFFSETTO:+0100
TZNAME:BST
DTSTART:20260329T010000
END:DAYLIGHT
BEGIN:STANDARD
TZOFFSETFROM:+0100
TZOFFSETTO:+0000
TZNAME:GMT
DTSTART:20261025T010000
END:STANDARD
END:VTIMEZONE
BEGIN:VEVENT
DTSTART;TZID=Europe/London:20251222T083000
DTEND;TZID=Europe/London:20251222T163000
DTSTAMP:20260421T163103
CREATED:20251127T100914Z
LAST-MODIFIED:20251127T100914Z
UID:10007654-1766392200-1766421000@www.monlife.co.uk
SUMMARY:The Monmouthshire Games (TMG)
DESCRIPTION:The Countdown is on till Christmas! Looking for a fun filled action packed day of Christmas sports and activities for your children whilst you work or finish any last-minute shopping?\n\n\nBook your space now for our Christmas TMG at Abergavenny and Monmouth Leisure Centres!\n\n\n\n\nDates: Monday 22nd December & Tuesday 23rd December\nTime: 08:30-4:30pm\nAges: 5-11 years old\nFrom £21 per child\n\n\n\n\nYour little Elves will enjoy a spectacular day – join us in fancy dress or Christmas jumpers. We’ll be playing all your favourite sports and activities but with a magical Christmas twist!\n\n\n\nBook your space now!
URL:https://www.monlife.co.uk/event/the-monmouthshire-games-tmg/2025-12-22/
LOCATION:Abergavenny Leisure Centre\, Old Hereford Road\, Abergavenny\, Monmouthshire\, NP7 6EP\, United Kingdom
CATEGORIES:Easter Holidays,MonLife Active
ATTACH;FMTTYPE=image/png:https://www.monlife.co.uk/wp-content/uploads/2025/11/1-1.png
ORGANIZER;CN="MonLife":MAILTO:-
END:VEVENT
BEGIN:VEVENT
DTSTART;TZID=Europe/London:20251222T103000
DTEND;TZID=Europe/London:20251222T150000
DTSTAMP:20260421T163103
CREATED:20251127T102518Z
LAST-MODIFIED:20251224T132622Z
UID:10007681-1766399400-1766415600@www.monlife.co.uk
SUMMARY:Festive Christmas trail!
DESCRIPTION:Help Santa find his lost Reindeer! \nCome and join our Festive Christmas trail! \nStarting at Chepstow Tourist information Centre \n\n29th November -24th December £3.50 per trail\nAvailable 10:30am-3pm\, Monday -Saturday (Closed 12:30-13:30 for lunch)\n\n*Prizes to be won*
URL:https://www.monlife.co.uk/event/festive-christmas-trail/2025-12-22/
LOCATION:Chepstow Tourist Information Centre\, Castle Car Park\,\, Chepstow\, Monmouthshire\, NP16 5EY\, United Kingdom
CATEGORIES:Easter Holidays,MonLife Heritage
ATTACH;FMTTYPE=image/png:https://www.monlife.co.uk/wp-content/uploads/2025/11/Festive-Trail-.png
ORGANIZER;CN="MonLife":MAILTO:-
END:VEVENT
END:VCALENDAR