BEGIN:VCALENDAR
VERSION:2.0
PRODID:-//Monlife - ECPv6.15.18//NONSGML v1.0//EN
CALSCALE:GREGORIAN
METHOD:PUBLISH
X-WR-CALNAME:Monlife
X-ORIGINAL-URL:https://www.monlife.co.uk
X-WR-CALDESC:Events for Monlife
REFRESH-INTERVAL;VALUE=DURATION:PT1H
X-Robots-Tag:noindex
X-PUBLISHED-TTL:PT1H
BEGIN:VTIMEZONE
TZID:Europe/London
BEGIN:DAYLIGHT
TZOFFSETFROM:+0000
TZOFFSETTO:+0100
TZNAME:BST
DTSTART:20240331T010000
END:DAYLIGHT
BEGIN:STANDARD
TZOFFSETFROM:+0100
TZOFFSETTO:+0000
TZNAME:GMT
DTSTART:20241027T010000
END:STANDARD
BEGIN:DAYLIGHT
TZOFFSETFROM:+0000
TZOFFSETTO:+0100
TZNAME:BST
DTSTART:20250330T010000
END:DAYLIGHT
BEGIN:STANDARD
TZOFFSETFROM:+0100
TZOFFSETTO:+0000
TZNAME:GMT
DTSTART:20251026T010000
END:STANDARD
BEGIN:DAYLIGHT
TZOFFSETFROM:+0000
TZOFFSETTO:+0100
TZNAME:BST
DTSTART:20260329T010000
END:DAYLIGHT
BEGIN:STANDARD
TZOFFSETFROM:+0100
TZOFFSETTO:+0000
TZNAME:GMT
DTSTART:20261025T010000
END:STANDARD
END:VTIMEZONE
BEGIN:VEVENT
DTSTART;VALUE=DATE:20251024
DTEND;VALUE=DATE:20251101
DTSTAMP:20260424T085522
CREATED:20251009T124028Z
LAST-MODIFIED:20251014T130321Z
UID:10007645-1761264000-1761955199@www.monlife.co.uk
SUMMARY:Chepstow Tourist Information Centre Halloween Trail
DESCRIPTION:Start your eerie adventure at Chepstow Tourist Information Centre and follow the trail… if you dare! \nJoin us for a frightfully fun Halloween trail through Chepstow. For just £3.50\, you’ll get a trail sheet to guide you through spooky clues and hidden surprises around town. Complete the trail and you could win a prize! Available to purchase during centre opening times: 10:00am – 12:30am & 1:00pm – 4:00pm \nPerfect for families and little monsters of all ages. \n🕸️ No need to book – just pop into the Tourist Information Centre to begin your spooky quest! \nBrought to you by MonLife and Monmouthshire County Council.
URL:https://www.monlife.co.uk/event/chepstow-tourist-information-centre-halloween-trail/
LOCATION:Chepstow Tourist Information Centre\, Castle Car Park\,\, Chepstow\, Monmouthshire\, NP16 5EY\, United Kingdom
CATEGORIES:May Half Term,MonLife Heritage
ATTACH;FMTTYPE=image/png:https://www.monlife.co.uk/wp-content/uploads/2025/10/tic-halloween-trail.png
ORGANIZER;CN="MonLife":MAILTO:-
END:VEVENT
BEGIN:VEVENT
DTSTART;TZID=Europe/London:20251029T083000
DTEND;TZID=Europe/London:20251029T163000
DTSTAMP:20260424T085522
CREATED:20250930T112110Z
LAST-MODIFIED:20251014T130150Z
UID:10007639-1761726600-1761755400@www.monlife.co.uk
SUMMARY:TMG: The Monmouthshire Games October 2025
DESCRIPTION:The Monmouthshire Games (TMG) is based on learning new skills\, developing confidence\, meeting new people and most importantly\, having fun through sport. With over 30 different sports\, each day will be action-packed with a full range of sporting activities that children and young people aged 5-11 years can enjoy. A maximum of 30 spaces are available per day\, per site. Taking place across Monmouthshire\, join us at one of the following locations: \n\nAbergavenny Leisure Centre\nMonmouth Leisure Centre\nCaldicot Leisure Centre\nChepstow Leisure Centre\n\nDon’t forget\, we offer a 25% discount when you purchase 10 sessions together in advance\, that’s a fantastic saving of £52.50!   \nHow do I book my child onto The Monmouthshire Games?\nYou can book your child onto TMG by registering below: \nThe Monmouthshire Games October 2025
URL:https://www.monlife.co.uk/event/tmg-the-monmouthshire-games-october-2025/2025-10-29/
LOCATION:Abergavenny Leisure Centre\, Old Hereford Road\, Abergavenny\, Monmouthshire\, NP7 6EP\, United Kingdom
CATEGORIES:May Half Term,MonLife Active
ATTACH;FMTTYPE=image/jpeg:https://www.monlife.co.uk/wp-content/uploads/2025/09/FB-Insta-Square_1-80.jpg
ORGANIZER;CN="MonLife":MAILTO:-
END:VEVENT
BEGIN:VEVENT
DTSTART;TZID=Europe/London:20251029T100000
DTEND;TZID=Europe/London:20251029T103000
DTSTAMP:20260424T085522
CREATED:20250930T103848Z
LAST-MODIFIED:20251014T125901Z
UID:10007615-1761732000-1761733800@www.monlife.co.uk
SUMMARY:Halloween Stay and Play October 2025
DESCRIPTION:Our Halloween themed Stay and Play is Back! Permission will be needed for face painting and this can be given on the day. \nPlease note that parental supervision is required for children under the age of 11! \nMagor and Undy Hwb – 29/10/2025 – 10:00am -11.30am \nBulwark Community Centre- 29/10/2025 – 1:00pm – 2:30pm \n  \nBook your place below: \nOnline booking \nPlease be advised that the ‘From £1 per session’ fee displayed on the booking site is a default system setting and does not apply to this activity. You will not be charged. This is a FREE Activity. \nIf you have any queries regarding the play schemes please email play@monmouthshire.gov.uk.
URL:https://www.monlife.co.uk/event/halloween-stay-and-play-october-2025/2025-10-29/1/
LOCATION:Magor and Undy Community Hub (The Hub)\, Main Rd\, Undy\,\, Caldicot\, Monmouthshire\, NP26 3GD
CATEGORIES:Free Activities,May Half Term
ATTACH;FMTTYPE=image/png:https://www.monlife.co.uk/wp-content/uploads/2024/10/Stay-and-Play-06.png
ORGANIZER;CN="MonLife":MAILTO:-
END:VEVENT
BEGIN:VEVENT
DTSTART;TZID=Europe/London:20251029T130000
DTEND;TZID=Europe/London:20251029T143000
DTSTAMP:20260424T085522
CREATED:20250930T103848Z
LAST-MODIFIED:20251014T125901Z
UID:10007616-1761742800-1761748200@www.monlife.co.uk
SUMMARY:Halloween Stay and Play October 2025
DESCRIPTION:Our Halloween themed Stay and Play is Back! Permission will be needed for face painting and this can be given on the day. \nPlease note that parental supervision is required for children under the age of 11! \nMagor and Undy Hwb – 29/10/2025 – 10:00am -11.30am \nBulwark Community Centre- 29/10/2025 – 1:00pm – 2:30pm \n  \nBook your place below: \nOnline booking \nPlease be advised that the ‘From £1 per session’ fee displayed on the booking site is a default system setting and does not apply to this activity. You will not be charged. This is a FREE Activity. \nIf you have any queries regarding the play schemes please email play@monmouthshire.gov.uk.
URL:https://www.monlife.co.uk/event/halloween-stay-and-play-october-2025/2025-10-29/2/
LOCATION:Magor and Undy Community Hub (The Hub)\, Main Rd\, Undy\,\, Caldicot\, Monmouthshire\, NP26 3GD
CATEGORIES:Free Activities,May Half Term
ATTACH;FMTTYPE=image/png:https://www.monlife.co.uk/wp-content/uploads/2024/10/Stay-and-Play-06.png
ORGANIZER;CN="MonLife":MAILTO:-
END:VEVENT
BEGIN:VEVENT
DTSTART;TZID=Europe/London:20251029T140000
DTEND;TZID=Europe/London:20251029T160000
DTSTAMP:20260424T085522
CREATED:20251020T152522Z
LAST-MODIFIED:20251020T152951Z
UID:10007651-1761746400-1761753600@www.monlife.co.uk
SUMMARY:Help us Create the BioTapestry
DESCRIPTION:Usk Community Hub \nCalling all creatives\, beginners or experts and everyone who cares about our amazing environment! \n\nWednesday 29th October \n2-4pm
URL:https://www.monlife.co.uk/event/help-us-create-the-biotapestry-3/
LOCATION:Usk Community Hub\, 35 Maryport St\, Usk\, Monmouthshire\, NP15 1AE\, United Kingdom
CATEGORIES:Free Activities,May Half Term
ATTACH;FMTTYPE=image/jpeg:https://www.monlife.co.uk/wp-content/uploads/2025/10/Usk-BioTap.jpg
ORGANIZER;CN="MonLife":MAILTO:-
END:VEVENT
END:VCALENDAR