BEGIN:VCALENDAR
VERSION:2.0
PRODID:-//Monlife - ECPv6.15.18//NONSGML v1.0//EN
CALSCALE:GREGORIAN
METHOD:PUBLISH
X-ORIGINAL-URL:https://www.monlife.co.uk
X-WR-CALDESC:Events for Monlife
REFRESH-INTERVAL;VALUE=DURATION:PT1H
X-Robots-Tag:noindex
X-PUBLISHED-TTL:PT1H
BEGIN:VTIMEZONE
TZID:Europe/London
BEGIN:DAYLIGHT
TZOFFSETFROM:+0000
TZOFFSETTO:+0100
TZNAME:BST
DTSTART:20240331T010000
END:DAYLIGHT
BEGIN:STANDARD
TZOFFSETFROM:+0100
TZOFFSETTO:+0000
TZNAME:GMT
DTSTART:20241027T010000
END:STANDARD
BEGIN:DAYLIGHT
TZOFFSETFROM:+0000
TZOFFSETTO:+0100
TZNAME:BST
DTSTART:20250330T010000
END:DAYLIGHT
BEGIN:STANDARD
TZOFFSETFROM:+0100
TZOFFSETTO:+0000
TZNAME:GMT
DTSTART:20251026T010000
END:STANDARD
BEGIN:DAYLIGHT
TZOFFSETFROM:+0000
TZOFFSETTO:+0100
TZNAME:BST
DTSTART:20260329T010000
END:DAYLIGHT
BEGIN:STANDARD
TZOFFSETFROM:+0100
TZOFFSETTO:+0000
TZNAME:GMT
DTSTART:20261025T010000
END:STANDARD
END:VTIMEZONE
BEGIN:VEVENT
DTSTART;TZID=Europe/London:20250827T100000
DTEND;TZID=Europe/London:20250827T123000
DTSTAMP:20260424T135707
CREATED:20250715T150845Z
LAST-MODIFIED:20250715T151202Z
UID:10007342-1756288800-1756297800@www.monlife.co.uk
SUMMARY:Old Station Tintern Summer Activities
DESCRIPTION:Come and discover\, create and get back to nature on one of our nature-based activity sessions taking place at Old Station Tintern most Wednesday’s over the Summer Holidays (excluding Wednesday 13th August). \nBook your tickets here \nWednesday 23rd July – Fingers story time and fun (10.00am – 11.00am or 11.30am – 12.30pm) \nJoin us for a hands-on session at Old Station Tintern which starts with a delightful story time inspired by nature. Then it’s time to get messy planting seeds and creating artwork and colourful plant labels. Each child will take home their planted seeds ready to watch them grow and flourish. \nWednesday 30th July – Butterfly story time and creative fun (10.00am – 11.00am or 11.30am – 12.30pm) \nLet your imagination take flight and join us for a flutter-filled session at Old Station Tintern. Young children can dive into the world of butterflies though stories and hands-on creativity. Reveal the bright colours of a butterfly shape\, create your own dazzling butterfly with paint and make a bright and beautiful collage. \nWednesday 6th August – Little explorers’ nature trail (10.00am – 11.00am or 11.30am – 12.30pm) \nCalling all curious kids! Join us at Old Station Tintern for stories\, craft and a chance to explore\, learn and make wild memories on an outdoor nature trail. We will lend children explorer equipment\, a hat and jacket for the session to walk around our beautiful site together hunting for bugs\, spotting birds\, beasties and beautiful plants. \nWednesday 20th August – All aboard the imagination train (10.00am – 11.00am or 11.30am – 12.30pm) \nStep into the world of trains and travel at Old Station Tintern with stories and a hands-on activity session of making and messy creativity. Build your own colourful train collage\, use toy trains dipped in paints to roll out tracks and patterns\, and decorate a hot-air balloon collage and let your imagination fly away with you. \nWednesay 27th August – Messy and magical willow lanterns (10.00am – 11.00am or 11.30am – 12.30pm) \n(Booked separately as slightly more expensive. Click here to book.) \nJoin us at Old Station Tintern for stories inspired by nature with a craft activity for kids. Get ready to roll-up your sleeves and unleash you little one’s creative spirit in a joyfully creative rustic art session making and decorating your own willow lanterns with tealights and listening to stories. \nEvent details : \nDates – Wednesdays on the 23rd July\, 30th July\, 6th August\, 20th August and 27th August. \nTimes – 10.00am – 11.00am or 11.30am – 12.30pm. Each session will last around 1 hour. \nCost – £3.50 per child (except the Willow event which is £4). Each booking for one child. Adults do not need to book. \nAges – Suitable from ages 3 – 7. \nWhere to go – Craft activities will be under the stretch tent next to the overflow car park. \nTerms & Conditions \nFor ages 3 – 7. \nOne adult required for every two children (adults do not need to book) \nThe session will be supervised by one Old Station Tintern staff member \nMaximum group size 10 children \nPre-booking required \nNo refunds available
URL:https://www.monlife.co.uk/event/old-station-tintern-summer-activities/2025-08-27/
LOCATION:Old Station Tintern\, Tintern Heights\, Catbrook\, Brockweir\,\, Chepstow\, Monmouthshire\, NP16 7NX\, United Kingdom
CATEGORIES:May Half Term,MonLife Heritage
ATTACH;FMTTYPE=image/jpeg:https://www.monlife.co.uk/wp-content/uploads/2025/07/Untitled-design-22.jpg
ORGANIZER;CN="MonLife":MAILTO:-
END:VEVENT
END:VCALENDAR