BEGIN:VCALENDAR
VERSION:2.0
PRODID:-//Monlife - ECPv6.15.18//NONSGML v1.0//EN
CALSCALE:GREGORIAN
METHOD:PUBLISH
X-WR-CALNAME:Monlife
X-ORIGINAL-URL:https://www.monlife.co.uk
X-WR-CALDESC:Events for Monlife
REFRESH-INTERVAL;VALUE=DURATION:PT1H
X-Robots-Tag:noindex
X-PUBLISHED-TTL:PT1H
BEGIN:VTIMEZONE
TZID:Europe/London
BEGIN:DAYLIGHT
TZOFFSETFROM:+0000
TZOFFSETTO:+0100
TZNAME:BST
DTSTART:20240331T010000
END:DAYLIGHT
BEGIN:STANDARD
TZOFFSETFROM:+0100
TZOFFSETTO:+0000
TZNAME:GMT
DTSTART:20241027T010000
END:STANDARD
BEGIN:DAYLIGHT
TZOFFSETFROM:+0000
TZOFFSETTO:+0100
TZNAME:BST
DTSTART:20250330T010000
END:DAYLIGHT
BEGIN:STANDARD
TZOFFSETFROM:+0100
TZOFFSETTO:+0000
TZNAME:GMT
DTSTART:20251026T010000
END:STANDARD
BEGIN:DAYLIGHT
TZOFFSETFROM:+0000
TZOFFSETTO:+0100
TZNAME:BST
DTSTART:20260329T010000
END:DAYLIGHT
BEGIN:STANDARD
TZOFFSETFROM:+0100
TZOFFSETTO:+0000
TZNAME:GMT
DTSTART:20261025T010000
END:STANDARD
END:VTIMEZONE
BEGIN:VEVENT
DTSTART;TZID=Europe/London:20250721T083000
DTEND;TZID=Europe/London:20250822T163000
DTSTAMP:20260424T035640
CREATED:20240607T154100Z
LAST-MODIFIED:20250626T100714Z
UID:10003443-1753086600-1755880200@www.monlife.co.uk
SUMMARY:Summer TMG: The Monmouthshire Games 2025
DESCRIPTION:Offering a playful platform for learning new skills\, fostering confidence\, expanding social circles\, and\, above all\, relishing the thrill of sports\, TMG is the ultimate playground for children and young people aged 5-11 years during the school holidays. With a maximum of 30 spaces available per day at each site\, TMG ensures personalised attention and fosters a supportive environment for every participant to flourish. \nTaking place across Monmouthshire\, join us at one of the following locations: \n\nAbergavenny\,  Our Lady and St Michael’s Primary School\nMonmouth Leisure Centre\nCaldicot Leisure Centre\nChepstow Leisure Centre\n\n*TMG runs Monday to Friday\, 8:30-4:30pm* \nHow do I book my child onto The Monmouthshire Games?\nYou can book your child onto TMG by registering below: \nThe Monmouthshire Games Summer 2025
URL:https://www.monlife.co.uk/event/summer-tmg-the-monmouthshire-games-2025/
CATEGORIES:May Half Term,MonLife Active
ATTACH;FMTTYPE=image/png:https://www.monlife.co.uk/wp-content/uploads/2024/06/Artboard-7-Summer-TMG.png
ORGANIZER;CN="MonLife":MAILTO:-
END:VEVENT
BEGIN:VEVENT
DTSTART;TZID=Europe/London:20250730T093000
DTEND;TZID=Europe/London:20250730T133000
DTSTAMP:20260424T035640
CREATED:20250624T160206Z
LAST-MODIFIED:20250624T160206Z
UID:10007334-1753867800-1753882200@www.monlife.co.uk
SUMMARY:Dragons Rugby Camps
DESCRIPTION:Dragon Rugby camps are FREE sessions for children aged 5-11 to attend. During the sessions there will be a variety of rugby games\, skills and activities to take part in. Children attending the session will be provided with breakfast and lunch as part of the day’s activities. \nJoin us on: 30th July\, 6th August\, 13th August\, 20th August\n⏰9:30am – 1:30pm \n📌Thornwell Primary school (only 20 spaces per day)\n📌Monmouth Comprehensive school (only 20 spaces per day)\n📌Our Lady’s and St Michaels Primary School (only 20 spaces per day)\n📌Caldicot Comprehensive school (only 20 spaces per day) \nClick HERE and select ‘Join waiting list’ and you will then be contacted to confirm your space. \nPlease be advised that the ‘From £1 per session’ fee displayed on the booking site is a default system setting and does not apply to this activity. You will not be charged. This is a FREE Activity. \nIf you would like any further information\, feel free to contact us at play@monmouthshire.gov.uk\, we will be more than happy to help!
URL:https://www.monlife.co.uk/event/dragons-rugby-camps/2025-07-30/
CATEGORIES:Free Activities,May Half Term
ATTACH;FMTTYPE=image/png:https://www.monlife.co.uk/wp-content/uploads/2025/06/Artboard-2-Rugby-Camps.png
ORGANIZER;CN="MonLife":MAILTO:-
END:VEVENT
BEGIN:VEVENT
DTSTART;TZID=Europe/London:20250730T100000
DTEND;TZID=Europe/London:20250730T123000
DTSTAMP:20260424T035640
CREATED:20250715T150845Z
LAST-MODIFIED:20250715T151202Z
UID:10007339-1753869600-1753878600@www.monlife.co.uk
SUMMARY:Old Station Tintern Summer Activities
DESCRIPTION:Come and discover\, create and get back to nature on one of our nature-based activity sessions taking place at Old Station Tintern most Wednesday’s over the Summer Holidays (excluding Wednesday 13th August). \nBook your tickets here \nWednesday 23rd July – Fingers story time and fun (10.00am – 11.00am or 11.30am – 12.30pm) \nJoin us for a hands-on session at Old Station Tintern which starts with a delightful story time inspired by nature. Then it’s time to get messy planting seeds and creating artwork and colourful plant labels. Each child will take home their planted seeds ready to watch them grow and flourish. \nWednesday 30th July – Butterfly story time and creative fun (10.00am – 11.00am or 11.30am – 12.30pm) \nLet your imagination take flight and join us for a flutter-filled session at Old Station Tintern. Young children can dive into the world of butterflies though stories and hands-on creativity. Reveal the bright colours of a butterfly shape\, create your own dazzling butterfly with paint and make a bright and beautiful collage. \nWednesday 6th August – Little explorers’ nature trail (10.00am – 11.00am or 11.30am – 12.30pm) \nCalling all curious kids! Join us at Old Station Tintern for stories\, craft and a chance to explore\, learn and make wild memories on an outdoor nature trail. We will lend children explorer equipment\, a hat and jacket for the session to walk around our beautiful site together hunting for bugs\, spotting birds\, beasties and beautiful plants. \nWednesday 20th August – All aboard the imagination train (10.00am – 11.00am or 11.30am – 12.30pm) \nStep into the world of trains and travel at Old Station Tintern with stories and a hands-on activity session of making and messy creativity. Build your own colourful train collage\, use toy trains dipped in paints to roll out tracks and patterns\, and decorate a hot-air balloon collage and let your imagination fly away with you. \nWednesay 27th August – Messy and magical willow lanterns (10.00am – 11.00am or 11.30am – 12.30pm) \n(Booked separately as slightly more expensive. Click here to book.) \nJoin us at Old Station Tintern for stories inspired by nature with a craft activity for kids. Get ready to roll-up your sleeves and unleash you little one’s creative spirit in a joyfully creative rustic art session making and decorating your own willow lanterns with tealights and listening to stories. \nEvent details : \nDates – Wednesdays on the 23rd July\, 30th July\, 6th August\, 20th August and 27th August. \nTimes – 10.00am – 11.00am or 11.30am – 12.30pm. Each session will last around 1 hour. \nCost – £3.50 per child (except the Willow event which is £4). Each booking for one child. Adults do not need to book. \nAges – Suitable from ages 3 – 7. \nWhere to go – Craft activities will be under the stretch tent next to the overflow car park. \nTerms & Conditions \nFor ages 3 – 7. \nOne adult required for every two children (adults do not need to book) \nThe session will be supervised by one Old Station Tintern staff member \nMaximum group size 10 children \nPre-booking required \nNo refunds available
URL:https://www.monlife.co.uk/event/old-station-tintern-summer-activities/2025-07-30/
LOCATION:Old Station Tintern\, Tintern Heights\, Catbrook\, Brockweir\,\, Chepstow\, Monmouthshire\, NP16 7NX\, United Kingdom
CATEGORIES:May Half Term,MonLife Heritage
ATTACH;FMTTYPE=image/jpeg:https://www.monlife.co.uk/wp-content/uploads/2025/07/Untitled-design-22.jpg
ORGANIZER;CN="MonLife":MAILTO:-
END:VEVENT
BEGIN:VEVENT
DTSTART;TZID=Europe/London:20250730T100000
DTEND;TZID=Europe/London:20250730T150000
DTSTAMP:20260424T035640
CREATED:20250609T141917Z
LAST-MODIFIED:20250609T152328Z
UID:10007314-1753869600-1753887600@www.monlife.co.uk
SUMMARY:Youth Summer School - Borough Theatre\, Abergavenny
DESCRIPTION:Held in the Borough auditorium\, this is a summer school for 11 – 16 year old’s who want to create their own work & learn the art of stagecraft in a professional theatre. A fun and engaging week for all young people interested in telling their stories\, shaping a performance\, and spending time being creative. \n🗓️ 28 July – 1 August | 🕙 10am – 3pm\n📍 Borough Auditorium\, Abergavenny\n💷 £150 (Bursaries available) \nBursary info: katherinemcdermidsmith@monmouthshire.gov.uk \nA fun\, hands-on week for young people to: \n✨ Create their own work\n🎬 Learn stagecraft in a professional theatre\n🎤 Tell their stories and shape a performance \nSign up now!
URL:https://www.monlife.co.uk/event/youth-summer-school-borough-theatre-abergavenny/2025-07-30/
LOCATION:Borough Theatre\, Abergavenny\, Town Hall\, Cross St\, Abergavenny\, Monmouthshire\, NP7 5HD\, United Kingdom
CATEGORIES:May Half Term,MonLife Heritage
ATTACH;FMTTYPE=image/png:https://www.monlife.co.uk/wp-content/uploads/2025/06/Slide-1.png
ORGANIZER;CN="MonLife":MAILTO:-
END:VEVENT
BEGIN:VEVENT
DTSTART;TZID=Europe/London:20250730T100000
DTEND;TZID=Europe/London:20250730T233000
DTSTAMP:20260424T035640
CREATED:20250624T154545Z
LAST-MODIFIED:20250624T154545Z
UID:10007322-1753869600-1753918200@www.monlife.co.uk
SUMMARY:Stay and Play - Summer Half Term 2025
DESCRIPTION:MonLife will be holding free stay and play sessions during the Summer Holidays! 🎉 \nChildren and families will have the opportunity to freely choose from lots of activities including physical play\, arts and crafts\, den building or wherever their imagination takes them – Please note that parental supervision is required for children under the age of 11! \nJoin us at:\n📌Magor and Undy Hub ; 30th July\, 6th August\, 13th August\, 20th August\, 10:00– 11:30am\n📌Bulwark Community Centre – 30th July\, 6th August\, 13th August\, 20th August\, 1:00-2:30pm \nClick HERE and select ‘Join waiting list’ and you will then be contacted to confirm your space! \nPlease be advised that the ‘From £1 per session’ fee displayed on the booking site is a default system setting and does not apply to this activity. You will not be charged. This is a FREE Activity.
URL:https://www.monlife.co.uk/event/stay-and-play-summer-half-term-2025/2025-07-30/1/
LOCATION:Magor and Undy Community Hall\, Main Road\, Undy\, Caldicot\, NP233GD
CATEGORIES:Free Activities,May Half Term
ATTACH;FMTTYPE=image/png:https://www.monlife.co.uk/wp-content/uploads/2025/06/SP-Square.png
ORGANIZER;CN="MonLife":MAILTO:-
END:VEVENT
BEGIN:VEVENT
DTSTART;TZID=Europe/London:20250730T130000
DTEND;TZID=Europe/London:20250730T143000
DTSTAMP:20260424T035640
CREATED:20250624T154545Z
LAST-MODIFIED:20250624T154545Z
UID:10007323-1753880400-1753885800@www.monlife.co.uk
SUMMARY:Stay and Play - Summer Half Term 2025
DESCRIPTION:MonLife will be holding free stay and play sessions during the Summer Holidays! 🎉 \nChildren and families will have the opportunity to freely choose from lots of activities including physical play\, arts and crafts\, den building or wherever their imagination takes them – Please note that parental supervision is required for children under the age of 11! \nJoin us at:\n📌Magor and Undy Hub ; 30th July\, 6th August\, 13th August\, 20th August\, 10:00– 11:30am\n📌Bulwark Community Centre – 30th July\, 6th August\, 13th August\, 20th August\, 1:00-2:30pm \nClick HERE and select ‘Join waiting list’ and you will then be contacted to confirm your space! \nPlease be advised that the ‘From £1 per session’ fee displayed on the booking site is a default system setting and does not apply to this activity. You will not be charged. This is a FREE Activity.
URL:https://www.monlife.co.uk/event/stay-and-play-summer-half-term-2025/2025-07-30/2/
LOCATION:Magor and Undy Community Hall\, Main Road\, Undy\, Caldicot\, NP233GD
CATEGORIES:Free Activities,May Half Term
ATTACH;FMTTYPE=image/png:https://www.monlife.co.uk/wp-content/uploads/2025/06/SP-Square.png
ORGANIZER;CN="MonLife":MAILTO:-
END:VEVENT
BEGIN:VEVENT
DTSTART;TZID=Europe/London:20250730T140000
DTEND;TZID=Europe/London:20250730T150000
DTSTAMP:20260424T035641
CREATED:20250722T103418Z
LAST-MODIFIED:20250722T103418Z
UID:10007482-1753884000-1753887600@www.monlife.co.uk
SUMMARY:Creativity Garden Session
DESCRIPTION:Summer Reading Challenge \nLet’s get creative at the Garden Workshop! Create your very own flower garden with easy-to-put-together pieces. Let’s build something beautiful together! \nClick here to book –\nWednesday 30th July\nWednesday 13th August \nSuitable for ages 3 – 5 \nAll children must be accompanied by an adult.
URL:https://www.monlife.co.uk/event/creativity-garden-session-2/2025-07-30/
LOCATION:Caldicot Community Hub\, Woodstock Way\, Caldicot\, Monmouthshire\, NP26 5DB\, United Kingdom
CATEGORIES:Free Activities,May Half Term,MonLife Heritage
ATTACH;FMTTYPE=image/png:https://www.monlife.co.uk/wp-content/uploads/2025/07/SRC-events-CDT-4-1.png
END:VEVENT
END:VCALENDAR