BEGIN:VCALENDAR
VERSION:2.0
PRODID:-//Monlife - ECPv6.15.18//NONSGML v1.0//EN
CALSCALE:GREGORIAN
METHOD:PUBLISH
X-WR-CALNAME:Monlife
X-ORIGINAL-URL:https://www.monlife.co.uk
X-WR-CALDESC:Events for Monlife
REFRESH-INTERVAL;VALUE=DURATION:PT1H
X-Robots-Tag:noindex
X-PUBLISHED-TTL:PT1H
BEGIN:VTIMEZONE
TZID:Europe/London
BEGIN:DAYLIGHT
TZOFFSETFROM:+0000
TZOFFSETTO:+0100
TZNAME:BST
DTSTART:20240331T010000
END:DAYLIGHT
BEGIN:STANDARD
TZOFFSETFROM:+0100
TZOFFSETTO:+0000
TZNAME:GMT
DTSTART:20241027T010000
END:STANDARD
BEGIN:DAYLIGHT
TZOFFSETFROM:+0000
TZOFFSETTO:+0100
TZNAME:BST
DTSTART:20250330T010000
END:DAYLIGHT
BEGIN:STANDARD
TZOFFSETFROM:+0100
TZOFFSETTO:+0000
TZNAME:GMT
DTSTART:20251026T010000
END:STANDARD
BEGIN:DAYLIGHT
TZOFFSETFROM:+0000
TZOFFSETTO:+0100
TZNAME:BST
DTSTART:20260329T010000
END:DAYLIGHT
BEGIN:STANDARD
TZOFFSETFROM:+0100
TZOFFSETTO:+0000
TZNAME:GMT
DTSTART:20261025T010000
END:STANDARD
END:VTIMEZONE
BEGIN:VEVENT
DTSTART;TZID=Europe/London:20250727T183000
DTEND;TZID=Europe/London:20250727T211500
DTSTAMP:20260421T220421
CREATED:20250304T114044Z
LAST-MODIFIED:20250610T162927Z
UID:10006178-1753641000-1753650900@www.monlife.co.uk
SUMMARY:Harry Potter and the Philosopher’s Stone (PG)
DESCRIPTION:The UK’s No.1 outdoor cinema shows come to Caldicot Castle. \nPack a picnic and get ready for an experience like no other. *Tickets will sell quickly! \nHarry Potter and the Philosopher’s Stone (PG)\nSunday 27 July\nGates: 5:00PM / Show: 6:30PM \nExpecto Patronum! \nLet us take you into the wizarding world of Harry Potter as we bring you the first instalment of boy wizard’s adventures at Hogwarts School of Witchcraft and Wizardry. A magical outdoor movie experience for all ages. \nStandard Ticket: £26.33+£2.83 Fee : Bring your own blanket or camping chair. \nPremium Ticket: £34.17+£3.67 Fee: Includes luxury deck chair in a prime position. \nStandard Ticket – Under 12s: £10.65incl. £1.15 Fee : Bring your own blanket or camping chair. All children must be accompanied by an adult. \nSales end on 25 Jul 2025 \nTickets!\n 
URL:https://www.monlife.co.uk/event/harry-potter-and-the-philosophers-stone-pg/
LOCATION:Caldicot Castle & Country Park\, Church Rd\,\, Caldicot\, Monmouthshire\, NP26 4HU\, United Kingdom
CATEGORIES:Easter Holidays,MonLife Heritage
ATTACH;FMTTYPE=image/png:https://www.monlife.co.uk/wp-content/uploads/2025/03/2.png
ORGANIZER;CN="MonLife":MAILTO:-
END:VEVENT
END:VCALENDAR