BEGIN:VCALENDAR
VERSION:2.0
PRODID:-//Monlife - ECPv6.15.18//NONSGML v1.0//EN
CALSCALE:GREGORIAN
METHOD:PUBLISH
X-ORIGINAL-URL:https://www.monlife.co.uk
X-WR-CALDESC:Events for Monlife
REFRESH-INTERVAL;VALUE=DURATION:PT1H
X-Robots-Tag:noindex
X-PUBLISHED-TTL:PT1H
BEGIN:VTIMEZONE
TZID:Europe/London
BEGIN:DAYLIGHT
TZOFFSETFROM:+0000
TZOFFSETTO:+0100
TZNAME:BST
DTSTART:20240331T010000
END:DAYLIGHT
BEGIN:STANDARD
TZOFFSETFROM:+0100
TZOFFSETTO:+0000
TZNAME:GMT
DTSTART:20241027T010000
END:STANDARD
BEGIN:DAYLIGHT
TZOFFSETFROM:+0000
TZOFFSETTO:+0100
TZNAME:BST
DTSTART:20250330T010000
END:DAYLIGHT
BEGIN:STANDARD
TZOFFSETFROM:+0100
TZOFFSETTO:+0000
TZNAME:GMT
DTSTART:20251026T010000
END:STANDARD
BEGIN:DAYLIGHT
TZOFFSETFROM:+0000
TZOFFSETTO:+0100
TZNAME:BST
DTSTART:20260329T010000
END:DAYLIGHT
BEGIN:STANDARD
TZOFFSETFROM:+0100
TZOFFSETTO:+0000
TZNAME:GMT
DTSTART:20261025T010000
END:STANDARD
END:VTIMEZONE
BEGIN:VEVENT
DTSTART;TZID=Europe/London:20250726T183000
DTEND;TZID=Europe/London:20250726T224500
DTSTAMP:20260421T184522
CREATED:20250304T113247Z
LAST-MODIFIED:20250610T163128Z
UID:10006176-1753554600-1753569900@www.monlife.co.uk
SUMMARY:Mamma Mia! Outdoor Cinema ExtrABBAganza
DESCRIPTION:The UK’s No.1 outdoor cinema shows come to Caldicot Castle. \nPack a picnic and get ready for an experience like no other. *Tickets will sell quickly! \nMamma Mia! Outdoor Cinema ExtrABBAganza\nSaturday 26 July\nGates: 5:00PM / Show: 6:30PM \nThe ultimate ABBA experience! \nAn all singing\, all dancing ABBA day where you’ll watch Mamma Mia! and Mamma Mia Here We Go Again on a HUGE open-air screen and singalong with ABBA’s greatest hits! \nPlus ABBA disco before the movies\, Street Food\, Bar\, Fancy dress and more! \nStandard Ticket: £26.33+£2.83 Fee : Bring your own blanket or camping chair. \nPremium Ticket: £34.17+£3.67 Fee: Includes luxury deck chair in a prime position. \nSales end on 25 Jul 2025 \nTickets!
URL:https://www.monlife.co.uk/event/mamma-mia-outdoor-cinema-extrabbaganza/
LOCATION:Caldicot Castle & Country Park\, Church Rd\,\, Caldicot\, Monmouthshire\, NP26 4HU\, United Kingdom
CATEGORIES:Easter Holidays,MonLife Heritage
ATTACH;FMTTYPE=image/png:https://www.monlife.co.uk/wp-content/uploads/2025/03/1.png
ORGANIZER;CN="MonLife":MAILTO:-
END:VEVENT
END:VCALENDAR