BEGIN:VCALENDAR
VERSION:2.0
PRODID:-//Monlife - ECPv6.15.18//NONSGML v1.0//EN
CALSCALE:GREGORIAN
METHOD:PUBLISH
X-WR-CALNAME:Monlife
X-ORIGINAL-URL:https://www.monlife.co.uk
X-WR-CALDESC:Events for Monlife
REFRESH-INTERVAL;VALUE=DURATION:PT1H
X-Robots-Tag:noindex
X-PUBLISHED-TTL:PT1H
BEGIN:VTIMEZONE
TZID:Europe/London
BEGIN:DAYLIGHT
TZOFFSETFROM:+0000
TZOFFSETTO:+0100
TZNAME:BST
DTSTART:20240331T010000
END:DAYLIGHT
BEGIN:STANDARD
TZOFFSETFROM:+0100
TZOFFSETTO:+0000
TZNAME:GMT
DTSTART:20241027T010000
END:STANDARD
BEGIN:DAYLIGHT
TZOFFSETFROM:+0000
TZOFFSETTO:+0100
TZNAME:BST
DTSTART:20250330T010000
END:DAYLIGHT
BEGIN:STANDARD
TZOFFSETFROM:+0100
TZOFFSETTO:+0000
TZNAME:GMT
DTSTART:20251026T010000
END:STANDARD
BEGIN:DAYLIGHT
TZOFFSETFROM:+0000
TZOFFSETTO:+0100
TZNAME:BST
DTSTART:20260329T010000
END:DAYLIGHT
BEGIN:STANDARD
TZOFFSETFROM:+0100
TZOFFSETTO:+0000
TZNAME:GMT
DTSTART:20261025T010000
END:STANDARD
END:VTIMEZONE
BEGIN:VEVENT
DTSTART;VALUE=DATE:20250530
DTEND;VALUE=DATE:20250602
DTSTAMP:20260420T200509
CREATED:20231027T101629Z
LAST-MODIFIED:20250911T141805Z
UID:10000403-1748563200-1748822399@www.monlife.co.uk
SUMMARY:FREE Swim
DESCRIPTION:Under-16’s can also enjoy a free swim at your local MonLife Active Leisure centre during the following times: \n\nChepstow Leisure Centre:Fridays from 6:00pm – 7:00pm\nAbergavenny Leisure Centre:  Fridays between 8.00pm – 9:00pm\nMonmouth Leisure Centre: Saturdays between 3:00pm – 4:15pm  (Free to 16’s & under with a MonLife card)\nCaldicot Leisure Centre: Saturdays between 11.30am – 12.45pm\n\nFind out more: https://www.monlife.co.uk/monactive/swimming/
URL:https://www.monlife.co.uk/event/monmouth-free-swimming-session-2/2025-05-30/
LOCATION:Caldicot Leisure Centre\, Mill Lane\, Caldicot\, Monmouthshire\, NP26 4BN\, United Kingdom
CATEGORIES:Free Activities
ATTACH;FMTTYPE=image/png:https://www.monlife.co.uk/wp-content/uploads/2023/10/Untitled-design-9.png
ORGANIZER;CN="MonLife":MAILTO:-
END:VEVENT
BEGIN:VEVENT
DTSTART;TZID=Europe/London:20250530T083000
DTEND;TZID=Europe/London:20250530T163000
DTSTAMP:20260420T200509
CREATED:20240229T112206Z
LAST-MODIFIED:20250506T125924Z
UID:10007262-1748593800-1748622600@www.monlife.co.uk
SUMMARY:TMG: The Monmouthshire Games
DESCRIPTION:Offering a playful platform for learning new skills\, fostering confidence\, expanding social circles\, and\, above all\, relishing the thrill of sports\, TMG is the ultimate playground for children and young people aged 5-11 years during the school holidays. With a maximum of 30 spaces available per day at each site\, TMG ensures personalised attention and fosters a supportive environment for every participant to flourish. \nTaking place across Monmouthshire\, join us at one of the following locations: \n\nAbergavenny Leisure Centre\nMonmouth Leisure Centre\nCaldicot Leisure Centre\nChepstow Leisure Centre\n\nHow do I book my child onto The Monmouthshire Games?\nYou can book your child onto TMG by registering below: \nThe Monmouthshire Games May 2025
URL:https://www.monlife.co.uk/event/tmg-the-monmouthshire-games/2025-05-30/
LOCATION:Abergavenny Leisure Centre\, Old Hereford Road\, Abergavenny\, Monmouthshire\, NP7 6EP\, United Kingdom
CATEGORIES:Easter Holidays,MonLife Active
ATTACH;FMTTYPE=image/png:https://www.monlife.co.uk/wp-content/uploads/2024/02/FB-Insta-Square_1May-2025.png
ORGANIZER;CN="MonLife":MAILTO:-
END:VEVENT
BEGIN:VEVENT
DTSTART;TZID=Europe/London:20250530T093000
DTEND;TZID=Europe/London:20250530T101500
DTSTAMP:20260420T200509
CREATED:20250523T091509Z
LAST-MODIFIED:20250523T091509Z
UID:10007292-1748597400-1748600100@www.monlife.co.uk
SUMMARY:Water Safety Session - Caldicot Leisure Centre
DESCRIPTION:Powered by Swim Wales\, our water safety classes equip children with essential self-rescue skills and vital water safety knowledge in a controlled swimming pool environment. Designed for ages 7-11\, these sessions focus on practical learning while building confidence in and around water. Participants will explore the causes and risks of drowning in the UK\, practice fundamental self-rescue techniques\, and learn key water safety principles. The program also introduces the concept of transitioning from indoor to outdoor swimming environments\, ensuring children are better prepared for real-world water situations.\n\n\n\n\nAges 7-11\n30/05/25\n9:30-10:15am\n\nFREE LESSON\n\n\n\nBook your space now!
URL:https://www.monlife.co.uk/event/water-safety-session-caldicot-leisure-centre/
LOCATION:Caldicot Leisure Centre\, Mill Lane\, Caldicot\, Monmouthshire\, NP26 4BN\, United Kingdom
CATEGORIES:Easter Holidays,Free Activities,MonLife Active
ATTACH;FMTTYPE=image/png:https://www.monlife.co.uk/wp-content/uploads/2025/01/Artboard-2_1.png
ORGANIZER;CN="MonLife":MAILTO:-
END:VEVENT
END:VCALENDAR