BEGIN:VCALENDAR
VERSION:2.0
PRODID:-//Monlife - ECPv6.15.18//NONSGML v1.0//EN
CALSCALE:GREGORIAN
METHOD:PUBLISH
X-WR-CALNAME:Monlife
X-ORIGINAL-URL:https://www.monlife.co.uk
X-WR-CALDESC:Events for Monlife
REFRESH-INTERVAL;VALUE=DURATION:PT1H
X-Robots-Tag:noindex
X-PUBLISHED-TTL:PT1H
BEGIN:VTIMEZONE
TZID:Europe/London
BEGIN:DAYLIGHT
TZOFFSETFROM:+0000
TZOFFSETTO:+0100
TZNAME:BST
DTSTART:20230326T010000
END:DAYLIGHT
BEGIN:STANDARD
TZOFFSETFROM:+0100
TZOFFSETTO:+0000
TZNAME:GMT
DTSTART:20231029T010000
END:STANDARD
BEGIN:DAYLIGHT
TZOFFSETFROM:+0000
TZOFFSETTO:+0100
TZNAME:BST
DTSTART:20240331T010000
END:DAYLIGHT
BEGIN:STANDARD
TZOFFSETFROM:+0100
TZOFFSETTO:+0000
TZNAME:GMT
DTSTART:20241027T010000
END:STANDARD
BEGIN:DAYLIGHT
TZOFFSETFROM:+0000
TZOFFSETTO:+0100
TZNAME:BST
DTSTART:20250330T010000
END:DAYLIGHT
BEGIN:STANDARD
TZOFFSETFROM:+0100
TZOFFSETTO:+0000
TZNAME:GMT
DTSTART:20251026T010000
END:STANDARD
END:VTIMEZONE
BEGIN:VEVENT
DTSTART;TZID=Europe/London:20241014T140000
DTEND;TZID=Europe/London:20241014T160000
DTSTAMP:20260423T223050
CREATED:20240919T135437Z
LAST-MODIFIED:20240919T143047Z
UID:10003675-1728914400-1728921600@www.monlife.co.uk
SUMMARY:Art History In Person - Facing the Past : The Art of Portraiture
DESCRIPTION:Join MonLife Heritage Museums’ exciting new art history course. From van Eyck to van Dyck\, Raphael to Reynolds and Pissarro to Picasso\, explore how artists’ portrayal of their sitters reflected the art\, politics and religion of their era. \nCourse Length – 10 weeks of two hour afternoon lectures (one week off on Monday 11th November)\nCourse Dates – Monday 30th September – Monday 9th December (no class Monday 11th November)\nTime – 2:00pm – 4:00pm\nMedium – In person at the Drill Hall Chepstow (with the option to catch up on any missed session with recorded online lectures available for a limited period). Click here to book the online version of this course. \nCourse fee – £110 \n\n\n(Recordings of the online lecture course will be available to members of this course\, so that any lectures missed can be caught within 4 weeks\, on Zoom) \nThis series of ten lectures takes us through the history of portraiture. From the time when it became popular in the 15th century\, portraiture began to emerge from providing a mere adjunct to religious paintings to become a means to demonstrate power and status. The desire to show individual character and bring sitters to life developed alongside the portrayal of a simple likeness\, until we reach the 19th century when style and exploration of new ways of painting meant the sitter’s identity became increasingly subordinate to the process of making art\, until we arrive at the challenge of Modernism. \n‘Facing the Past’ is also a chance to look into the eyes of people from other times – were they so different from us? \n\nTerms & Conditions\nBooking is only available online\, via this page. The booking must be made 24 hours before the first session starts. The booking covers all ten sessions. \nBy signing up to this talk you agree that your email address can be passed on to the lecturer (Eleanor Bird) for contact and session-related reasons (eg. to send out relevant course details).
URL:https://www.monlife.co.uk/event/art-history-in-person-facing-the-past-the-art-of-portraiture/2024-10-14/
LOCATION:The Drill Hall\, The Drill Hall\, Lower Church Street\, Chepstow\, Monmouthshire\, NP16 5HJ\, United Kingdom
CATEGORIES:MonLife Heritage
ATTACH;FMTTYPE=image/jpeg:https://www.monlife.co.uk/wp-content/uploads/2024/09/Holbein-Anne-of-Cleves-1539-web-e1726754055777.jpg
ORGANIZER;CN="MonLife":MAILTO:-
END:VEVENT
BEGIN:VEVENT
DTSTART;TZID=Europe/London:20241014T190000
DTEND;TZID=Europe/London:20241014T200000
DTSTAMP:20260423T223050
CREATED:20240919T143703Z
LAST-MODIFIED:20240919T143703Z
UID:10003737-1728932400-1728936000@www.monlife.co.uk
SUMMARY:Introduction to Art: The Late 19th Century into Modernism
DESCRIPTION:This broad ranging and absorbing course needs no background in art history\, just a desire to look harder at art and understand its developments more clearly. This series of ten evening lectures takes us from 1880 and Post Impressionism through some of the first movements in Modernism. \nCourse Length – 10 weeks of one hour evening lectures (one week off for half term)\nCourse Dates – Monday 30th September – Monday 9th December (no class Monday 11th November)\nTime – 7pm – 8pm\nMedium – Online via Zoom (with recordings available afterwards)\nCourse fee – £55 \n(Recordings available so that any lectures missed can be caught within 4 weeks\, on Zoom) \nExploring one of the most dramatic periods in the development of art history\, our introductory series of ten evening lectures takes us from 1880 and Post Impressionism through some of the first movements in Modernism. Artists include Gauguin\, van Gogh and Cezanne\, showing how these pioneers pushed the boundaries of Impressionism to create something new; and Munch\, Matisse and Picasso who explored psychology\, colour and form in innovative and exciting pictures. \nTerms & Conditions\nBooking is only available online\, via this page. The booking must be made 24 hours before the first session starts. The booking covers all ten sessions.\nIf you sign up to the online course then you agree to use Zoom for these webinar talks. You do not need to download the Zoom app\, the link sent by the lecturer will take you to the Zoom website. \nCancellations\nCustom Policy
URL:https://www.monlife.co.uk/event/introduction-to-art-the-late-19th-century-into-modernism/2024-10-14/
CATEGORIES:MonLife Heritage
ATTACH;FMTTYPE=image/jpeg:https://www.monlife.co.uk/wp-content/uploads/2024/09/Van-Gogh-Wheatfield-under-Thunderclouds-1890-crop-web.jpg
ORGANIZER;CN="MonLife":MAILTO:-
END:VEVENT
BEGIN:VEVENT
DTSTART;TZID=Europe/London:20241014T193000
DTEND;TZID=Europe/London:20241014T193000
DTSTAMP:20260423T223050
CREATED:20240904T151903Z
LAST-MODIFIED:20240904T151903Z
UID:10003617-1728934200-1728934200@www.monlife.co.uk
SUMMARY:The Three Musketeers
DESCRIPTION:All for one and fun for all!\nA brand-new comedy written and directed by Richard Tunley.\nJoin our heroes – D’Artagnan\, Athos\, Porthos\, and Aramis – on a riotous journey\nfilled with sword fights\, mistaken identities\, and hilarious hijinks. Expect quick\nwit and boundless energy\, with non-stop laughs from start to finish.
URL:https://www.monlife.co.uk/event/the-three-musketeers/
LOCATION:Borough Theatre\, Abergavenny\, Town Hall\, Cross St\, Abergavenny\, Monmouthshire\, NP7 5HD\, United Kingdom
END:VEVENT
END:VCALENDAR