BEGIN:VCALENDAR
VERSION:2.0
PRODID:-//Monlife - ECPv6.15.18//NONSGML v1.0//EN
CALSCALE:GREGORIAN
METHOD:PUBLISH
X-WR-CALNAME:Monlife
X-ORIGINAL-URL:https://www.monlife.co.uk
X-WR-CALDESC:Events for Monlife
REFRESH-INTERVAL;VALUE=DURATION:PT1H
X-Robots-Tag:noindex
X-PUBLISHED-TTL:PT1H
BEGIN:VTIMEZONE
TZID:Europe/London
BEGIN:DAYLIGHT
TZOFFSETFROM:+0000
TZOFFSETTO:+0100
TZNAME:BST
DTSTART:20230326T010000
END:DAYLIGHT
BEGIN:STANDARD
TZOFFSETFROM:+0100
TZOFFSETTO:+0000
TZNAME:GMT
DTSTART:20231029T010000
END:STANDARD
BEGIN:DAYLIGHT
TZOFFSETFROM:+0000
TZOFFSETTO:+0100
TZNAME:BST
DTSTART:20240331T010000
END:DAYLIGHT
BEGIN:STANDARD
TZOFFSETFROM:+0100
TZOFFSETTO:+0000
TZNAME:GMT
DTSTART:20241027T010000
END:STANDARD
BEGIN:DAYLIGHT
TZOFFSETFROM:+0000
TZOFFSETTO:+0100
TZNAME:BST
DTSTART:20250330T010000
END:DAYLIGHT
BEGIN:STANDARD
TZOFFSETFROM:+0100
TZOFFSETTO:+0000
TZNAME:GMT
DTSTART:20251026T010000
END:STANDARD
END:VTIMEZONE
BEGIN:VEVENT
DTSTART;TZID=Europe/London:20240326T140000
DTEND;TZID=Europe/London:20240326T150000
DTSTAMP:20260425T004656
CREATED:20240229T121302Z
LAST-MODIFIED:20240314T114223Z
UID:10001744-1711461600-1711465200@www.monlife.co.uk
SUMMARY:Easter Story Time & Crafts
DESCRIPTION:Join us in Caldicot Hub during the Easter Holidays for a special Easter Story Time & Craft activity! \nBook here! \nSuitable for ages 4 – 8. \nPlease ensure all children are accompanied by an adult.
URL:https://www.monlife.co.uk/event/easter-story-time-crafts/
LOCATION:Caldicot Community Hub\, Woodstock Way\, Caldicot\, Monmouthshire\, NP26 5DB\, United Kingdom
CATEGORIES:Free Activities,May Half Term,MonLife Heritage
ATTACH;FMTTYPE=image/png:https://www.monlife.co.uk/wp-content/uploads/2024/02/Easter-Story-Time-Craft-Instagram-Post.png
END:VEVENT
END:VCALENDAR