BEGIN:VCALENDAR
VERSION:2.0
PRODID:-//Monlife - ECPv6.15.18//NONSGML v1.0//EN
CALSCALE:GREGORIAN
METHOD:PUBLISH
X-WR-CALNAME:Monlife
X-ORIGINAL-URL:https://www.monlife.co.uk/cy/
X-WR-CALDESC:Events for Monlife
REFRESH-INTERVAL;VALUE=DURATION:PT1H
X-Robots-Tag:noindex
X-PUBLISHED-TTL:PT1H
BEGIN:VTIMEZONE
TZID:Europe/London
BEGIN:DAYLIGHT
TZOFFSETFROM:+0000
TZOFFSETTO:+0100
TZNAME:BST
DTSTART:20230326T010000
END:DAYLIGHT
BEGIN:STANDARD
TZOFFSETFROM:+0100
TZOFFSETTO:+0000
TZNAME:GMT
DTSTART:20231029T010000
END:STANDARD
BEGIN:DAYLIGHT
TZOFFSETFROM:+0000
TZOFFSETTO:+0100
TZNAME:BST
DTSTART:20240331T010000
END:DAYLIGHT
BEGIN:STANDARD
TZOFFSETFROM:+0100
TZOFFSETTO:+0000
TZNAME:GMT
DTSTART:20241027T010000
END:STANDARD
BEGIN:DAYLIGHT
TZOFFSETFROM:+0000
TZOFFSETTO:+0100
TZNAME:BST
DTSTART:20250330T010000
END:DAYLIGHT
BEGIN:STANDARD
TZOFFSETFROM:+0100
TZOFFSETTO:+0000
TZNAME:GMT
DTSTART:20251026T010000
END:STANDARD
END:VTIMEZONE
BEGIN:VEVENT
DTSTART;TZID=Europe/London:20240213T080000
DTEND;TZID=Europe/London:20240213T170000
DTSTAMP:20260420T062624
CREATED:20240118T145615Z
LAST-MODIFIED:20240118T150044Z
UID:10001032-1707811200-1707843600@www.monlife.co.uk
SUMMARY:Gemau Sir Fynwy : Hanner Tymor Chwefror
DESCRIPTION:Gemau Sir Fynwy’n dychwelyd am hanner tymor! \n\n\n\nYn chwilio am rywbeth hwyl a bywiog ar gyfer gwyliau’r ysgol? \n\n\n\nDoes dim rhaid chwilio ymhellach\, gan fod Gemau Sir Fynwy’n dychwelyd am hanner tymor!\n\nDysgwch sgiliau newydd\, datblygwch hyder\, gallwch gwrdd â phobl newydd ac yn bwysicaf oll cewch hwyl drwy chwaraeon.\n\nGyda dros 30 o wahanol chwaraeon\, bydd pob diwrnod yn llawn amrywiaeth o weithgareddau chwaraeon y gall plant a phobl ifanc 5-11 oed eu mwynhau. \nYn digwydd yn: \n\nCanolfan Hamdden y Fenni\nCanolfan Hamdden Trefynwy\nCanolfan Hamdden Cil-y-coed\nCanolfan Hamdden Cas-gwent
URL:https://www.monlife.co.uk/cy/event/gemau-sir-fynwy-hanner-tymor-chwefror/2024-02-13/
LOCATION:Sir Fynwy
CATEGORIES:Gwyliau'r Pasg,MonLife Yn Weithredol
ATTACH;FMTTYPE=image/png:https://www.monlife.co.uk/wp-content/uploads/2024/01/TMG-Creative-Feb-24_Website-Slider.png
END:VEVENT
END:VCALENDAR