BEGIN:VCALENDAR
VERSION:2.0
PRODID:-//Monlife - ECPv6.15.18//NONSGML v1.0//EN
CALSCALE:GREGORIAN
METHOD:PUBLISH
X-WR-CALNAME:Monlife
X-ORIGINAL-URL:https://www.monlife.co.uk/cy/
X-WR-CALDESC:Events for Monlife
REFRESH-INTERVAL;VALUE=DURATION:PT1H
X-Robots-Tag:noindex
X-PUBLISHED-TTL:PT1H
BEGIN:VTIMEZONE
TZID:Europe/London
BEGIN:DAYLIGHT
TZOFFSETFROM:+0000
TZOFFSETTO:+0100
TZNAME:BST
DTSTART:20220327T010000
END:DAYLIGHT
BEGIN:STANDARD
TZOFFSETFROM:+0100
TZOFFSETTO:+0000
TZNAME:GMT
DTSTART:20221030T010000
END:STANDARD
BEGIN:DAYLIGHT
TZOFFSETFROM:+0000
TZOFFSETTO:+0100
TZNAME:BST
DTSTART:20230326T010000
END:DAYLIGHT
BEGIN:STANDARD
TZOFFSETFROM:+0100
TZOFFSETTO:+0000
TZNAME:GMT
DTSTART:20231029T010000
END:STANDARD
BEGIN:DAYLIGHT
TZOFFSETFROM:+0000
TZOFFSETTO:+0100
TZNAME:BST
DTSTART:20240331T010000
END:DAYLIGHT
BEGIN:STANDARD
TZOFFSETFROM:+0100
TZOFFSETTO:+0000
TZNAME:GMT
DTSTART:20241027T010000
END:STANDARD
END:VTIMEZONE
BEGIN:VEVENT
DTSTART;TZID=Europe/London:20231030T080000
DTEND;TZID=Europe/London:20231103T170000
DTSTAMP:20260423T155937
CREATED:20230926T154903Z
LAST-MODIFIED:20230926T154903Z
UID:10000013-1698652800-1699030800@www.monlife.co.uk
SUMMARY:TMG: Hanner Tymor yr Hydref
DESCRIPTION:Gyda dros 30 o wahanol chwaraeon\, bydd pob diwrnod yn llawn amrywiaeth o weithgareddau chwaraeon y gall plant a phobl ifanc 5-11 oed eu mwynhau. \nYn digwydd yn: \n\nCanolfan Hamdden y Fenni\nCanolfan Hamdden Trefynwy\nCanolfan Hamdden Cil-y-coed\nCanolfan Hamdden Cas-gwent
URL:https://www.monlife.co.uk/cy/event/tmg-hanner-tymor-yr-hydref/
LOCATION:Sir Fynwy
CATEGORIES:MonLife Yn Weithredol
END:VEVENT
END:VCALENDAR