BEGIN:VCALENDAR
VERSION:2.0
PRODID:-//Monlife - ECPv6.15.18//NONSGML v1.0//EN
CALSCALE:GREGORIAN
METHOD:PUBLISH
X-WR-CALNAME:Monlife
X-ORIGINAL-URL:https://www.monlife.co.uk/cy/
X-WR-CALDESC:Events for Monlife
REFRESH-INTERVAL;VALUE=DURATION:PT1H
X-Robots-Tag:noindex
X-PUBLISHED-TTL:PT1H
BEGIN:VTIMEZONE
TZID:Europe/London
BEGIN:DAYLIGHT
TZOFFSETFROM:+0000
TZOFFSETTO:+0100
TZNAME:BST
DTSTART:20240331T010000
END:DAYLIGHT
BEGIN:STANDARD
TZOFFSETFROM:+0100
TZOFFSETTO:+0000
TZNAME:GMT
DTSTART:20241027T010000
END:STANDARD
BEGIN:DAYLIGHT
TZOFFSETFROM:+0000
TZOFFSETTO:+0100
TZNAME:BST
DTSTART:20250330T010000
END:DAYLIGHT
BEGIN:STANDARD
TZOFFSETFROM:+0100
TZOFFSETTO:+0000
TZNAME:GMT
DTSTART:20251026T010000
END:STANDARD
BEGIN:DAYLIGHT
TZOFFSETFROM:+0000
TZOFFSETTO:+0100
TZNAME:BST
DTSTART:20260329T010000
END:DAYLIGHT
BEGIN:STANDARD
TZOFFSETFROM:+0100
TZOFFSETTO:+0000
TZNAME:GMT
DTSTART:20261025T010000
END:STANDARD
END:VTIMEZONE
BEGIN:VEVENT
DTSTART;TZID=Europe/London:20251216T103000
DTEND;TZID=Europe/London:20251216T150000
DTSTAMP:20260424T155540
CREATED:20251127T102518Z
LAST-MODIFIED:20251127T112820Z
UID:10008011-1765881000-1765897200@www.monlife.co.uk
SUMMARY:Llwybr Nadolig!
DESCRIPTION:Helpwch Sion Corn i ddod o hyd i’w geirw coll! \nDewch i ymuno a’n Llwybr Nadolig! \nYn Dechrau yng Nghanolfan Groeso Cas-gwent \n\n29ed Tachwedd i 24ain Rhagfyr. £3.50 y llwybr\n10:30am-3:00pm\, Dydd Llun-Dydd Sadwrn Ar Gau 12:30-13:30)\n\n*Gwobrau i’w Hennill*
URL:https://www.monlife.co.uk/cy/event/llwybr-nadolig/2025-12-16/
LOCATION:Canolfan Groeso Cas-gwent\, Castle Car Park\,\, Cas-gwent\, Sir Fynwy\, NP16 5EY\, United Kingdom
CATEGORIES:Hanner Tymor Mis Mai,MonLife Treftadaeth
ATTACH;FMTTYPE=image/png:https://www.monlife.co.uk/wp-content/uploads/2025/11/Festive-Trail-.png
ORGANIZER;CN="MonLife":MAILTO:-
END:VEVENT
BEGIN:VEVENT
DTSTART;TZID=Europe/London:20251216T153000
DTEND;TZID=Europe/London:20251216T180000
DTSTAMP:20260424T155540
CREATED:20251127T103648Z
LAST-MODIFIED:20251127T104012Z
UID:10008716-1765899000-1765908000@www.monlife.co.uk
SUMMARY:Gwerthu allan : Santa's Grotto - Castell Cil-y-coed
DESCRIPTION:Mae’r digwyddiad hwn bellach wedi gwerthu allan. \nBydd Siôn Corn a’i elves yn dod i Gastell Cil-y-coed y Nadolig hwn yn Grotto ei Siôn Corn. Bydd cyfle i blant gwrdd ag ef\, rhoi gwybod iddo beth maen nhw ei eisiau ar gyfer y Nadolig a dod i ffwrdd â’u rhodd eu hunain. Mae yna hefyd ddiodydd poeth\, gwin cynnes\, siocled poeth a mins peis yn cael eu gweini yn y siop anrhegion i’ch cael chi i ysbryd y Nadolig yn llawn. \nTelerau ac Amodau \nAngen archebu ymlaen llaw. \nNi ellir ad-dalu tocynnau oni bai bod y digwyddiad yn cael ei ganslo. \n 
URL:https://www.monlife.co.uk/cy/event/gwerthu-allan-santas-grotto-castell-cil-y-coed/2025-12-16/
LOCATION:Castell a Pharc Gwledig Cil-y-coed\, Church Rd\,\, Cil-y-Coed\, Sir Fynwy\, NP26 4HU\, United Kingdom
CATEGORIES:Hanner Tymor Mis Mai,MonLife Treftadaeth
ATTACH;FMTTYPE=image/png:https://www.monlife.co.uk/wp-content/uploads/2025/11/3.png
ORGANIZER;CN="MonLife":MAILTO:-
END:VEVENT
END:VCALENDAR