BEGIN:VCALENDAR
VERSION:2.0
PRODID:-//Monlife - ECPv6.15.18//NONSGML v1.0//EN
CALSCALE:GREGORIAN
METHOD:PUBLISH
X-ORIGINAL-URL:https://www.monlife.co.uk/cy/
X-WR-CALDESC:Events for Monlife
REFRESH-INTERVAL;VALUE=DURATION:PT1H
X-Robots-Tag:noindex
X-PUBLISHED-TTL:PT1H
BEGIN:VTIMEZONE
TZID:Europe/London
BEGIN:DAYLIGHT
TZOFFSETFROM:+0000
TZOFFSETTO:+0100
TZNAME:BST
DTSTART:20240331T010000
END:DAYLIGHT
BEGIN:STANDARD
TZOFFSETFROM:+0100
TZOFFSETTO:+0000
TZNAME:GMT
DTSTART:20241027T010000
END:STANDARD
BEGIN:DAYLIGHT
TZOFFSETFROM:+0000
TZOFFSETTO:+0100
TZNAME:BST
DTSTART:20250330T010000
END:DAYLIGHT
BEGIN:STANDARD
TZOFFSETFROM:+0100
TZOFFSETTO:+0000
TZNAME:GMT
DTSTART:20251026T010000
END:STANDARD
BEGIN:DAYLIGHT
TZOFFSETFROM:+0000
TZOFFSETTO:+0100
TZNAME:BST
DTSTART:20260329T010000
END:DAYLIGHT
BEGIN:STANDARD
TZOFFSETFROM:+0100
TZOFFSETTO:+0000
TZNAME:GMT
DTSTART:20261025T010000
END:STANDARD
END:VTIMEZONE
BEGIN:VEVENT
DTSTART;TZID=Europe/London:20250721T083000
DTEND;TZID=Europe/London:20250822T163000
DTSTAMP:20260426T040222
CREATED:20240607T154100Z
LAST-MODIFIED:20250626T100855Z
UID:10003444-1753086600-1755880200@www.monlife.co.uk
SUMMARY:TMG yr Haf: The Monmouthshire Games
DESCRIPTION:Gan gynnig llwyfan chwareus ar gyfer dysgu sgiliau newydd\, meithrin hyder\, ehangu cylchoedd cymdeithasol\, ac\, yn bennaf oll\, ymhyfrydu wrth wefr chwaraeon\, TMG yw’r maes chwarae eithaf i blant a phobl ifanc 5-11 oed yn ystod gwyliau’r ysgol. Gydag uchafswm o 30 o leoedd ar gael y dydd ar bob safle\, mae TMG yn sicrhau sylw personol ac yn meithrin amgylchedd cefnogol i bob cyfranogwr ffynnu. \nYn digwydd ar draws Sir Fynwy\, ymunwch â ni yn un o’r lleoliadau canlynol: \n\nCanolfan Hamdden y Fenni\nCanolfan Hamdden Trefynwy\nCanolfan Hamdden Cil-y-coed\nCanolfan Hamdden Cas-gwent\n\nSut ydw i’n archebu lle i fy mhlentyn ar gyfer Gemau Sir Fynwy?\nGallwch archebu eich plentyn ar TMG trwy gofrestru isod: \nGemau Sir Fynwy Haf 2025
URL:https://www.monlife.co.uk/cy/event/summer-tmg-the-monmouthshire-games-2025/
LOCATION:Sir Fynwy
CATEGORIES:Hanner Tymor Mis Mai,MonLife Yn Weithredol
ATTACH;FMTTYPE=image/png:https://www.monlife.co.uk/wp-content/uploads/2024/06/Artboard-7-Summer-TMG.png
ORGANIZER;CN="MonLife":MAILTO:-
END:VEVENT
BEGIN:VEVENT
DTSTART;TZID=Europe/London:20250801T100000
DTEND;TZID=Europe/London:20250801T150000
DTSTAMP:20260426T040222
CREATED:20250609T141917Z
LAST-MODIFIED:20250609T142208Z
UID:10007321-1754042400-1754060400@www.monlife.co.uk
SUMMARY:Ysgol Haf Ieuenctid - Borough Theatre\, Y Fenni
DESCRIPTION:Mae’r Ysgol Haf yma yn awditoriwm y Borough ar gyfer rhai 11-16 oed a hoffai greu eu gwaith eu hun a dysgu celf llwyfan mewn theatr broffesiynol. \nWythnos hwyliog a diddorol ar gyfer pob person ifanc sydd â diddordeb mewn dweud eu straeon\, llunio perfformiad a threulio amser yn bod yn greadigol. \n\n🗓️ 28 Gorffennaf – 1 Awst | 🕙 10am – 3pm\n📍 Awditoriwm The Borough\, Y Fenni\n💷 £150 (Bwrsariaethau ar gael)\n\nGwybodaeth am Fwrsariaethau: katherinemcdermidsmith@monmouthshire.gov.uk \nWythnos llawn hwyl\, ymarferol i bobl ifanc er mwyn: \n\n✨ Creu eu gwaith eu hunain\n🎬 Dysgu crefft llwyfan mewn theatr broffesiynol\n🎤 Adrodd eu straeon a llunio perfformiad\n\nArchebwch eich lle nawr!\n 
URL:https://www.monlife.co.uk/cy/event/ysgol-haf-ieuenctid-borough-theatre-y-fenni/2025-08-01/
LOCATION:Theatr Borough\, Y Fenni\, Neuadd y Dref\, Stryd y Groes\, Y Fenni\, Sir Fynwy\, NP7 5HD\, United Kingdom
CATEGORIES:Hanner Tymor Mis Mai,MonLife Treftadaeth
ATTACH;FMTTYPE=image/png:https://www.monlife.co.uk/wp-content/uploads/2025/06/Slide-1.png
ORGANIZER;CN="MonLife":MAILTO:-
END:VEVENT
BEGIN:VEVENT
DTSTART;TZID=Europe/London:20250801T103000
DTEND;TZID=Europe/London:20250801T113000
DTSTAMP:20260426T040222
CREATED:20250722T110029Z
LAST-MODIFIED:20250722T142920Z
UID:10007487-1754044200-1754047800@www.monlife.co.uk
SUMMARY:Ysgrifennu Creadigol gyda Claire Fayers
DESCRIPTION:Sialens Ddarllen Yr Haf! \nGweithdy gwych\, hwyliog a rhad ac am ddim i awduron\, gyda’r awdur anhygoel\, Claire Fayers! \nClicwch yma i archebu –\nYsgriffennu Creadigol Y fenni  \n8 – 11 oed \nNodwch fod rhaid i bob plentyn fod yng nghwmni oedolyn
URL:https://www.monlife.co.uk/cy/event/ysgrifennu-creadigol-gyda-claire-fayers/
LOCATION:Hyb Cymunedol Y Fenni\, Town Hall\, Cross Street\, Y Fenni\, Sir Fynwy\, NP7 5HD\, United Kingdom
CATEGORIES:Gweithgareddau am ddim,Hanner Tymor Mis Mai,MonLife Treftadaeth
ATTACH;FMTTYPE=image/png:https://www.monlife.co.uk/wp-content/uploads/2025/07/SRC-events-ABVY-5.png
END:VEVENT
BEGIN:VEVENT
DTSTART;TZID=Europe/London:20250801T143000
DTEND;TZID=Europe/London:20250801T153000
DTSTAMP:20260426T040222
CREATED:20250722T110704Z
LAST-MODIFIED:20250722T143109Z
UID:10007489-1754058600-1754062200@www.monlife.co.uk
SUMMARY:Ysgrifennu Creadigol gyda Claire Fayers
DESCRIPTION:Sialens Ddarllen Yr Haf! \nGweithdy gwych\, hwyliog a rhad ac am ddim i awduron\, gyda’r awdur anhygoel\, Claire Fayers! \nClicwch yma i archebu –\nYsgrifennu Creadigol Gilwern \n8 – 11 oed \nNodwch fod rhaid i bob plentyn fod yng nghwmni oedolyn
URL:https://www.monlife.co.uk/cy/event/ysgrifennu-creadigol-gyda-claire-fayers-2/
LOCATION:Llyfrgell Gilwern\, Common Road\, Gilwern\, Sir Fynwy\, NP7 0DS\, United Kingdom
CATEGORIES:Gweithgareddau am ddim,Hanner Tymor Mis Mai,MonLife Treftadaeth
ATTACH;FMTTYPE=image/png:https://www.monlife.co.uk/wp-content/uploads/2025/07/SRC-events-GIL-3.png
END:VEVENT
BEGIN:VEVENT
DTSTART;TZID=Europe/London:20250801T170000
DTEND;TZID=Europe/London:20250801T170000
DTSTAMP:20260426T040222
CREATED:20241205T095602Z
LAST-MODIFIED:20241205T101746Z
UID:10005934-1754067600-1754067600@www.monlife.co.uk
SUMMARY:Razorlight - 'Summer Nights' yng Nghastell Cil-y-coed!
DESCRIPTION:Kilimanjaro yn cyflwyno y nos hudolus o gerddoriaeth o fewn muriau Castell Cil-y-coed gyda Razorlight!⁠ \nA llu o westeion arbennig gan gynnwys: Jamie Webster a Public Order. \nTocynnau ar gyfer y sioe yn mynd ar werth ar ddydd Gwener 15fed Tachwedd am 10yb drwy’r ddolen isod:  \nTocynnau
URL:https://www.monlife.co.uk/cy/event/razorlight-summer-nights-yng-nghastell-cil-y-coed/
LOCATION:Castell a Pharc Gwledig Cil-y-coed\, Church Rd\,\, Cil-y-Coed\, Sir Fynwy\, NP26 4HU\, United Kingdom
CATEGORIES:Hanner Tymor Mis Mai,MonLife Treftadaeth
ATTACH;FMTTYPE=image/jpeg:https://www.monlife.co.uk/wp-content/uploads/2024/12/Instagram-2024-11-11T164825.536.jpg
END:VEVENT
END:VCALENDAR