BEGIN:VCALENDAR
VERSION:2.0
PRODID:-//Monlife - ECPv6.15.18//NONSGML v1.0//EN
CALSCALE:GREGORIAN
METHOD:PUBLISH
X-WR-CALNAME:Monlife
X-ORIGINAL-URL:https://www.monlife.co.uk/cy/
X-WR-CALDESC:Events for Monlife
REFRESH-INTERVAL;VALUE=DURATION:PT1H
X-Robots-Tag:noindex
X-PUBLISHED-TTL:PT1H
BEGIN:VTIMEZONE
TZID:Europe/London
BEGIN:DAYLIGHT
TZOFFSETFROM:+0000
TZOFFSETTO:+0100
TZNAME:BST
DTSTART:20230326T010000
END:DAYLIGHT
BEGIN:STANDARD
TZOFFSETFROM:+0100
TZOFFSETTO:+0000
TZNAME:GMT
DTSTART:20231029T010000
END:STANDARD
BEGIN:DAYLIGHT
TZOFFSETFROM:+0000
TZOFFSETTO:+0100
TZNAME:BST
DTSTART:20240331T010000
END:DAYLIGHT
BEGIN:STANDARD
TZOFFSETFROM:+0100
TZOFFSETTO:+0000
TZNAME:GMT
DTSTART:20241027T010000
END:STANDARD
BEGIN:DAYLIGHT
TZOFFSETFROM:+0000
TZOFFSETTO:+0100
TZNAME:BST
DTSTART:20250330T010000
END:DAYLIGHT
BEGIN:STANDARD
TZOFFSETFROM:+0100
TZOFFSETTO:+0000
TZNAME:GMT
DTSTART:20251026T010000
END:STANDARD
END:VTIMEZONE
BEGIN:VEVENT
DTSTART;TZID=Europe/London:20240729T100000
DTEND;TZID=Europe/London:20240809T150000
DTSTAMP:20260421T233412
CREATED:20240715T173607Z
LAST-MODIFIED:20240716T115014Z
UID:10003578-1722247200-1723215600@www.monlife.co.uk
SUMMARY:Ysgol Haf Theatr Ieuenctid Savoy
DESCRIPTION:Mae Dyfodol Creadigol/Cyngor Sir Fynwy yn cynnig ysgolion haf celfyddydau mynegiannol am ddim ledled y sir.  Mae’r rhaglenni hyn\, sydd yn 1 a 2 wythnos o hyd\, yn cynnig cyfle i gyfranogwyr gyflwyno’u meddyliau a’u syniadau a chreu darnau theatr.  Bydd yna hefyd yn gyfle i berfformio\, dylunio\, cwrdd â phobl ifanc eraill a chael hwyl.  Mae’r holl weithdai yn canolbwyntio ar ddathlu creadigrwydd\, meithrin hunan-barch a grymuso pobl ifanc. \nCliciwch ar y ddolen ganlynol i gael rhagor o wybodaeth am ddyddiadau a lleoliadau\nboroughtheatreabergavenny.co.uk
URL:https://www.monlife.co.uk/cy/event/ysgol-haf-theatr-ieuenctid-savoy/
LOCATION:Sir Fynwy
CATEGORIES:Gweithgareddau am ddim,Gwyliau'r Pasg,MonLife Treftadaeth
ATTACH;FMTTYPE=image/jpeg:https://www.monlife.co.uk/wp-content/uploads/2024/07/Monmouth-Theatre-Summer-School-Poster-scaled.jpg
ORGANIZER;CN="MonLife":MAILTO:-
END:VEVENT
BEGIN:VEVENT
DTSTART;TZID=Europe/London:20240807T100000
DTEND;TZID=Europe/London:20240807T110000
DTSTAMP:20260421T233412
CREATED:20240626T113529Z
LAST-MODIFIED:20240626T144826Z
UID:10003516-1723024800-1723028400@www.monlife.co.uk
SUMMARY:Sialens Ddarllen Yr Haf - Gweithdy Lego
DESCRIPTION:Ymunwch â ni am fore o Adeiladu Lego yn Hyb Cil-y-coed i’n helpu ni i ddathlu Sialens Ddarllen yr Haf eleni\, Crefftwyr Campus! \nCliciwch y ddolen islaw i archebu. \nDydd Mercher 24 Gorffennaf \nDydd Mercher 7 Awst \nDydd Mercher 14 Awst \nDydd Mercher 21 Awst \n5 – 9 oed. \nNodwch fod rhaid i bob plentyn fod yng nghwmni oedolyn.
URL:https://www.monlife.co.uk/cy/event/sialens-ddarllen-yr-haf/2024-08-07/
LOCATION:Hyb Cymunedol Cil-y-Coed\, Woodstock Way\, Cil-y-Coed\, Sir Fynwy\, NP26 5DB\, United Kingdom
CATEGORIES:Gweithgareddau am ddim,Gwyliau'r Pasg,MonLife Treftadaeth
ATTACH;FMTTYPE=image/png:https://www.monlife.co.uk/wp-content/uploads/2024/06/SRC-Lego-CYM.png
END:VEVENT
BEGIN:VEVENT
DTSTART;TZID=Europe/London:20240807T100000
DTEND;TZID=Europe/London:20240807T110000
DTSTAMP:20260421T233412
CREATED:20240711T094648Z
LAST-MODIFIED:20240711T095418Z
UID:10003567-1723024800-1723028400@www.monlife.co.uk
SUMMARY:Sialens Ddarllen Yr Haf - Straeon & Chrefftau
DESCRIPTION:Ymunwch â ni yn Hyb Cas-gwent i ddathlu Sialens Ddarllen yr Haf eleni ‘Crefftwyr Campus’ gyda gweithdy Straeon a Chrefft! \nCliciwch y ddolen islaw i archebu. \nDydd Llun 29 Gorffennaf  \nDydd Mercher 7 Awst  \nDydd Gwener 16 Awst \nDydd Gwener 23 Awst \n4 – 8 oed. \nNodwch fod rhaid i bob plentyn fod yng nghwmni oedolyn.
URL:https://www.monlife.co.uk/cy/event/sialens-ddarllen-yr-haf-straeon-chrefftau/2024-08-07/
LOCATION:Hyb Cymunedol Cas-gwent\, Manor Way\, Cas-gwent\, Sir Fynwy\, NP16 5HZ\, United Kingdom
CATEGORIES:Gweithgareddau am ddim,Gwyliau'r Pasg,MonLife Treftadaeth
ATTACH;FMTTYPE=image/png:https://www.monlife.co.uk/wp-content/uploads/2024/07/SRCsocial-tiles-5.png
END:VEVENT
BEGIN:VEVENT
DTSTART;TZID=Europe/London:20240807T110000
DTEND;TZID=Europe/London:20240807T120000
DTSTAMP:20260421T233412
CREATED:20240709T104802Z
LAST-MODIFIED:20240710T082242Z
UID:10003546-1723028400-1723032000@www.monlife.co.uk
SUMMARY:Sialens Ddarllen Yr Haf - Crefftau Gardd Tylwyth Teg
DESCRIPTION:Ymunwch â ni yn Brynbuga i ddathlu Sialens Ddarllen yr Haf eleni\, ‘Crefftwyr Campus’ gyda crefftau gardd tylwyth teg! \nCliciwch y ddolen islaw i archebu. \nhttps://www.eventbrite.co.uk/e/fairy-garden-craft-summer-reading-challenge-tickets-940907939977?utm-campaign=social&utm-content=attendeeshare&utm-medium=discovery&utm-term=listing&utm-source=cp&aff=ebdsshcopyurl \n5 – 9 oed. \nNodwch fod rhaid i bob plentyn fod yng nghwmni oedolyn.
URL:https://www.monlife.co.uk/cy/event/sialens-ddarllen-yr-haf-crefftau-gardd-tylwyth-teg/
LOCATION:Hyb Cymunedol Brynbuga\, 35 Maryport St\, Brynbuga\, Sir Fynwy\, NP15 1AE\, United Kingdom
CATEGORIES:Gweithgareddau am ddim,Gwyliau'r Pasg,MonLife Treftadaeth
ATTACH;FMTTYPE=image/png:https://www.monlife.co.uk/wp-content/uploads/2024/07/SRC-Fairy-Door-CYM-2.png
END:VEVENT
BEGIN:VEVENT
DTSTART;TZID=Europe/London:20240807T110000
DTEND;TZID=Europe/London:20240807T150000
DTSTAMP:20260421T233412
CREATED:20240612T162640Z
LAST-MODIFIED:20240612T164636Z
UID:10003453-1723028400-1723042800@www.monlife.co.uk
SUMMARY:Diwrnod Chwarae Cenedlaethol yng Nghanolfan Hamdden Cil-y-coed
DESCRIPTION:Ymunwch â’r Hwyl yng Nghanolfan Hamdden Cil-y-coed ar gyfer Diwrnod Chwarae Cenedlaethol\nYn galw ar bob teulu!  Marciwch eich calendrau ar gyfer yr amser chwarae penigamp yng Nghanolfan hamdden Cil-y-coed ddydd Mercher 7fed Awst rhwng 11am a 3pm. Mae Diwrnod Chwarae Cenedlaethol wedi cyrraedd\, ac rydym yn dathlu hawl plant i chwarae wrth bwysleisio’i rôl hanfodol yn eu bywydau. \nDoes dim angen archebu lle\, dewch draw i chwarae. Paratowch ar gyfer diwrnod llawn cyffro gydag amrywiaeth o weithgareddau cyffrous ar gyfer pob oedran a gallu\, sy’n cynnwys: \n\nSleid castell bownsio\nWal ddringo\nCrefftau Byw yn y Gwyllt\nAdeiladu ffau\nDinas Cardbord\nGorsaf rhannau rhydd\nTywod\, dŵr a chwarae blêr\nGorsafoedd crefft gan gynnwys crefft a ddewiswyd yn rhydd\nStociau sbyngau gwlyb\nGorsaf chwaraeon gydag amrywiaeth o offer\nSaethyddiaeth\nTrawstiau cydbwysedd gymnasteg\nCodi hwyl\nLlyfrgell yn y Caffi\nChwarae meddal ac offer synhwyraidd yn y caffi\nSiop Gwneud Diodydd\nTeganau a gemau o’r gorffennol\nGorsaf gwneud cerddoriaeth\nDisgo Tawel\n\nAnogir teuluoedd i ddod â’u hoff fyrbrydau a mwynhau picnic hamddenol yng nghanol bwrlwm yr amser chwarae. Neges i’ch atgoffa fod chwarae blêr a dŵr ar yr agenda\, felly gwisgwch yn addas ar gyfer hynny! Nid ydym yn cymryd unrhyw gyfrifoldeb am ddillad budr – gadewch i’r hwyl fod yn wyllt a diofal. \nCofiwch fod rhaid i blant fod yng nghwmni oedolyn drwy’r amser!
URL:https://www.monlife.co.uk/cy/event/national-play-day-at-caldicot-leisure-centre/
LOCATION:Canolfan Hamdden Cil-y-coed\, Lôn y Felin\, Cil-y-Coed\, Sir Fynwy\, NP26 4BN\, United Kingdom
CATEGORIES:Gweithgareddau am ddim,Gwyliau'r Pasg
ATTACH;FMTTYPE=image/png:https://www.monlife.co.uk/wp-content/uploads/2024/06/National-Playday-2024_Event-Calendar-Square.png
ORGANIZER;CN="MonLife":MAILTO:-
END:VEVENT
END:VCALENDAR