BEGIN:VCALENDAR
VERSION:2.0
PRODID:-//Monlife - ECPv6.15.18//NONSGML v1.0//EN
CALSCALE:GREGORIAN
METHOD:PUBLISH
X-WR-CALNAME:Monlife
X-ORIGINAL-URL:https://www.monlife.co.uk/cy/
X-WR-CALDESC:Events for Monlife
REFRESH-INTERVAL;VALUE=DURATION:PT1H
X-Robots-Tag:noindex
X-PUBLISHED-TTL:PT1H
BEGIN:VTIMEZONE
TZID:Europe/London
BEGIN:DAYLIGHT
TZOFFSETFROM:+0000
TZOFFSETTO:+0100
TZNAME:BST
DTSTART:20230326T010000
END:DAYLIGHT
BEGIN:STANDARD
TZOFFSETFROM:+0100
TZOFFSETTO:+0000
TZNAME:GMT
DTSTART:20231029T010000
END:STANDARD
BEGIN:DAYLIGHT
TZOFFSETFROM:+0000
TZOFFSETTO:+0100
TZNAME:BST
DTSTART:20240331T010000
END:DAYLIGHT
BEGIN:STANDARD
TZOFFSETFROM:+0100
TZOFFSETTO:+0000
TZNAME:GMT
DTSTART:20241027T010000
END:STANDARD
BEGIN:DAYLIGHT
TZOFFSETFROM:+0000
TZOFFSETTO:+0100
TZNAME:BST
DTSTART:20250330T010000
END:DAYLIGHT
BEGIN:STANDARD
TZOFFSETFROM:+0100
TZOFFSETTO:+0000
TZNAME:GMT
DTSTART:20251026T010000
END:STANDARD
END:VTIMEZONE
BEGIN:VEVENT
DTSTART;TZID=Europe/London:20240725T103000
DTEND;TZID=Europe/London:20240725T120000
DTSTAMP:20260421T213610
CREATED:20240710T124850Z
LAST-MODIFIED:20240710T130027Z
UID:10003558-1721903400-1721908800@www.monlife.co.uk
SUMMARY:Wythnos Blêr yn Hen Orsaf Tyndyrn
DESCRIPTION:Dewch i ddarganfod\, creu a dychwelyd i fyd natur ar un o’n sesiynau gweithgareddau sy’n seiliedig ar natur\, sy’n digwydd yn Hen Orsaf Tyndyrn haf eleni. Ar ddydd Iau 25ain Gorffennaf a dydd Iau 22ain Awst rydym yn dathlu popeth mwdlyd gyda’r Wythnos Flêr!!  Gallech greu anghenfil mwd\, gwneud eich brwsh paent natur eich hun\, gadael eich marc gyda phaentio mwd llaw a thraed a chael hwyl gyda ffyn swigod a blodau gwifren… \nPris y tocynnau yw £4 fesul plentyn (nid oes angen i oedolion archebu).   \nLleoliad: yn y babell ymestyn wrth ymyl y maes parcio gorlif   \nAmser dechrau: 10:30 tan tua chanol dydd!   \n\nMae’r holl ddeunyddiau crefft\, gan gynnwys clai\, yn cael eu darparu ar gyfer pob plentyn\nGall pob plentyn fynd â’i holl greadigaethau adref ar ddiwedd y sesiwn fel cofrodd\nMae pob plentyn yn derbyn tocyn trên am ddim i’r trên bach\, naill ai i’w ddefnyddio ar y diwrnod neu ar adeg arall\n\nTelerau ac Amodau\n\nAr gyfer y rhai 3 oed +\nMae angen un oedolyn ar gyfer pob tri phlentyn (nid oes angen i oedolion archebu lle)\nBydd y sesiwn yn cael ei goruchwylio gan un aelod o staff Hen Orsaf Tyndyrn\nUchafswm maint grŵp yw 10 o blant\nMae angen archebu lle o flaen llaw\nNi fydd unrhyw ad-daliadau
URL:https://www.monlife.co.uk/cy/event/messy-week-at-old-station-tintern/2024-07-25/
LOCATION:Yr Hen Orsaf\, Tyndyrn\, Tintern Heights\, Catbrook\, Brockweir\,\, Cas-gwent\, Sir Fynwy\, NP16 7NX\, United Kingdom
CATEGORIES:Gwyliau'r Pasg
ATTACH;FMTTYPE=image/jpeg:https://www.monlife.co.uk/wp-content/uploads/2024/07/AdobeStock_327889623.jpeg
ORGANIZER;CN="MonLife":MAILTO:-
END:VEVENT
END:VCALENDAR