BEGIN:VCALENDAR
VERSION:2.0
PRODID:-//Monlife - ECPv6.15.18//NONSGML v1.0//EN
CALSCALE:GREGORIAN
METHOD:PUBLISH
X-WR-CALNAME:Monlife
X-ORIGINAL-URL:https://www.monlife.co.uk/cy/
X-WR-CALDESC:Events for Monlife
REFRESH-INTERVAL;VALUE=DURATION:PT1H
X-Robots-Tag:noindex
X-PUBLISHED-TTL:PT1H
BEGIN:VTIMEZONE
TZID:Europe/London
BEGIN:DAYLIGHT
TZOFFSETFROM:+0000
TZOFFSETTO:+0100
TZNAME:BST
DTSTART:20230326T010000
END:DAYLIGHT
BEGIN:STANDARD
TZOFFSETFROM:+0100
TZOFFSETTO:+0000
TZNAME:GMT
DTSTART:20231029T010000
END:STANDARD
BEGIN:DAYLIGHT
TZOFFSETFROM:+0000
TZOFFSETTO:+0100
TZNAME:BST
DTSTART:20240331T010000
END:DAYLIGHT
BEGIN:STANDARD
TZOFFSETFROM:+0100
TZOFFSETTO:+0000
TZNAME:GMT
DTSTART:20241027T010000
END:STANDARD
BEGIN:DAYLIGHT
TZOFFSETFROM:+0000
TZOFFSETTO:+0100
TZNAME:BST
DTSTART:20250330T010000
END:DAYLIGHT
BEGIN:STANDARD
TZOFFSETFROM:+0100
TZOFFSETTO:+0000
TZNAME:GMT
DTSTART:20251026T010000
END:STANDARD
END:VTIMEZONE
BEGIN:VEVENT
DTSTART;TZID=Europe/London:20240529T100000
DTEND;TZID=Europe/London:20240529T110000
DTSTAMP:20260421T231523
CREATED:20240411T102915Z
LAST-MODIFIED:20240411T104059Z
UID:10001818-1716976800-1716980400@www.monlife.co.uk
SUMMARY:Gweithdy Lego
DESCRIPTION:Clicwch yma i archebu. \nAddas ar gyfer plant 5 – 9 oed. \nNodwch fod rhaid i bob plentyn fod yng nghwmni oedolyn.
URL:https://www.monlife.co.uk/cy/event/gweithdy-lego-6/
LOCATION:Hyb Cymunedol Cil-y-Coed\, Woodstock Way\, Cil-y-Coed\, Sir Fynwy\, NP26 5DB\, United Kingdom
CATEGORIES:Gweithgareddau am ddim,Gwyliau'r Pasg,MonLife Treftadaeth
ATTACH;FMTTYPE=image/png:https://www.monlife.co.uk/wp-content/uploads/2024/04/Lego-Workshop-Caldicot-Social-Media-1.png
END:VEVENT
BEGIN:VEVENT
DTSTART;TZID=Europe/London:20240529T103000
DTEND;TZID=Europe/London:20240529T113000
DTSTAMP:20260421T231523
CREATED:20240516T105033Z
LAST-MODIFIED:20240516T105548Z
UID:10003420-1716978600-1716982200@www.monlife.co.uk
SUMMARY:Storiau a Chrefttau - Penblwydd Elmer 35 oed!
DESCRIPTION:Ymunwch â ni i ddathlu pen-blwydd Elmer yn 35 oed gyda Stories a Chrefftau! \nNid oes angen archebu lle. \n4 – 8 oed. \nRhaid i blant fod yng nghwmni oedolyn.
URL:https://www.monlife.co.uk/cy/event/storiau-a-chrefttau-penblwydd-elmer-35-oed/
LOCATION:Hyb Cymunedol Trefynwy\, Rolls Hall\, Whitecross St\, Trefynwy\, Sir Fynwy\, NP25 3BY\, United Kingdom
CATEGORIES:Gweithgareddau am ddim,Gwyliau'r Pasg,MonLife Treftadaeth
ATTACH;FMTTYPE=image/png:https://www.monlife.co.uk/wp-content/uploads/2024/05/Elmers-Birthday-Monmouth-Instagram-Post.png
END:VEVENT
BEGIN:VEVENT
DTSTART;TZID=Europe/London:20240529T110000
DTEND;TZID=Europe/London:20240529T120000
DTSTAMP:20260421T231523
CREATED:20240411T103253Z
LAST-MODIFIED:20240411T103710Z
UID:10001817-1716980400-1716984000@www.monlife.co.uk
SUMMARY:Stori Ffa a Phlannu
DESCRIPTION:Clicwch yma i archebu. \nAddas ar gyfer plant 4 – 8 oed. \nNodwch fod rhaid i bob plentyn fod yng nghwmni oedolyn.
URL:https://www.monlife.co.uk/cy/event/stori-ffa-a-phlannu/
LOCATION:Hyb Cymunedol Brynbuga\, 35 Maryport St\, Brynbuga\, Sir Fynwy\, NP15 1AE\, United Kingdom
CATEGORIES:Gweithgareddau am ddim,Gwyliau'r Pasg,MonLife Treftadaeth
ATTACH;FMTTYPE=image/png:https://www.monlife.co.uk/wp-content/uploads/2024/04/Jackie-and-Bean-Stalk-May.png
END:VEVENT
BEGIN:VEVENT
DTSTART;TZID=Europe/London:20240529T140000
DTEND;TZID=Europe/London:20240529T150000
DTSTAMP:20260421T231523
CREATED:20240425T140616Z
LAST-MODIFIED:20240425T141043Z
UID:10001842-1716991200-1716994800@www.monlife.co.uk
SUMMARY:Straeon & Chrefftau y Gwanwyn
DESCRIPTION:Ymunwch â ni am hanner tymor mis Mai am brynhawn o straeon a chrefftau lle byddwch yn gwneud ffonau symudol blodau! \nCliciwch yma i archebu! \n4 – 8 oed. \nNodwch fod rhaid i bob plentyn fod yng nghwmni oedolyn.
URL:https://www.monlife.co.uk/cy/event/straeon-chrefftau-y-gwanwyn/
LOCATION:Hyb Cymunedol Cas-gwent\, Manor Way\, Cas-gwent\, Sir Fynwy\, NP16 5HZ\, United Kingdom
CATEGORIES:Gweithgareddau am ddim,Gwyliau'r Pasg,MonLife Treftadaeth
ATTACH;FMTTYPE=image/png:https://www.monlife.co.uk/wp-content/uploads/2024/04/Spring-Stories-Crafts-chepstow-Instagram-Post-1.png
END:VEVENT
END:VCALENDAR