BEGIN:VCALENDAR
VERSION:2.0
PRODID:-//Monlife - ECPv6.15.18//NONSGML v1.0//EN
CALSCALE:GREGORIAN
METHOD:PUBLISH
X-ORIGINAL-URL:https://www.monlife.co.uk/cy/
X-WR-CALDESC:Events for Monlife
REFRESH-INTERVAL;VALUE=DURATION:PT1H
X-Robots-Tag:noindex
X-PUBLISHED-TTL:PT1H
BEGIN:VTIMEZONE
TZID:Europe/London
BEGIN:DAYLIGHT
TZOFFSETFROM:+0000
TZOFFSETTO:+0100
TZNAME:BST
DTSTART:20230326T010000
END:DAYLIGHT
BEGIN:STANDARD
TZOFFSETFROM:+0100
TZOFFSETTO:+0000
TZNAME:GMT
DTSTART:20231029T010000
END:STANDARD
BEGIN:DAYLIGHT
TZOFFSETFROM:+0000
TZOFFSETTO:+0100
TZNAME:BST
DTSTART:20240331T010000
END:DAYLIGHT
BEGIN:STANDARD
TZOFFSETFROM:+0100
TZOFFSETTO:+0000
TZNAME:GMT
DTSTART:20241027T010000
END:STANDARD
BEGIN:DAYLIGHT
TZOFFSETFROM:+0000
TZOFFSETTO:+0100
TZNAME:BST
DTSTART:20250330T010000
END:DAYLIGHT
BEGIN:STANDARD
TZOFFSETFROM:+0100
TZOFFSETTO:+0000
TZNAME:GMT
DTSTART:20251026T010000
END:STANDARD
END:VTIMEZONE
BEGIN:VEVENT
DTSTART;TZID=Europe/London:20240706T103000
DTEND;TZID=Europe/London:20240706T120000
DTSTAMP:20260421T164424
CREATED:20240626T105044Z
LAST-MODIFIED:20240626T105334Z
UID:10003501-1720261800-1720267200@www.monlife.co.uk
SUMMARY:Adeiladu canon
DESCRIPTION:Mae 50 mlynedd wedi mynd heibio ers i’r canon gyrraedd Castell Cil-y-coed ac rydym yn dathlu drwy eich gwahodd i adeiladu canon! \nClicwch yma yr archebu! \n4 – 9 oed. \nNodwch fod rhaid i bob plentyn fod yng nghwmni oedolyn.
URL:https://www.monlife.co.uk/cy/event/adeiladu-canon/
LOCATION:Hyb Cymunedol Cil-y-Coed\, Woodstock Way\, Cil-y-Coed\, Sir Fynwy\, NP26 5DB\, United Kingdom
CATEGORIES:Gweithgareddau am ddim,Gwyliau'r Pasg,MonLife Treftadaeth
ATTACH;FMTTYPE=image/png:https://www.monlife.co.uk/wp-content/uploads/2024/06/Build-a-cannon-CYM.png
END:VEVENT
BEGIN:VEVENT
DTSTART;TZID=Europe/London:20240723T140000
DTEND;TZID=Europe/London:20240723T150000
DTSTAMP:20260421T164424
CREATED:20240626T111436Z
LAST-MODIFIED:20240626T144935Z
UID:10003512-1721743200-1721746800@www.monlife.co.uk
SUMMARY:Sialens Ddarllen Yr Haf - Storiau a Chrefftau
DESCRIPTION:Ymunwch â ni yn Hyb Cil-y-coed i ddathlu Sialens Ddarllen yr Haf eleni\, Crefftwyr Campus gyda gweithdy Straeon a Chrefft! \nCliciwch y ddolen islaw i archebu! \nDydd Mawrth 23 Gorffennaf \nDydd Mawrth 6 Awst \nDydd Mawrth 20 Awst \n4 – 8 oed. \nNodwch fod rhaid i bob plentyn fod yng nghwmni oedolyn.
URL:https://www.monlife.co.uk/cy/event/sialens-ddarllen-yr-haf-storiau-a-chrefftau/2024-07-23/
LOCATION:Hyb Cymunedol Cil-y-Coed\, Woodstock Way\, Cil-y-Coed\, Sir Fynwy\, NP26 5DB\, United Kingdom
CATEGORIES:Gweithgareddau am ddim,Gwyliau'r Pasg,MonLife Treftadaeth
ATTACH;FMTTYPE=image/png:https://www.monlife.co.uk/wp-content/uploads/2024/06/SRC-Stories-CYM.png
END:VEVENT
BEGIN:VEVENT
DTSTART;TZID=Europe/London:20240724T100000
DTEND;TZID=Europe/London:20240724T110000
DTSTAMP:20260421T164424
CREATED:20240626T113529Z
LAST-MODIFIED:20240626T144826Z
UID:10003515-1721815200-1721818800@www.monlife.co.uk
SUMMARY:Sialens Ddarllen Yr Haf - Gweithdy Lego
DESCRIPTION:Ymunwch â ni am fore o Adeiladu Lego yn Hyb Cil-y-coed i’n helpu ni i ddathlu Sialens Ddarllen yr Haf eleni\, Crefftwyr Campus! \nCliciwch y ddolen islaw i archebu. \nDydd Mercher 24 Gorffennaf \nDydd Mercher 7 Awst \nDydd Mercher 14 Awst \nDydd Mercher 21 Awst \n5 – 9 oed. \nNodwch fod rhaid i bob plentyn fod yng nghwmni oedolyn.
URL:https://www.monlife.co.uk/cy/event/sialens-ddarllen-yr-haf/2024-07-24/
LOCATION:Hyb Cymunedol Cil-y-Coed\, Woodstock Way\, Cil-y-Coed\, Sir Fynwy\, NP26 5DB\, United Kingdom
CATEGORIES:Gweithgareddau am ddim,Gwyliau'r Pasg,MonLife Treftadaeth
ATTACH;FMTTYPE=image/png:https://www.monlife.co.uk/wp-content/uploads/2024/06/SRC-Lego-CYM.png
END:VEVENT
BEGIN:VEVENT
DTSTART;TZID=Europe/London:20240724T100000
DTEND;TZID=Europe/London:20240724T110000
DTSTAMP:20260421T164424
CREATED:20240709T103755Z
LAST-MODIFIED:20240710T084204Z
UID:10003549-1721815200-1721818800@www.monlife.co.uk
SUMMARY:Sialens Ddarllen Yr Haf - Straeon a Crefftau
DESCRIPTION:Ymunwch â ni yn Hyb Trefynwy i ddathlu Sialens Ddarllen yr Haf eleni\, ‘Crefftwyr Campus’ gyda gweithdy Straeon a Chrefft! \ncliciwch y ddolen islaw i archebu. \nDydd Mercher 24 Gorffennaf  \nDydd Mercher 31 Gorffennaf \nDydd Mercher 21 Awst \n4 – 8 oed. \nNodwch fod rhaid i bob plentyn fod yng nghwmni oedolyn.
URL:https://www.monlife.co.uk/cy/event/sialens-ddarllen-yr-haf-straeon-a-crefftau/2024-07-24/
LOCATION:Hyb Cymunedol Trefynwy\, Rolls Hall\, Whitecross St\, Trefynwy\, Sir Fynwy\, NP25 3BY\, United Kingdom
CATEGORIES:Gweithgareddau am ddim,Gwyliau'r Pasg,MonLife Treftadaeth
ATTACH;FMTTYPE=image/png:https://www.monlife.co.uk/wp-content/uploads/2024/07/SRC-BADGE-CYM-1-1.png
END:VEVENT
BEGIN:VEVENT
DTSTART;TZID=Europe/London:20240725T103000
DTEND;TZID=Europe/London:20240725T120000
DTSTAMP:20260421T164424
CREATED:20240710T124850Z
LAST-MODIFIED:20240710T130027Z
UID:10003558-1721903400-1721908800@www.monlife.co.uk
SUMMARY:Wythnos Blêr yn Hen Orsaf Tyndyrn
DESCRIPTION:Dewch i ddarganfod\, creu a dychwelyd i fyd natur ar un o’n sesiynau gweithgareddau sy’n seiliedig ar natur\, sy’n digwydd yn Hen Orsaf Tyndyrn haf eleni. Ar ddydd Iau 25ain Gorffennaf a dydd Iau 22ain Awst rydym yn dathlu popeth mwdlyd gyda’r Wythnos Flêr!!  Gallech greu anghenfil mwd\, gwneud eich brwsh paent natur eich hun\, gadael eich marc gyda phaentio mwd llaw a thraed a chael hwyl gyda ffyn swigod a blodau gwifren… \nPris y tocynnau yw £4 fesul plentyn (nid oes angen i oedolion archebu).   \nLleoliad: yn y babell ymestyn wrth ymyl y maes parcio gorlif   \nAmser dechrau: 10:30 tan tua chanol dydd!   \n\nMae’r holl ddeunyddiau crefft\, gan gynnwys clai\, yn cael eu darparu ar gyfer pob plentyn\nGall pob plentyn fynd â’i holl greadigaethau adref ar ddiwedd y sesiwn fel cofrodd\nMae pob plentyn yn derbyn tocyn trên am ddim i’r trên bach\, naill ai i’w ddefnyddio ar y diwrnod neu ar adeg arall\n\nTelerau ac Amodau\n\nAr gyfer y rhai 3 oed +\nMae angen un oedolyn ar gyfer pob tri phlentyn (nid oes angen i oedolion archebu lle)\nBydd y sesiwn yn cael ei goruchwylio gan un aelod o staff Hen Orsaf Tyndyrn\nUchafswm maint grŵp yw 10 o blant\nMae angen archebu lle o flaen llaw\nNi fydd unrhyw ad-daliadau
URL:https://www.monlife.co.uk/cy/event/messy-week-at-old-station-tintern/2024-07-25/
LOCATION:Yr Hen Orsaf\, Tyndyrn\, Tintern Heights\, Catbrook\, Brockweir\,\, Cas-gwent\, Sir Fynwy\, NP16 7NX\, United Kingdom
CATEGORIES:Gwyliau'r Pasg
ATTACH;FMTTYPE=image/jpeg:https://www.monlife.co.uk/wp-content/uploads/2024/07/AdobeStock_327889623.jpeg
ORGANIZER;CN="MonLife":MAILTO:-
END:VEVENT
BEGIN:VEVENT
DTSTART;TZID=Europe/London:20240726T110000
DTEND;TZID=Europe/London:20240726T120000
DTSTAMP:20260421T164424
CREATED:20240229T111258Z
LAST-MODIFIED:20240229T111428Z
UID:10001719-1721991600-1721995200@www.monlife.co.uk
SUMMARY:Little Explorer’s Club Nature Trail
DESCRIPTION:Gadewch i’ch plant ddod yn Little Explorer gyda sesiwn archwilio awr o amgylch Parc Gwledig Castell Cil-y-coed. Pris tocynnau yw £2 y plentyn (nid oes angen i oedolion archebu). \nMan cychwyn: Pont lifft Castell Cil-y-coed \nAr y llwybr natur bydd hela bygiau\, sylwi ar adar a bywyd gwyllt\, archwilio a sgwrs bush tucker. \nBydd pob plentyn yn cael gilet a het Clwb Little Explorer\, a bag gydag offer fforiwr (y gellir eu dychwelyd ar ddiwedd y sesiwn) \nBydd pob plentyn yn derbyn taflen drogod brintiedig ar gyfer pryfed\, adar a bywyd gwyllt i gofnodi’r hyn y maent wedi’i weld ac i’w gymryd i ffwrdd. \nAr ddiwedd pob sesiwn\, bydd pob plentyn yn derbyn tystysgrif cyfranogiad ‘Clwb Fforiwr Bach Haf o Hwyl’ a thaflen sticer chwilod 3D i’w chymryd fel mementos. \nAmseroedd (11am – canol dydd) \nTelerau ac Amodau \nAr gyfer oedran 3 – 7 \nUn oedolyn sy’n ofynnol ar gyfer pob dau blentyn (nid oes angen i oedolion archebu) \nBydd y daith gerdded yn cael ei goruchwylio gan un aelod o staff Castell Cil-y-coed \nUchafswm maint grŵp 10 o blant \nAngen archebu ymlaen llaw \nDim ad-daliadau ar gael​​
URL:https://www.monlife.co.uk/cy/event/little-explorers-club-nature-trail/2024-07-26/
LOCATION:Castell a Pharc Gwledig Cil-y-coed\, Church Rd\,\, Cil-y-Coed\, Sir Fynwy\, NP26 4HU\, United Kingdom
CATEGORIES:Gwyliau'r Pasg,MonLife Treftadaeth
ATTACH;FMTTYPE=image/jpeg:https://www.monlife.co.uk/wp-content/uploads/2024/02/boys-5630669_1280-e1709208762438.jpg
ORGANIZER;CN="MonLife":MAILTO:-
END:VEVENT
BEGIN:VEVENT
DTSTART;TZID=Europe/London:20240729T100000
DTEND;TZID=Europe/London:20240729T110000
DTSTAMP:20260421T164424
CREATED:20240711T094648Z
LAST-MODIFIED:20240711T095418Z
UID:10003566-1722247200-1722250800@www.monlife.co.uk
SUMMARY:Sialens Ddarllen Yr Haf - Straeon & Chrefftau
DESCRIPTION:Ymunwch â ni yn Hyb Cas-gwent i ddathlu Sialens Ddarllen yr Haf eleni ‘Crefftwyr Campus’ gyda gweithdy Straeon a Chrefft! \nCliciwch y ddolen islaw i archebu. \nDydd Llun 29 Gorffennaf  \nDydd Mercher 7 Awst  \nDydd Gwener 16 Awst \nDydd Gwener 23 Awst \n4 – 8 oed. \nNodwch fod rhaid i bob plentyn fod yng nghwmni oedolyn.
URL:https://www.monlife.co.uk/cy/event/sialens-ddarllen-yr-haf-straeon-chrefftau/2024-07-29/
LOCATION:Hyb Cymunedol Cas-gwent\, Manor Way\, Cas-gwent\, Sir Fynwy\, NP16 5HZ\, United Kingdom
CATEGORIES:Gweithgareddau am ddim,Gwyliau'r Pasg,MonLife Treftadaeth
ATTACH;FMTTYPE=image/png:https://www.monlife.co.uk/wp-content/uploads/2024/07/SRCsocial-tiles-5.png
END:VEVENT
BEGIN:VEVENT
DTSTART;TZID=Europe/London:20240729T100000
DTEND;TZID=Europe/London:20240809T150000
DTSTAMP:20260421T164424
CREATED:20240715T173607Z
LAST-MODIFIED:20240716T115014Z
UID:10003578-1722247200-1723215600@www.monlife.co.uk
SUMMARY:Ysgol Haf Theatr Ieuenctid Savoy
DESCRIPTION:Mae Dyfodol Creadigol/Cyngor Sir Fynwy yn cynnig ysgolion haf celfyddydau mynegiannol am ddim ledled y sir.  Mae’r rhaglenni hyn\, sydd yn 1 a 2 wythnos o hyd\, yn cynnig cyfle i gyfranogwyr gyflwyno’u meddyliau a’u syniadau a chreu darnau theatr.  Bydd yna hefyd yn gyfle i berfformio\, dylunio\, cwrdd â phobl ifanc eraill a chael hwyl.  Mae’r holl weithdai yn canolbwyntio ar ddathlu creadigrwydd\, meithrin hunan-barch a grymuso pobl ifanc. \nCliciwch ar y ddolen ganlynol i gael rhagor o wybodaeth am ddyddiadau a lleoliadau\nboroughtheatreabergavenny.co.uk
URL:https://www.monlife.co.uk/cy/event/ysgol-haf-theatr-ieuenctid-savoy/
LOCATION:Sir Fynwy
CATEGORIES:Gweithgareddau am ddim,Gwyliau'r Pasg,MonLife Treftadaeth
ATTACH;FMTTYPE=image/jpeg:https://www.monlife.co.uk/wp-content/uploads/2024/07/Monmouth-Theatre-Summer-School-Poster-scaled.jpg
ORGANIZER;CN="MonLife":MAILTO:-
END:VEVENT
BEGIN:VEVENT
DTSTART;TZID=Europe/London:20240731T100000
DTEND;TZID=Europe/London:20240731T110000
DTSTAMP:20260421T164424
CREATED:20240709T103755Z
LAST-MODIFIED:20240710T084204Z
UID:10003550-1722420000-1722423600@www.monlife.co.uk
SUMMARY:Sialens Ddarllen Yr Haf - Straeon a Crefftau
DESCRIPTION:Ymunwch â ni yn Hyb Trefynwy i ddathlu Sialens Ddarllen yr Haf eleni\, ‘Crefftwyr Campus’ gyda gweithdy Straeon a Chrefft! \ncliciwch y ddolen islaw i archebu. \nDydd Mercher 24 Gorffennaf  \nDydd Mercher 31 Gorffennaf \nDydd Mercher 21 Awst \n4 – 8 oed. \nNodwch fod rhaid i bob plentyn fod yng nghwmni oedolyn.
URL:https://www.monlife.co.uk/cy/event/sialens-ddarllen-yr-haf-straeon-a-crefftau/2024-07-31/
LOCATION:Hyb Cymunedol Trefynwy\, Rolls Hall\, Whitecross St\, Trefynwy\, Sir Fynwy\, NP25 3BY\, United Kingdom
CATEGORIES:Gweithgareddau am ddim,Gwyliau'r Pasg,MonLife Treftadaeth
ATTACH;FMTTYPE=image/png:https://www.monlife.co.uk/wp-content/uploads/2024/07/SRC-BADGE-CYM-1-1.png
END:VEVENT
BEGIN:VEVENT
DTSTART;TZID=Europe/London:20240731T110000
DTEND;TZID=Europe/London:20240731T120000
DTSTAMP:20260421T164424
CREATED:20240709T104310Z
LAST-MODIFIED:20240710T082800Z
UID:10003547-1722423600-1722427200@www.monlife.co.uk
SUMMARY:Sialens Ddarllen Yr Haf - Crefftau Drws Tylwyth Teg
DESCRIPTION:Ymunwch â ni yn Brynbuga i ddathlu Sialens Ddarllen yr Haf eleni\, ‘Crefftwyr Campus’ gyda Crefftau Drws Tylwyth Teg! \nCliciwch y ddolen islaw i archebu. \nhttps://www.eventbrite.co.uk/e/fairy-door-craft-summer-reading-challenge-tickets-940902453567?utm-campaign=social&utm-content=attendeeshare&utm-medium=discovery&utm-term=listing&utm-source=cp&aff=ebdsshcopyurl \n5 – 9 oed. \nNodwch fod rhaid i bob plentyn fod yng nghwmni oedolyn.
URL:https://www.monlife.co.uk/cy/event/sialens-ddarllen-yr-haf-crefftau-drws-tylwyth-teg/
LOCATION:Hyb Cymunedol Brynbuga\, 35 Maryport St\, Brynbuga\, Sir Fynwy\, NP15 1AE\, United Kingdom
CATEGORIES:Gweithgareddau am ddim,Gwyliau'r Pasg,MonLife Treftadaeth
ATTACH;FMTTYPE=image/png:https://www.monlife.co.uk/wp-content/uploads/2024/07/SRC-Fairy-Door-CYM.png
END:VEVENT
END:VCALENDAR