BEGIN:VCALENDAR
VERSION:2.0
PRODID:-//Monlife - ECPv6.15.18//NONSGML v1.0//EN
CALSCALE:GREGORIAN
METHOD:PUBLISH
X-WR-CALNAME:Monlife
X-ORIGINAL-URL:https://www.monlife.co.uk/cy/
X-WR-CALDESC:Events for Monlife
REFRESH-INTERVAL;VALUE=DURATION:PT1H
X-Robots-Tag:noindex
X-PUBLISHED-TTL:PT1H
BEGIN:VTIMEZONE
TZID:Europe/London
BEGIN:DAYLIGHT
TZOFFSETFROM:+0000
TZOFFSETTO:+0100
TZNAME:BST
DTSTART:20230326T010000
END:DAYLIGHT
BEGIN:STANDARD
TZOFFSETFROM:+0100
TZOFFSETTO:+0000
TZNAME:GMT
DTSTART:20231029T010000
END:STANDARD
BEGIN:DAYLIGHT
TZOFFSETFROM:+0000
TZOFFSETTO:+0100
TZNAME:BST
DTSTART:20240331T010000
END:DAYLIGHT
BEGIN:STANDARD
TZOFFSETFROM:+0100
TZOFFSETTO:+0000
TZNAME:GMT
DTSTART:20241027T010000
END:STANDARD
BEGIN:DAYLIGHT
TZOFFSETFROM:+0000
TZOFFSETTO:+0100
TZNAME:BST
DTSTART:20250330T010000
END:DAYLIGHT
BEGIN:STANDARD
TZOFFSETFROM:+0100
TZOFFSETTO:+0000
TZNAME:GMT
DTSTART:20251026T010000
END:STANDARD
END:VTIMEZONE
BEGIN:VEVENT
DTSTART;TZID=Europe/London:20241030T100000
DTEND;TZID=Europe/London:20241030T110000
DTSTAMP:20260423T133543
CREATED:20241001T101339Z
LAST-MODIFIED:20241001T121316Z
UID:10005265-1730282400-1730286000@www.monlife.co.uk
SUMMARY:Gweithdy Lego Calan Gaeaf
DESCRIPTION:Croeso i Weithdy Lego Calan Gaeaf! Paratowch am fore bwganllyd a chreadigol gyda hwyl adeiladu. Ymunwch â ni ddydd Mercher 30 Hydref 2024 am 10:00AM yn Hyb Cymunedol Cil-y-coed. Gadewch i’ch dychymyg redeg yn wyllt wrth i chi wneud eich dyfais Lego eich hun. Mae’r digwyddiad wyneb yn wyneb hwn yn beffaith ar gyfer plant 5-9 oed. Peidiwch â cholli’r cyfle yma i adeiladu\, chwarae a dathlu Calan Gaeaf gyda ni! \nMae’n bob plentyn fod yng nghwmni oedolyn. \nClicwch yma i archebu
URL:https://www.monlife.co.uk/cy/event/gweithdy-lego-calan-gaeaf/
LOCATION:Hyb Cymunedol Cil-y-Coed\, Woodstock Way\, Cil-y-Coed\, Sir Fynwy\, NP26 5DB\, United Kingdom
CATEGORIES:Gweithgareddau am ddim,Hanner Tymor Mis Mai,MonLife Treftadaeth
ATTACH;FMTTYPE=image/png:https://www.monlife.co.uk/wp-content/uploads/2024/10/Lego-Workshop-Instagram-Post-1.png
END:VEVENT
BEGIN:VEVENT
DTSTART;TZID=Europe/London:20241030T100000
DTEND;TZID=Europe/London:20241030T110000
DTSTAMP:20260423T133543
CREATED:20241010T133710Z
LAST-MODIFIED:20241010T134220Z
UID:10005295-1730282400-1730286000@www.monlife.co.uk
SUMMARY:Storïau a chrefftau'r Calan Gaeaf
DESCRIPTION:Dewch i ymuno â ni am fore bwganllyd llawn straeon fydd yn anfon ias lawr eich cefn a chrefftau i’ch cael i hwyl Calan Gaeaf! \nDydd Mercher 30ain Hydref 10.00-11.00 \n4-8 oed \nNid oes angen archebu lle \nRhaid i blant fod yng nghwmni oedolyn
URL:https://www.monlife.co.uk/cy/event/storiau-a-chrefftaur-calan-gaeaf-2/
LOCATION:Hyb Cymunedol Cil-y-Coed\, Woodstock Way\, Cil-y-Coed\, Sir Fynwy\, NP26 5DB\, United Kingdom
CATEGORIES:Gweithgareddau am ddim,Hanner Tymor Mis Mai,MonLife Treftadaeth
ATTACH;FMTTYPE=image/png:https://www.monlife.co.uk/wp-content/uploads/2024/10/Halloween-stories-and-craft-Monmouth-Instagram-Post.png
END:VEVENT
BEGIN:VEVENT
DTSTART;TZID=Europe/London:20241030T100000
DTEND;TZID=Europe/London:20241030T110000
DTSTAMP:20260423T133543
CREATED:20241028T152702Z
LAST-MODIFIED:20241028T153009Z
UID:10005926-1730282400-1730286000@www.monlife.co.uk
SUMMARY:Straeon a Chrefftau Calan Gaeaf
DESCRIPTION:4 – 8 oed. \nNid oes angen archebu lle. \nRhaid i blant fod yng nghwmni oedolyn.
URL:https://www.monlife.co.uk/cy/event/straeon-a-chrefftau-calan-gaeaf/
LOCATION:Hyb Cymunedol Trefynwy\, Rolls Hall\, Whitecross St\, Trefynwy\, Sir Fynwy\, NP25 3BY\, United Kingdom
CATEGORIES:Gweithgareddau am ddim,Hanner Tymor Mis Mai,MonLife Treftadaeth
ATTACH;FMTTYPE=image/png:https://www.monlife.co.uk/wp-content/uploads/2024/10/Halloween-stories-and-craft-Monmouth-Instagram-Post-1.png
END:VEVENT
BEGIN:VEVENT
DTSTART;TZID=Europe/London:20241030T100000
DTEND;TZID=Europe/London:20241030T113000
DTSTAMP:20260423T133543
CREATED:20241009T135233Z
LAST-MODIFIED:20241009T135432Z
UID:10005278-1730282400-1730287800@www.monlife.co.uk
SUMMARY:Calan Gaeaf Aros a Chwarae 2024! 
DESCRIPTION:Mae Aros a Chwarae Noson Calan Gaeaf yn ôl! Dewch yn eich hoff wisgoedd ffansi\, ac ymunwch yn hwyl Calan Gaeaf gyda phaentio wynebau! \nBydd angen caniatâd ar gyfer paentio wynebau\, a gellir rhoi hyn ar y diwrnod. \n\n\n\nSylwch fod angen goruchwyliaeth rhieni ar gyfer plant dan 11 oed! \nOs oes gennych unrhyw ymholiadau am y cynlluniau chwarae anfonwch e-bost at play@monmouthshire.gov.uk.  \n[embeddoc url=”https://www.monlife.co.uk/wp-content/uploads/2024/10/Stay-and-Play-October.pdf”]
URL:https://www.monlife.co.uk/cy/event/calan-gaeaf-aros-a-chwarae-2024/2024-10-30/1/
CATEGORIES:Gweithgareddau am ddim,Hanner Tymor Mis Mai,MonLife Cysylltu
ATTACH;FMTTYPE=image/png:https://www.monlife.co.uk/wp-content/uploads/2024/10/Stay-and-Play-06.png
ORGANIZER;CN="MonLife":MAILTO:-
END:VEVENT
BEGIN:VEVENT
DTSTART;TZID=Europe/London:20241030T100000
DTEND;TZID=Europe/London:20241030T150000
DTSTAMP:20260423T133543
CREATED:20241023T121201Z
LAST-MODIFIED:20241023T121604Z
UID:10005917-1730282400-1730300400@www.monlife.co.uk
SUMMARY:CYFRES ARSWYD Y FENNI - Rhaglen theatr ieuenctid
DESCRIPTION:CYFRES ARSWYD Y FENNI  \nRhaglen 4 diwrnod yn canolbwyntio ar ochr dywyllach bywyd. Yn seiliedig ar thema arswyd\, bydd pobl ifanc yn cael cyfle i fynegi eu hochrau gwyllt a threiddio i mewn i’r byd anesboniadwy a dirgel. Gan ddefnyddio gwisgoedd\, cerddoriaeth a’r elfen o syrpreis\, bydd y gyfres hon o sesiynau yn ymwneud â chael hwyl ac archwilio’r genre arswyd\, a’i ddefnyddio fel ffordd o adeiladu perfformiad\, gwneud ffrindiau a dathlu’r adeg o’r flwyddyn pan fyddwn ni i gyd yn dechrau cofleidio’r nosweithiau tywyll! \n\n11 – 19 oed\nDydd Llun 28ain Hydref – Dydd Iau 31ain Hydref\nAM DDIM\nTheatr Melville\, Y Fenni\n\nI gofrestru\, sganiwch y cod QR neu ewch i : \nArchebwch nawr
URL:https://www.monlife.co.uk/cy/event/cyfres-arswyd-y-fenni-rhaglen-theatr-ieuenctid/2024-10-30/
LOCATION:The Melville Centre\, 4 Pen-Y-Pound\, Abergavenny\, Monmouthshire\, NP7 5UD\, United Kingdom
CATEGORIES:Gweithgareddau am ddim,Hanner Tymor Mis Mai,MonLife Treftadaeth
ATTACH;FMTTYPE=image/jpeg:https://www.monlife.co.uk/wp-content/uploads/2024/10/6.jpg
ORGANIZER;CN="MonLife":MAILTO:-
END:VEVENT
BEGIN:VEVENT
DTSTART;TZID=Europe/London:20241030T100000
DTEND;TZID=Europe/London:20241030T150000
DTSTAMP:20260423T133543
CREATED:20241023T122428Z
LAST-MODIFIED:20241023T152324Z
UID:10005924-1730282400-1730300400@www.monlife.co.uk
SUMMARY:CYFRES ARSWYD CAS-GWENT - Rhaglen Theatr Ieuenctid
DESCRIPTION:CYFRES ARSWYD CAS-GWENT  \nYmunwch â ni am gyfres o sesiynau sy’n canolbwyntio ar y grefft o ddychryn\, swp a dirgelwch. Byddwn yn treiddio i mewn i’r tywyllwch\, yn cael hwyl gyda mynegiant ac yn datgelu’r dyfeisiau a’r technegau a ddefnyddir i greu pryder a thensiwn. \nBydd y sesiynau’n cynnwys gwaith byrfyfyr\, sgript a dylunio set/gwisgoedd. Bydd y cyfranogwyr yn cydweithio i greu cyfres o ddarnau\, gan hybu hyder\, dewrder a dychymyg. \n\n11 – 19 oed\nDydd Llun 28ain Hydref – Dydd Mercher 30ain Hydref\nAM DDIM\nNeuadd y Methodistiaid\, Cas-gwent\n\nI gofrestru ewch i  : \nArchebwch nawr
URL:https://www.monlife.co.uk/cy/event/cyfres-arswyd-cas-gwent-rhaglen-theatr-ieuenctid/2024-10-30/
CATEGORIES:Gweithgareddau am ddim,Hanner Tymor Mis Mai,MonLife Treftadaeth
ATTACH;FMTTYPE=image/jpeg:https://www.monlife.co.uk/wp-content/uploads/2024/10/7.jpg
ORGANIZER;CN="MonLife":MAILTO:-
END:VEVENT
BEGIN:VEVENT
DTSTART;TZID=Europe/London:20241030T103000
DTEND;TZID=Europe/London:20241030T113000
DTSTAMP:20260423T133543
CREATED:20241009T145113Z
LAST-MODIFIED:20241010T111927Z
UID:10005293-1730284200-1730287800@www.monlife.co.uk
SUMMARY:Crefftau Ty Bwganod
DESCRIPTION:Clicwch yma i archebu! \nDewch draw i Hyb Brynbuga yn ystod hanner tymor i beintio eich Tŷ Bwgan pren eich hun! \nAddas ar gyfer plant 5 – 9 oed. \nNodwch fod rhaid i bob plentyn fod yng nghwmni oedolyn.
URL:https://www.monlife.co.uk/cy/event/crefftau-ty-bwganod/
LOCATION:Hyb Cymunedol Brynbuga\, 35 Maryport St\, Brynbuga\, Sir Fynwy\, NP15 1AE\, United Kingdom
CATEGORIES:Gweithgareddau am ddim,Hanner Tymor Mis Mai,MonLife Treftadaeth
ATTACH;FMTTYPE=image/png:https://www.monlife.co.uk/wp-content/uploads/2024/10/Halloween-Usk-Hub-1.png
END:VEVENT
BEGIN:VEVENT
DTSTART;TZID=Europe/London:20241030T130000
DTEND;TZID=Europe/London:20241030T143000
DTSTAMP:20260423T133543
CREATED:20241009T135233Z
LAST-MODIFIED:20241009T135432Z
UID:10005279-1730293200-1730298600@www.monlife.co.uk
SUMMARY:Calan Gaeaf Aros a Chwarae 2024! 
DESCRIPTION:Mae Aros a Chwarae Noson Calan Gaeaf yn ôl! Dewch yn eich hoff wisgoedd ffansi\, ac ymunwch yn hwyl Calan Gaeaf gyda phaentio wynebau! \nBydd angen caniatâd ar gyfer paentio wynebau\, a gellir rhoi hyn ar y diwrnod. \n\n\n\nSylwch fod angen goruchwyliaeth rhieni ar gyfer plant dan 11 oed! \nOs oes gennych unrhyw ymholiadau am y cynlluniau chwarae anfonwch e-bost at play@monmouthshire.gov.uk.  \n[embeddoc url=”https://www.monlife.co.uk/wp-content/uploads/2024/10/Stay-and-Play-October.pdf”]
URL:https://www.monlife.co.uk/cy/event/calan-gaeaf-aros-a-chwarae-2024/2024-10-30/2/
CATEGORIES:Gweithgareddau am ddim,Hanner Tymor Mis Mai,MonLife Cysylltu
ATTACH;FMTTYPE=image/png:https://www.monlife.co.uk/wp-content/uploads/2024/10/Stay-and-Play-06.png
ORGANIZER;CN="MonLife":MAILTO:-
END:VEVENT
BEGIN:VEVENT
DTSTART;TZID=Europe/London:20241030T150000
DTEND;TZID=Europe/London:20241030T210000
DTSTAMP:20260423T133543
CREATED:20241022T130926Z
LAST-MODIFIED:20241022T131120Z
UID:10005906-1730300400-1730322000@www.monlife.co.uk
SUMMARY:Nos Galan Gaeaf yn yr AttiK
DESCRIPTION:Ymunwch â ni am ein parti Calan Gaeaf yn yr Attik \n\n\n\nGWISG FFANSI – FANCY DRESS DANTIETHION- TREATS GEMAU -GAMES\n\n\n\n 30/10/24\n 3-9pm
URL:https://www.monlife.co.uk/cy/event/nos-galan-gaeaf-yn-yr-attik/
LOCATION:Yr Attik\, Canolfan Ieuenctid Trefynwy\, Stryd Whitecross\, Trefynwy\, Sir Fynwy\, NP25 3XR\, United Kingdom
CATEGORIES:Gweithgareddau am ddim,Hanner Tymor Mis Mai
ATTACH;FMTTYPE=image/jpeg:https://www.monlife.co.uk/wp-content/uploads/2024/10/Untitled-design-2.jpg
ORGANIZER;CN="MonLife":MAILTO:-
END:VEVENT
END:VCALENDAR