BEGIN:VCALENDAR
VERSION:2.0
PRODID:-//Monlife - ECPv6.15.18//NONSGML v1.0//EN
CALSCALE:GREGORIAN
METHOD:PUBLISH
X-ORIGINAL-URL:https://www.monlife.co.uk/cy/
X-WR-CALDESC:Events for Monlife
REFRESH-INTERVAL;VALUE=DURATION:PT1H
X-Robots-Tag:noindex
X-PUBLISHED-TTL:PT1H
BEGIN:VTIMEZONE
TZID:Europe/London
BEGIN:DAYLIGHT
TZOFFSETFROM:+0000
TZOFFSETTO:+0100
TZNAME:BST
DTSTART:20230326T010000
END:DAYLIGHT
BEGIN:STANDARD
TZOFFSETFROM:+0100
TZOFFSETTO:+0000
TZNAME:GMT
DTSTART:20231029T010000
END:STANDARD
BEGIN:DAYLIGHT
TZOFFSETFROM:+0000
TZOFFSETTO:+0100
TZNAME:BST
DTSTART:20240331T010000
END:DAYLIGHT
BEGIN:STANDARD
TZOFFSETFROM:+0100
TZOFFSETTO:+0000
TZNAME:GMT
DTSTART:20241027T010000
END:STANDARD
BEGIN:DAYLIGHT
TZOFFSETFROM:+0000
TZOFFSETTO:+0100
TZNAME:BST
DTSTART:20250330T010000
END:DAYLIGHT
BEGIN:STANDARD
TZOFFSETFROM:+0100
TZOFFSETTO:+0000
TZNAME:GMT
DTSTART:20251026T010000
END:STANDARD
END:VTIMEZONE
BEGIN:VEVENT
DTSTART;TZID=Europe/London:20241017T080000
DTEND;TZID=Europe/London:20241017T170000
DTSTAMP:20260423T221635
CREATED:20241011T133131Z
LAST-MODIFIED:20241011T133355Z
UID:10009085-1729152000-1729184400@www.monlife.co.uk
SUMMARY:Amser Stori a Rhigwm Plant dan 5 oed
DESCRIPTION:Ymunwch â ni bob dydd Iau yn Hyb Brynbuga am straeon a rhigymau! \nNid oes angen archebu lle. \nRhaid i blant fod yng nghwmni oedolyn
URL:https://www.monlife.co.uk/cy/event/amser-stori-a-rhigwm-plant-dan-5-oed/2024-10-17/1/
LOCATION:Hyb Cymunedol Brynbuga\, 35 Maryport St\, Brynbuga\, Sir Fynwy\, NP15 1AE\, United Kingdom
CATEGORIES:Gweithgareddau am ddim,MonLife Treftadaeth
ATTACH;FMTTYPE=image/png:https://www.monlife.co.uk/wp-content/uploads/2024/10/rhyme-and-story-time-lou.png
END:VEVENT
BEGIN:VEVENT
DTSTART;TZID=Europe/London:20241017T103000
DTEND;TZID=Europe/London:20241017T110000
DTSTAMP:20260423T221635
CREATED:20241011T133131Z
LAST-MODIFIED:20241011T133355Z
UID:10005557-1729161000-1729162800@www.monlife.co.uk
SUMMARY:Amser Stori a Rhigwm Plant dan 5 oed
DESCRIPTION:Ymunwch â ni bob dydd Iau yn Hyb Brynbuga am straeon a rhigymau! \nNid oes angen archebu lle. \nRhaid i blant fod yng nghwmni oedolyn
URL:https://www.monlife.co.uk/cy/event/amser-stori-a-rhigwm-plant-dan-5-oed/2024-10-17/2/
LOCATION:Hyb Cymunedol Brynbuga\, 35 Maryport St\, Brynbuga\, Sir Fynwy\, NP15 1AE\, United Kingdom
CATEGORIES:Gweithgareddau am ddim,MonLife Treftadaeth
ATTACH;FMTTYPE=image/png:https://www.monlife.co.uk/wp-content/uploads/2024/10/rhyme-and-story-time-lou.png
END:VEVENT
END:VCALENDAR