BEGIN:VCALENDAR
VERSION:2.0
PRODID:-//Monlife - ECPv6.15.18//NONSGML v1.0//EN
CALSCALE:GREGORIAN
METHOD:PUBLISH
X-ORIGINAL-URL:https://www.monlife.co.uk/cy/
X-WR-CALDESC:Events for Monlife
REFRESH-INTERVAL;VALUE=DURATION:PT1H
X-Robots-Tag:noindex
X-PUBLISHED-TTL:PT1H
BEGIN:VTIMEZONE
TZID:Europe/London
BEGIN:DAYLIGHT
TZOFFSETFROM:+0000
TZOFFSETTO:+0100
TZNAME:BST
DTSTART:20230326T010000
END:DAYLIGHT
BEGIN:STANDARD
TZOFFSETFROM:+0100
TZOFFSETTO:+0000
TZNAME:GMT
DTSTART:20231029T010000
END:STANDARD
BEGIN:DAYLIGHT
TZOFFSETFROM:+0000
TZOFFSETTO:+0100
TZNAME:BST
DTSTART:20240331T010000
END:DAYLIGHT
BEGIN:STANDARD
TZOFFSETFROM:+0100
TZOFFSETTO:+0000
TZNAME:GMT
DTSTART:20241027T010000
END:STANDARD
BEGIN:DAYLIGHT
TZOFFSETFROM:+0000
TZOFFSETTO:+0100
TZNAME:BST
DTSTART:20250330T010000
END:DAYLIGHT
BEGIN:STANDARD
TZOFFSETFROM:+0100
TZOFFSETTO:+0000
TZNAME:GMT
DTSTART:20251026T010000
END:STANDARD
END:VTIMEZONE
BEGIN:VEVENT
DTSTART;TZID=Europe/London:20240829T110000
DTEND;TZID=Europe/London:20240829T130000
DTSTAMP:20260424T131613
CREATED:20240621T121651Z
LAST-MODIFIED:20240621T122247Z
UID:10003491-1724929200-1724936400@www.monlife.co.uk
SUMMARY:Byddwch yn greadigol gyda'r Llyngesydd Nelson yn Amgueddfa’r Neuadd Sirol
DESCRIPTION:?️ Ble: Amgueddfa’r Neuadd Sirol\n? Pryd: Dydd Llun\, 29ain Awst\n?Amser: 11:00 AM – 1:00 PM\nAhoi\, artistiaid ifanc! Ymunwch â ni am antur forwrol yn Amgueddfa’r Neuadd Sirol lle gall plant fod yn greadigol gyda gweithdy ar thema’r Llyngesydd Nelson. Plymiwch i mewn i hanes a gadewch i’ch dychymyg hwylio wrth i chi greu gwaith celf a ysbrydolwyd gan yr arwr llynges chwedlonol. \nPeidiwch â cholli’r cyfle cyffrous hwn i archwilio eich creadigrwydd a chael hwyl gyda ffrindiau a theulu. \nDarperir yr holl ddeunyddiau ac nid oes angen archebu lle. Galwch heibio yn ystod y digwyddiad a mwynhewch yr hwyl! \nCefnogir y digwyddiad gan Gronfa Treftadaeth y Loteri Genedlaethol.
URL:https://www.monlife.co.uk/cy/event/get-creative-with-admiral-nelson-at-shire-hall-museum/
LOCATION:Amgueddfa’r Neuadd Sirol\, Shire Hall\, Agincourt Square\,\, Trefynwy\, Sir Fynwy\, NP25 3DY\, United Kingdom
CATEGORIES:Gweithgareddau am ddim
ATTACH;FMTTYPE=image/jpeg:https://www.monlife.co.uk/wp-content/uploads/2024/06/AdobeStock_369214581-scaled.jpeg
ORGANIZER;CN="MonLife":MAILTO:-
END:VEVENT
END:VCALENDAR