BEGIN:VCALENDAR
VERSION:2.0
PRODID:-//Monlife - ECPv6.15.18//NONSGML v1.0//EN
CALSCALE:GREGORIAN
METHOD:PUBLISH
X-WR-CALNAME:Monlife
X-ORIGINAL-URL:https://www.monlife.co.uk/cy/
X-WR-CALDESC:Events for Monlife
REFRESH-INTERVAL;VALUE=DURATION:PT1H
X-Robots-Tag:noindex
X-PUBLISHED-TTL:PT1H
BEGIN:VTIMEZONE
TZID:Europe/London
BEGIN:DAYLIGHT
TZOFFSETFROM:+0000
TZOFFSETTO:+0100
TZNAME:BST
DTSTART:20230326T010000
END:DAYLIGHT
BEGIN:STANDARD
TZOFFSETFROM:+0100
TZOFFSETTO:+0000
TZNAME:GMT
DTSTART:20231029T010000
END:STANDARD
BEGIN:DAYLIGHT
TZOFFSETFROM:+0000
TZOFFSETTO:+0100
TZNAME:BST
DTSTART:20240331T010000
END:DAYLIGHT
BEGIN:STANDARD
TZOFFSETFROM:+0100
TZOFFSETTO:+0000
TZNAME:GMT
DTSTART:20241027T010000
END:STANDARD
BEGIN:DAYLIGHT
TZOFFSETFROM:+0000
TZOFFSETTO:+0100
TZNAME:BST
DTSTART:20250330T010000
END:DAYLIGHT
BEGIN:STANDARD
TZOFFSETFROM:+0100
TZOFFSETTO:+0000
TZNAME:GMT
DTSTART:20251026T010000
END:STANDARD
END:VTIMEZONE
BEGIN:VEVENT
DTSTART;TZID=Europe/London:20240813T100000
DTEND;TZID=Europe/London:20240813T120000
DTSTAMP:20260425T112715
CREATED:20240709T110301Z
LAST-MODIFIED:20240709T155309Z
UID:10003544-1723543200-1723550400@www.monlife.co.uk
SUMMARY:Sialens Ddarllen Yr Haf - Crefftau Origami
DESCRIPTION:Crëwch eich nod tudalen croner origami eich hun gyda ni! \nDim archebu. \n5 – 11 oed. \nNodwch fod rhaid i bob plentyn fod yng nghwmni oedolyn.
URL:https://www.monlife.co.uk/cy/event/sialens-ddarllen-yr-haf-crefftau-origami/
LOCATION:Hyb Cymunedol Y Fenni\, Town Hall\, Cross Street\, Y Fenni\, Sir Fynwy\, NP7 5HD\, United Kingdom
CATEGORIES:Gweithgareddau am ddim,Hanner Tymor Mis Mai,MonLife Treftadaeth
ATTACH;FMTTYPE=image/png:https://www.monlife.co.uk/wp-content/uploads/2024/07/SRC-CO-ENG-1.png
END:VEVENT
BEGIN:VEVENT
DTSTART;TZID=Europe/London:20240813T110000
DTEND;TZID=Europe/London:20240813T140000
DTSTAMP:20260425T112715
CREATED:20240621T104716Z
LAST-MODIFIED:20240621T104929Z
UID:10003485-1723546800-1723557600@www.monlife.co.uk
SUMMARY:Gwnewch eich printiau bloc eich hun o Drefynwy yn Amgueddfa’r Neuadd Sirol
DESCRIPTION: ?️Ble: Amgueddfa’r Neuadd Sirol\n? Pryd: Dydd Mawrth\, 13eg Awst\n?Amser: 11:00 AM – 2:00 PM\nParatowch am antur hwyliog ac artistig yn Amgueddfa’r Neuadd Sirol! Ymunwch â ni ar gyfer gweithdy argraffu bloc arbennig lle gall plant greu eu printiau unigryw eu hunain o Drefynwy. Dan arweiniad ein hyfforddwyr talentog\, byddwch yn dysgu’r grefft o argraffu â blociau a dod â harddwch Trefynwy’n fyw ar bapur. \nPeidiwch â cholli’r cyfle cyffrous hwn i archwilio eich creadigrwydd a chael hwyl gyda ffrindiau a theulu. \nDarperir yr holl ddeunyddiau ac nid oes angen archebu lle. Galwch heibio yn ystod y digwyddiad a mwynhewch yr hwyl! \nCefnogir y digwyddiad gan Gronfa Treftadaeth y Loteri Genedlaethol. \n 
URL:https://www.monlife.co.uk/cy/event/make-your-own-block-prints-of-monmouth-at-shire-hall-museum/
LOCATION:Amgueddfa’r Neuadd Sirol\, Shire Hall\, Agincourt Square\,\, Trefynwy\, Sir Fynwy\, NP25 3DY\, United Kingdom
CATEGORIES:Gweithgareddau am ddim
ATTACH;FMTTYPE=image/jpeg:https://www.monlife.co.uk/wp-content/uploads/2024/06/AdobeStock_114908956.jpeg
ORGANIZER;CN="MonLife":MAILTO:-
END:VEVENT
END:VCALENDAR