BEGIN:VCALENDAR
VERSION:2.0
PRODID:-//Monlife - ECPv6.15.18//NONSGML v1.0//EN
CALSCALE:GREGORIAN
METHOD:PUBLISH
X-ORIGINAL-URL:https://www.monlife.co.uk/cy/
X-WR-CALDESC:Events for Monlife
REFRESH-INTERVAL;VALUE=DURATION:PT1H
X-Robots-Tag:noindex
X-PUBLISHED-TTL:PT1H
BEGIN:VTIMEZONE
TZID:Europe/London
BEGIN:DAYLIGHT
TZOFFSETFROM:+0000
TZOFFSETTO:+0100
TZNAME:BST
DTSTART:20230326T010000
END:DAYLIGHT
BEGIN:STANDARD
TZOFFSETFROM:+0100
TZOFFSETTO:+0000
TZNAME:GMT
DTSTART:20231029T010000
END:STANDARD
BEGIN:DAYLIGHT
TZOFFSETFROM:+0000
TZOFFSETTO:+0100
TZNAME:BST
DTSTART:20240331T010000
END:DAYLIGHT
BEGIN:STANDARD
TZOFFSETFROM:+0100
TZOFFSETTO:+0000
TZNAME:GMT
DTSTART:20241027T010000
END:STANDARD
BEGIN:DAYLIGHT
TZOFFSETFROM:+0000
TZOFFSETTO:+0100
TZNAME:BST
DTSTART:20250330T010000
END:DAYLIGHT
BEGIN:STANDARD
TZOFFSETFROM:+0100
TZOFFSETTO:+0000
TZNAME:GMT
DTSTART:20251026T010000
END:STANDARD
END:VTIMEZONE
BEGIN:VEVENT
DTSTART;TZID=Europe/London:20240729T100000
DTEND;TZID=Europe/London:20240809T150000
DTSTAMP:20260424T131555
CREATED:20240715T173607Z
LAST-MODIFIED:20240716T115014Z
UID:10003578-1722247200-1723215600@www.monlife.co.uk
SUMMARY:Ysgol Haf Theatr Ieuenctid Savoy
DESCRIPTION:Mae Dyfodol Creadigol/Cyngor Sir Fynwy yn cynnig ysgolion haf celfyddydau mynegiannol am ddim ledled y sir.  Mae’r rhaglenni hyn\, sydd yn 1 a 2 wythnos o hyd\, yn cynnig cyfle i gyfranogwyr gyflwyno’u meddyliau a’u syniadau a chreu darnau theatr.  Bydd yna hefyd yn gyfle i berfformio\, dylunio\, cwrdd â phobl ifanc eraill a chael hwyl.  Mae’r holl weithdai yn canolbwyntio ar ddathlu creadigrwydd\, meithrin hunan-barch a grymuso pobl ifanc. \nCliciwch ar y ddolen ganlynol i gael rhagor o wybodaeth am ddyddiadau a lleoliadau\nboroughtheatreabergavenny.co.uk
URL:https://www.monlife.co.uk/cy/event/ysgol-haf-theatr-ieuenctid-savoy/
CATEGORIES:Gweithgareddau am ddim,Hanner Tymor Mis Mai,MonLife Treftadaeth
ATTACH;FMTTYPE=image/jpeg:https://www.monlife.co.uk/wp-content/uploads/2024/07/Monmouth-Theatre-Summer-School-Poster-scaled.jpg
ORGANIZER;CN="MonLife":MAILTO:-
END:VEVENT
BEGIN:VEVENT
DTSTART;TZID=Europe/London:20240806T100000
DTEND;TZID=Europe/London:20240806T120000
DTSTAMP:20260424T131555
CREATED:20240709T105953Z
LAST-MODIFIED:20240710T083449Z
UID:10003548-1722938400-1722945600@www.monlife.co.uk
SUMMARY:Sialens Ddarllen Yr Haf - Gwnewch Fathodyn
DESCRIPTION:Dylunio a chreu eich bathodyn eich hun! \nDim archebu. \n5 – 11 oed. \nNodwch fod rhaid i bob plentyn fod yng nghwmni oedolyn.
URL:https://www.monlife.co.uk/cy/event/sialens-ddarllen-yr-haf-gwnewch-fathodyn-2/
LOCATION:Hyb Cymunedol Y Fenni\, Town Hall\, Cross Street\, Y Fenni\, Sir Fynwy\, NP7 5HD\, United Kingdom
CATEGORIES:Gweithgareddau am ddim,Hanner Tymor Mis Mai,MonLife Treftadaeth
ATTACH;FMTTYPE=image/png:https://www.monlife.co.uk/wp-content/uploads/2024/07/SRC-BADGE-CYM-1.png
END:VEVENT
BEGIN:VEVENT
DTSTART;TZID=Europe/London:20240806T100000
DTEND;TZID=Europe/London:20240806T160000
DTSTAMP:20260424T131555
CREATED:20240619T155422Z
LAST-MODIFIED:20240619T155847Z
UID:10003474-1722938400-1722960000@www.monlife.co.uk
SUMMARY:Tŵr dringo MonLife - Yr Hen Orsaf\, Tyndyrn
DESCRIPTION:Ydych chi a’ch teulu yn barod am her? Rydym yn gyffrous i rannu gyda chi ar gyfer haf eleni\, rydym yn croesawu tŵr dringo symudol\, trwy garedigrwydd Canolfan Addysg Awyr Agored Gilwern! \nBydd y wal yma yng Yr Hen Orsaf\, Tyndyrn ar y 6ain Awst! Yn ddelfrydol ar gyfer plant 7+ oherwydd maint yr offer\, rydym yn cynghori gwisgo dillad rhydd ac esgidiau cadarn (dim crocs\, sandalau na sliperi!). \nBydd staff hyfforddedig yma i’ch cefnogi chi a’ch teulu wrth i chi ddringo! \nByddwch yn gallu rhoi eich enw i lawr ar y diwrnod i sicrhau slot amser!
URL:https://www.monlife.co.uk/cy/event/twr-dringo-monlife-yr-hen-orsaf-tyndyrn/
LOCATION:Yr Hen Orsaf\, Tyndyrn\, Tintern Heights\, Catbrook\, Brockweir\,\, Cas-gwent\, Sir Fynwy\, NP16 7NX\, United Kingdom
CATEGORIES:Gweithgareddau am ddim,MonLife Treftadaeth
ATTACH;FMTTYPE=image/png:https://www.monlife.co.uk/wp-content/uploads/2024/06/Untitled-design-16.png
ORGANIZER;CN="MonLife":MAILTO:-
END:VEVENT
BEGIN:VEVENT
DTSTART;TZID=Europe/London:20240806T140000
DTEND;TZID=Europe/London:20240806T150000
DTSTAMP:20260424T131555
CREATED:20240626T111436Z
LAST-MODIFIED:20240626T144935Z
UID:10003513-1722952800-1722956400@www.monlife.co.uk
SUMMARY:Sialens Ddarllen Yr Haf - Storiau a Chrefftau
DESCRIPTION:Ymunwch â ni yn Hyb Cil-y-coed i ddathlu Sialens Ddarllen yr Haf eleni\, Crefftwyr Campus gyda gweithdy Straeon a Chrefft! \nCliciwch y ddolen islaw i archebu! \nDydd Mawrth 23 Gorffennaf \nDydd Mawrth 6 Awst \nDydd Mawrth 20 Awst \n4 – 8 oed. \nNodwch fod rhaid i bob plentyn fod yng nghwmni oedolyn.
URL:https://www.monlife.co.uk/cy/event/sialens-ddarllen-yr-haf-storiau-a-chrefftau/2024-08-06/
LOCATION:Hyb Cymunedol Cil-y-Coed\, Woodstock Way\, Cil-y-Coed\, Sir Fynwy\, NP26 5DB\, United Kingdom
CATEGORIES:Gweithgareddau am ddim,Hanner Tymor Mis Mai,MonLife Treftadaeth
ATTACH;FMTTYPE=image/png:https://www.monlife.co.uk/wp-content/uploads/2024/06/SRC-Stories-CYM.png
END:VEVENT
END:VCALENDAR