BEGIN:VCALENDAR
VERSION:2.0
PRODID:-//Monlife - ECPv6.15.18//NONSGML v1.0//EN
CALSCALE:GREGORIAN
METHOD:PUBLISH
X-ORIGINAL-URL:https://www.monlife.co.uk/cy/
X-WR-CALDESC:Events for Monlife
REFRESH-INTERVAL;VALUE=DURATION:PT1H
X-Robots-Tag:noindex
X-PUBLISHED-TTL:PT1H
BEGIN:VTIMEZONE
TZID:Europe/London
BEGIN:DAYLIGHT
TZOFFSETFROM:+0000
TZOFFSETTO:+0100
TZNAME:BST
DTSTART:20230326T010000
END:DAYLIGHT
BEGIN:STANDARD
TZOFFSETFROM:+0100
TZOFFSETTO:+0000
TZNAME:GMT
DTSTART:20231029T010000
END:STANDARD
BEGIN:DAYLIGHT
TZOFFSETFROM:+0000
TZOFFSETTO:+0100
TZNAME:BST
DTSTART:20240331T010000
END:DAYLIGHT
BEGIN:STANDARD
TZOFFSETFROM:+0100
TZOFFSETTO:+0000
TZNAME:GMT
DTSTART:20241027T010000
END:STANDARD
BEGIN:DAYLIGHT
TZOFFSETFROM:+0000
TZOFFSETTO:+0100
TZNAME:BST
DTSTART:20250330T010000
END:DAYLIGHT
BEGIN:STANDARD
TZOFFSETFROM:+0100
TZOFFSETTO:+0000
TZNAME:GMT
DTSTART:20251026T010000
END:STANDARD
END:VTIMEZONE
BEGIN:VEVENT
DTSTART;TZID=Europe/London:20240729T100000
DTEND;TZID=Europe/London:20240809T150000
DTSTAMP:20260424T070952
CREATED:20240715T173607Z
LAST-MODIFIED:20240716T115014Z
UID:10003578-1722247200-1723215600@www.monlife.co.uk
SUMMARY:Ysgol Haf Theatr Ieuenctid Savoy
DESCRIPTION:Mae Dyfodol Creadigol/Cyngor Sir Fynwy yn cynnig ysgolion haf celfyddydau mynegiannol am ddim ledled y sir.  Mae’r rhaglenni hyn\, sydd yn 1 a 2 wythnos o hyd\, yn cynnig cyfle i gyfranogwyr gyflwyno’u meddyliau a’u syniadau a chreu darnau theatr.  Bydd yna hefyd yn gyfle i berfformio\, dylunio\, cwrdd â phobl ifanc eraill a chael hwyl.  Mae’r holl weithdai yn canolbwyntio ar ddathlu creadigrwydd\, meithrin hunan-barch a grymuso pobl ifanc. \nCliciwch ar y ddolen ganlynol i gael rhagor o wybodaeth am ddyddiadau a lleoliadau\nboroughtheatreabergavenny.co.uk
URL:https://www.monlife.co.uk/cy/event/ysgol-haf-theatr-ieuenctid-savoy/
CATEGORIES:Gweithgareddau am ddim,Hanner Tymor Mis Mai,MonLife Treftadaeth
ATTACH;FMTTYPE=image/jpeg:https://www.monlife.co.uk/wp-content/uploads/2024/07/Monmouth-Theatre-Summer-School-Poster-scaled.jpg
ORGANIZER;CN="MonLife":MAILTO:-
END:VEVENT
BEGIN:VEVENT
DTSTART;VALUE=DATE:20240802
DTEND;VALUE=DATE:20240805
DTSTAMP:20260424T070952
CREATED:20231027T101629Z
LAST-MODIFIED:20250911T141914Z
UID:10000621-1722556800-1722815999@www.monlife.co.uk
SUMMARY:Nofio AM DDIM
DESCRIPTION:Gall rhai dan 16 hefyd fwynhau nofio am ddim yn eich canolfan hamdden MonLife yn Weithredol leol yn ystod yr amseroedd canlynol: \n\nCanolfan Hamdden Cas-gwent: Dydd Gwener rhwng 6:00pm – 7:00pm\nCanolfan Hamdden y Fenni: Dydd Gwener rhwng 8.00pm – 9.00pm\nCanolfan Hamdden Trefynwy: Dydd Sadwrn rhwng 3:0pm – 4:15pm (Am ddim i rai 16 oed ac iau gyda cherdyn MonLife)\nCanolfan Hamdden Cil-y-coed: Dydd Sadwrn rhwng 11.30am a 12.45pm\n\nDarganfod mwy: https://www.monlife.co.uk/cy/monactive/swimming/
URL:https://www.monlife.co.uk/cy/event/nofio-am-ddim/2024-08-02/
LOCATION:Canolfan Hamdden y Fenni\, Hen Ffordd Henffordd\, Y Fenni\, Sir Fynwy\, NP7 6EP\, United Kingdom
CATEGORIES:Gweithgareddau am ddim
ATTACH;FMTTYPE=image/png:https://www.monlife.co.uk/wp-content/uploads/2023/10/Untitled-design-9.png
ORGANIZER;CN="MonLife":MAILTO:-
END:VEVENT
BEGIN:VEVENT
DTSTART;TZID=Europe/London:20240802T110000
DTEND;TZID=Europe/London:20240802T160000
DTSTAMP:20260424T070952
CREATED:20240531T100239Z
LAST-MODIFIED:20240619T160326Z
UID:10003440-1722596400-1722614400@www.monlife.co.uk
SUMMARY:Tŵr dringo MonLife - Castell Cil-y-coed
DESCRIPTION:Ydych chi a’ch teulu yn barod am her? Rydym yn gyffrous i rannu gyda chi ar gyfer haf eleni\, rydym yn croesawu tŵr dringo symudol\, trwy garedigrwydd Canolfan Addysg Awyr Agored Gilwern! \nBydd y wal yma yng Nghastell Cil-y-coed ar y 26ain Gorffennaf a’r 2il\, 9fed a’r 30ain o Awst! Yn ddelfrydol ar gyfer plant 7+ oherwydd maint yr offer\, rydym yn cynghori gwisgo dillad rhydd ac esgidiau cadarn (dim crocs\, sandalau na sliperi!). \nBydd staff hyfforddedig yma i’ch cefnogi chi a’ch teulu wrth i chi ddringo! \nByddwch yn gallu rhoi eich enw i lawr ar y diwrnod i sicrhau slot amser!
URL:https://www.monlife.co.uk/cy/event/twr-dringo-monlife/2024-08-02/
LOCATION:Castell a Pharc Gwledig Cil-y-coed\, Church Rd\,\, Cil-y-Coed\, Sir Fynwy\, NP26 4HU\, United Kingdom
CATEGORIES:Gweithgareddau am ddim,MonLife Treftadaeth
ATTACH;FMTTYPE=image/png:https://www.monlife.co.uk/wp-content/uploads/2024/05/Untitled-design-12.png
ORGANIZER;CN="MonLife":MAILTO:-
END:VEVENT
END:VCALENDAR