BEGIN:VCALENDAR
VERSION:2.0
PRODID:-//Monlife - ECPv6.15.18//NONSGML v1.0//EN
CALSCALE:GREGORIAN
METHOD:PUBLISH
X-ORIGINAL-URL:https://www.monlife.co.uk/cy/
X-WR-CALDESC:Events for Monlife
REFRESH-INTERVAL;VALUE=DURATION:PT1H
X-Robots-Tag:noindex
X-PUBLISHED-TTL:PT1H
BEGIN:VTIMEZONE
TZID:Europe/London
BEGIN:DAYLIGHT
TZOFFSETFROM:+0000
TZOFFSETTO:+0100
TZNAME:BST
DTSTART:20230326T010000
END:DAYLIGHT
BEGIN:STANDARD
TZOFFSETFROM:+0100
TZOFFSETTO:+0000
TZNAME:GMT
DTSTART:20231029T010000
END:STANDARD
BEGIN:DAYLIGHT
TZOFFSETFROM:+0000
TZOFFSETTO:+0100
TZNAME:BST
DTSTART:20240331T010000
END:DAYLIGHT
BEGIN:STANDARD
TZOFFSETFROM:+0100
TZOFFSETTO:+0000
TZNAME:GMT
DTSTART:20241027T010000
END:STANDARD
BEGIN:DAYLIGHT
TZOFFSETFROM:+0000
TZOFFSETTO:+0100
TZNAME:BST
DTSTART:20250330T010000
END:DAYLIGHT
BEGIN:STANDARD
TZOFFSETFROM:+0100
TZOFFSETTO:+0000
TZNAME:GMT
DTSTART:20251026T010000
END:STANDARD
END:VTIMEZONE
BEGIN:VEVENT
DTSTART;VALUE=DATE:20240325
DTEND;VALUE=DATE:20240407
DTSTAMP:20260425T155512
CREATED:20240325T124302Z
LAST-MODIFIED:20240325T135229Z
UID:10001810-1711324800-1712447999@www.monlife.co.uk
SUMMARY:Ymunwch â’n Helfa Wyau Pasg
DESCRIPTION:Drwy’r Hanner Tymor! \nDim archebu.
URL:https://www.monlife.co.uk/cy/event/ymunwch-an-helfa-wyau-pasg-2/
LOCATION:Hyb Cymunedol Trefynwy\, Rolls Hall\, Whitecross St\, Trefynwy\, Sir Fynwy\, NP25 3BY\, United Kingdom
CATEGORIES:Gweithgareddau am ddim,Hanner Tymor Mis Mai,MonLife Treftadaeth
ATTACH;FMTTYPE=image/png:https://www.monlife.co.uk/wp-content/uploads/2024/03/Egg-hunt-Monmouth.png
END:VEVENT
BEGIN:VEVENT
DTSTART;TZID=Europe/London:20240325T110000
DTEND;TZID=Europe/London:20240406T160000
DTSTAMP:20260425T155512
CREATED:20240315T114714Z
LAST-MODIFIED:20240322T121741Z
UID:10001786-1711364400-1712419200@www.monlife.co.uk
SUMMARY:Llwybr Teulu Rolls
DESCRIPTION:Cychwyn ar daith hwyliog trwy Neuadd y Sir hanesyddol wrth i ni ddarganfod cyfrinachau’r teulu Rolls enwog. Gyda’n llwybr AM DDIM\, bydd eich rhai bach yn dod yn dditectifs\, yn hela am drysorau cudd ac yn datrys cliwiau ym mhob ystafell. 5-11 oed.
URL:https://www.monlife.co.uk/cy/event/rolls-family-trail/
LOCATION:Amgueddfa’r Neuadd Sirol\, Shire Hall\, Agincourt Square\,\, Trefynwy\, Sir Fynwy\, NP25 3DY\, United Kingdom
CATEGORIES:Gweithgareddau am ddim,Hanner Tymor Mis Mai,MonLife Treftadaeth
ATTACH;FMTTYPE=image/png:https://www.monlife.co.uk/wp-content/uploads/2024/03/Rolls-Family-Trail-01.png
ORGANIZER;CN="MonLife":MAILTO:-
END:VEVENT
BEGIN:VEVENT
DTSTART;TZID=Europe/London:20240403T100000
DTEND;TZID=Europe/London:20240403T110000
DTSTAMP:20260425T155512
CREATED:20240319T154659Z
LAST-MODIFIED:20240319T154907Z
UID:10001798-1712138400-1712142000@www.monlife.co.uk
SUMMARY:Gweithdy Lego
DESCRIPTION:Byddwch yn greadigol gyda ni y Pasg hwn drwy ddod lawr i Hyb Cil-y-coed am fore o hwyl yn y Gweithdy Lego! \nArchebu yma! \nAddas ar gyfer plant 5 – 9 oed. \nNodwch fod rhaid i bob plentyn fod yng nghwmni oedolyn.
URL:https://www.monlife.co.uk/cy/event/gweithdy-lego-5/
LOCATION:Hyb Cymunedol Cil-y-Coed\, Woodstock Way\, Cil-y-Coed\, Sir Fynwy\, NP26 5DB\, United Kingdom
CATEGORIES:Gweithgareddau am ddim,Hanner Tymor Mis Mai,MonLife Treftadaeth
ATTACH;FMTTYPE=image/png:https://www.monlife.co.uk/wp-content/uploads/2024/01/Lego-Workshop-Caldicot-Social-Media.png
END:VEVENT
BEGIN:VEVENT
DTSTART;TZID=Europe/London:20240403T101500
DTEND;TZID=Europe/London:20240403T110000
DTSTAMP:20260425T155512
CREATED:20240325T124926Z
LAST-MODIFIED:20240325T133618Z
UID:10001806-1712139300-1712142000@www.monlife.co.uk
SUMMARY:Sesiwn Amser Stori Dwyieithog Cymraeg a Saesneg
DESCRIPTION:Sesiwn Amser Stori Dwyieithog Cymraeg a Saesneg gyda Naomi Keevil a Tamar Eluned Williams: ‘Molly a’r Môr Stormus’. \nDim archebu.
URL:https://www.monlife.co.uk/cy/event/sesiwn-amser-stori-dwyieithog-cymraeg-a-saesneg/
LOCATION:Hyb Cymunedol Y Fenni\, Town Hall\, Cross Street\, Y Fenni\, Sir Fynwy\, NP7 5HD\, United Kingdom
CATEGORIES:Gweithgareddau am ddim,Hanner Tymor Mis Mai,MonLife Treftadaeth
ATTACH;FMTTYPE=image/png:https://www.monlife.co.uk/wp-content/uploads/2024/03/Molly-the-Stormy-Sea-ABVY.png
END:VEVENT
END:VCALENDAR