BEGIN:VCALENDAR
VERSION:2.0
PRODID:-//Monlife - ECPv6.15.18//NONSGML v1.0//EN
CALSCALE:GREGORIAN
METHOD:PUBLISH
X-WR-CALNAME:Monlife
X-ORIGINAL-URL:https://www.monlife.co.uk/cy/
X-WR-CALDESC:Events for Monlife
REFRESH-INTERVAL;VALUE=DURATION:PT1H
X-Robots-Tag:noindex
X-PUBLISHED-TTL:PT1H
BEGIN:VTIMEZONE
TZID:Europe/London
BEGIN:DAYLIGHT
TZOFFSETFROM:+0000
TZOFFSETTO:+0100
TZNAME:BST
DTSTART:20230326T010000
END:DAYLIGHT
BEGIN:STANDARD
TZOFFSETFROM:+0100
TZOFFSETTO:+0000
TZNAME:GMT
DTSTART:20231029T010000
END:STANDARD
BEGIN:DAYLIGHT
TZOFFSETFROM:+0000
TZOFFSETTO:+0100
TZNAME:BST
DTSTART:20240331T010000
END:DAYLIGHT
BEGIN:STANDARD
TZOFFSETFROM:+0100
TZOFFSETTO:+0000
TZNAME:GMT
DTSTART:20241027T010000
END:STANDARD
BEGIN:DAYLIGHT
TZOFFSETFROM:+0000
TZOFFSETTO:+0100
TZNAME:BST
DTSTART:20250330T010000
END:DAYLIGHT
BEGIN:STANDARD
TZOFFSETFROM:+0100
TZOFFSETTO:+0000
TZNAME:GMT
DTSTART:20251026T010000
END:STANDARD
END:VTIMEZONE
BEGIN:VEVENT
DTSTART;VALUE=DATE:20240301
DTEND;VALUE=DATE:20240304
DTSTAMP:20260425T153121
CREATED:20231027T101629Z
LAST-MODIFIED:20250911T141914Z
UID:10000599-1709251200-1709510399@www.monlife.co.uk
SUMMARY:Nofio AM DDIM
DESCRIPTION:Gall rhai dan 16 hefyd fwynhau nofio am ddim yn eich canolfan hamdden MonLife yn Weithredol leol yn ystod yr amseroedd canlynol: \n\nCanolfan Hamdden Cas-gwent: Dydd Gwener rhwng 6:00pm – 7:00pm\nCanolfan Hamdden y Fenni: Dydd Gwener rhwng 8.00pm – 9.00pm\nCanolfan Hamdden Trefynwy: Dydd Sadwrn rhwng 3:0pm – 4:15pm (Am ddim i rai 16 oed ac iau gyda cherdyn MonLife)\nCanolfan Hamdden Cil-y-coed: Dydd Sadwrn rhwng 11.30am a 12.45pm\n\nDarganfod mwy: https://www.monlife.co.uk/cy/monactive/swimming/
URL:https://www.monlife.co.uk/cy/event/nofio-am-ddim/2024-03-01/
LOCATION:Canolfan Hamdden y Fenni\, Hen Ffordd Henffordd\, Y Fenni\, Sir Fynwy\, NP7 6EP\, United Kingdom
CATEGORIES:Gweithgareddau am ddim
ATTACH;FMTTYPE=image/png:https://www.monlife.co.uk/wp-content/uploads/2023/10/Untitled-design-9.png
ORGANIZER;CN="MonLife":MAILTO:-
END:VEVENT
BEGIN:VEVENT
DTSTART;TZID=Europe/London:20240307T103000
DTEND;TZID=Europe/London:20240307T113000
DTSTAMP:20260425T153121
CREATED:20240229T120554Z
LAST-MODIFIED:20240229T163834Z
UID:10001753-1709807400-1709811000@www.monlife.co.uk
SUMMARY:Stori Arth a Chrefftau
DESCRIPTION:Archebu yma! \nAddas ar gyfer plant 3 – 5 oed. \nNodwch fod rhaid i bob plentyn fod yng nghwmni oedolyn.
URL:https://www.monlife.co.uk/cy/event/stori-arth-a-chrefftau/
LOCATION:Hyb Cymunedol Brynbuga\, 35 Maryport St\, Brynbuga\, Sir Fynwy\, NP15 1AE\, United Kingdom
CATEGORIES:Gweithgareddau am ddim,Hanner Tymor Mis Mai,MonLife Treftadaeth
ATTACH;FMTTYPE=image/png:https://www.monlife.co.uk/wp-content/uploads/2024/02/Bear-Hunt-Usk-Hub-Lou.png
END:VEVENT
BEGIN:VEVENT
DTSTART;VALUE=DATE:20240308
DTEND;VALUE=DATE:20240311
DTSTAMP:20260425T153121
CREATED:20231027T101629Z
LAST-MODIFIED:20250911T141914Z
UID:10000600-1709856000-1710115199@www.monlife.co.uk
SUMMARY:Nofio AM DDIM
DESCRIPTION:Gall rhai dan 16 hefyd fwynhau nofio am ddim yn eich canolfan hamdden MonLife yn Weithredol leol yn ystod yr amseroedd canlynol: \n\nCanolfan Hamdden Cas-gwent: Dydd Gwener rhwng 6:00pm – 7:00pm\nCanolfan Hamdden y Fenni: Dydd Gwener rhwng 8.00pm – 9.00pm\nCanolfan Hamdden Trefynwy: Dydd Sadwrn rhwng 3:0pm – 4:15pm (Am ddim i rai 16 oed ac iau gyda cherdyn MonLife)\nCanolfan Hamdden Cil-y-coed: Dydd Sadwrn rhwng 11.30am a 12.45pm\n\nDarganfod mwy: https://www.monlife.co.uk/cy/monactive/swimming/
URL:https://www.monlife.co.uk/cy/event/nofio-am-ddim/2024-03-08/
LOCATION:Canolfan Hamdden y Fenni\, Hen Ffordd Henffordd\, Y Fenni\, Sir Fynwy\, NP7 6EP\, United Kingdom
CATEGORIES:Gweithgareddau am ddim
ATTACH;FMTTYPE=image/png:https://www.monlife.co.uk/wp-content/uploads/2023/10/Untitled-design-9.png
ORGANIZER;CN="MonLife":MAILTO:-
END:VEVENT
BEGIN:VEVENT
DTSTART;TZID=Europe/London:20240309T103000
DTEND;TZID=Europe/London:20240309T113000
DTSTAMP:20260425T153121
CREATED:20240229T120928Z
LAST-MODIFIED:20240229T163534Z
UID:10001752-1709980200-1709983800@www.monlife.co.uk
SUMMARY:Gweithdy Lego
DESCRIPTION:Archebu yma! \nAddas ar gyfer plant 5 – 9 oed. \nNodwch fod rhaid i bob plentyn fod yng nghwmni oedolyn.
URL:https://www.monlife.co.uk/cy/event/gweithdy-lego-4/
LOCATION:Hyb Cymunedol Cil-y-Coed\, Woodstock Way\, Cil-y-Coed\, Sir Fynwy\, NP26 5DB\, United Kingdom
CATEGORIES:Gweithgareddau am ddim,Hanner Tymor Mis Mai,MonLife Treftadaeth
ATTACH;FMTTYPE=image/png:https://www.monlife.co.uk/wp-content/uploads/2024/01/Lego-Workshop-Caldicot-Social-Media.png
END:VEVENT
BEGIN:VEVENT
DTSTART;VALUE=DATE:20240315
DTEND;VALUE=DATE:20240318
DTSTAMP:20260425T153121
CREATED:20231027T101629Z
LAST-MODIFIED:20250911T141914Z
UID:10000601-1710460800-1710719999@www.monlife.co.uk
SUMMARY:Nofio AM DDIM
DESCRIPTION:Gall rhai dan 16 hefyd fwynhau nofio am ddim yn eich canolfan hamdden MonLife yn Weithredol leol yn ystod yr amseroedd canlynol: \n\nCanolfan Hamdden Cas-gwent: Dydd Gwener rhwng 6:00pm – 7:00pm\nCanolfan Hamdden y Fenni: Dydd Gwener rhwng 8.00pm – 9.00pm\nCanolfan Hamdden Trefynwy: Dydd Sadwrn rhwng 3:0pm – 4:15pm (Am ddim i rai 16 oed ac iau gyda cherdyn MonLife)\nCanolfan Hamdden Cil-y-coed: Dydd Sadwrn rhwng 11.30am a 12.45pm\n\nDarganfod mwy: https://www.monlife.co.uk/cy/monactive/swimming/
URL:https://www.monlife.co.uk/cy/event/nofio-am-ddim/2024-03-15/
LOCATION:Canolfan Hamdden y Fenni\, Hen Ffordd Henffordd\, Y Fenni\, Sir Fynwy\, NP7 6EP\, United Kingdom
CATEGORIES:Gweithgareddau am ddim
ATTACH;FMTTYPE=image/png:https://www.monlife.co.uk/wp-content/uploads/2023/10/Untitled-design-9.png
ORGANIZER;CN="MonLife":MAILTO:-
END:VEVENT
BEGIN:VEVENT
DTSTART;VALUE=DATE:20240322
DTEND;VALUE=DATE:20240325
DTSTAMP:20260425T153121
CREATED:20231027T101629Z
LAST-MODIFIED:20250911T141914Z
UID:10000602-1711065600-1711324799@www.monlife.co.uk
SUMMARY:Nofio AM DDIM
DESCRIPTION:Gall rhai dan 16 hefyd fwynhau nofio am ddim yn eich canolfan hamdden MonLife yn Weithredol leol yn ystod yr amseroedd canlynol: \n\nCanolfan Hamdden Cas-gwent: Dydd Gwener rhwng 6:00pm – 7:00pm\nCanolfan Hamdden y Fenni: Dydd Gwener rhwng 8.00pm – 9.00pm\nCanolfan Hamdden Trefynwy: Dydd Sadwrn rhwng 3:0pm – 4:15pm (Am ddim i rai 16 oed ac iau gyda cherdyn MonLife)\nCanolfan Hamdden Cil-y-coed: Dydd Sadwrn rhwng 11.30am a 12.45pm\n\nDarganfod mwy: https://www.monlife.co.uk/cy/monactive/swimming/
URL:https://www.monlife.co.uk/cy/event/nofio-am-ddim/2024-03-22/
LOCATION:Canolfan Hamdden y Fenni\, Hen Ffordd Henffordd\, Y Fenni\, Sir Fynwy\, NP7 6EP\, United Kingdom
CATEGORIES:Gweithgareddau am ddim
ATTACH;FMTTYPE=image/png:https://www.monlife.co.uk/wp-content/uploads/2023/10/Untitled-design-9.png
ORGANIZER;CN="MonLife":MAILTO:-
END:VEVENT
BEGIN:VEVENT
DTSTART;VALUE=DATE:20240325
DTEND;VALUE=DATE:20240407
DTSTAMP:20260425T153121
CREATED:20240325T124302Z
LAST-MODIFIED:20240325T135229Z
UID:10001810-1711324800-1712447999@www.monlife.co.uk
SUMMARY:Ymunwch â’n Helfa Wyau Pasg
DESCRIPTION:Drwy’r Hanner Tymor! \nDim archebu.
URL:https://www.monlife.co.uk/cy/event/ymunwch-an-helfa-wyau-pasg-2/
LOCATION:Hyb Cymunedol Trefynwy\, Rolls Hall\, Whitecross St\, Trefynwy\, Sir Fynwy\, NP25 3BY\, United Kingdom
CATEGORIES:Gweithgareddau am ddim,Hanner Tymor Mis Mai,MonLife Treftadaeth
ATTACH;FMTTYPE=image/png:https://www.monlife.co.uk/wp-content/uploads/2024/03/Egg-hunt-Monmouth.png
END:VEVENT
BEGIN:VEVENT
DTSTART;TZID=Europe/London:20240325T110000
DTEND;TZID=Europe/London:20240406T160000
DTSTAMP:20260425T153121
CREATED:20240315T114714Z
LAST-MODIFIED:20240322T121741Z
UID:10001786-1711364400-1712419200@www.monlife.co.uk
SUMMARY:Llwybr Teulu Rolls
DESCRIPTION:Cychwyn ar daith hwyliog trwy Neuadd y Sir hanesyddol wrth i ni ddarganfod cyfrinachau’r teulu Rolls enwog. Gyda’n llwybr AM DDIM\, bydd eich rhai bach yn dod yn dditectifs\, yn hela am drysorau cudd ac yn datrys cliwiau ym mhob ystafell. 5-11 oed.
URL:https://www.monlife.co.uk/cy/event/rolls-family-trail/
LOCATION:Amgueddfa’r Neuadd Sirol\, Shire Hall\, Agincourt Square\,\, Trefynwy\, Sir Fynwy\, NP25 3DY\, United Kingdom
CATEGORIES:Gweithgareddau am ddim,Hanner Tymor Mis Mai,MonLife Treftadaeth
ATTACH;FMTTYPE=image/png:https://www.monlife.co.uk/wp-content/uploads/2024/03/Rolls-Family-Trail-01.png
ORGANIZER;CN="MonLife":MAILTO:-
END:VEVENT
BEGIN:VEVENT
DTSTART;VALUE=DATE:20240326
DTEND;VALUE=DATE:20240329
DTSTAMP:20260425T153121
CREATED:20240325T124106Z
LAST-MODIFIED:20240325T155258Z
UID:10001809-1711411200-1711670399@www.monlife.co.uk
SUMMARY:Ymunwch â’n Helfa Wyau Pasg
DESCRIPTION:Drwy’r dydd! \nDim archebu.
URL:https://www.monlife.co.uk/cy/event/ymunwch-an-helfa-wyau-pasg/
LOCATION:Hyb Cymunedol Y Fenni\, Town Hall\, Cross Street\, Y Fenni\, Sir Fynwy\, NP7 5HD\, United Kingdom
CATEGORIES:Gweithgareddau am ddim,Hanner Tymor Mis Mai,MonLife Treftadaeth
ATTACH;FMTTYPE=image/png:https://www.monlife.co.uk/wp-content/uploads/2024/03/Easter-Egg-Hunt-ABVY-1.png
END:VEVENT
BEGIN:VEVENT
DTSTART;TZID=Europe/London:20240326T110000
DTEND;TZID=Europe/London:20240326T150000
DTSTAMP:20260425T153121
CREATED:20240315T120008Z
LAST-MODIFIED:20240315T120305Z
UID:10001788-1711450800-1711465200@www.monlife.co.uk
SUMMARY:Twrnamaint pêl-droed 6 bob ochr
DESCRIPTION:Gweithgaredd Gwyliau’r Pasg! Twrnamaint pêl-droed 6 bob ochr am ddim\, yng Nghanolfan Hamdden Cil-y-coed ar 26/03/2024. Oed 11 (*blwyddyn 7*) i 16. Defnyddiwch y ddolen (https://forms.office.com/e/jM74VJh7nH) i gofrestru! Y dyddiad cau ar gyfer y digwyddiad hwn yw 22/03/2024. **Mae angen i ffurflenni caniatâd gael eu llenwi gan oedolyn â chyfrifoldeb rhiant.**
URL:https://www.monlife.co.uk/cy/event/twrnamaint-pel-droed-6-bob-ochr/
LOCATION:Canolfan Hamdden Cil-y-coed\, Lôn y Felin\, Cil-y-Coed\, Sir Fynwy\, NP26 4BN\, United Kingdom
CATEGORIES:Gweithgareddau am ddim,Hanner Tymor Mis Mai,MonLife Cysylltu,MonLife Yn Weithredol
ATTACH;FMTTYPE=image/jpeg:https://www.monlife.co.uk/wp-content/uploads/2024/03/DSC02701-scaled.jpg
ORGANIZER;CN="MonLife":MAILTO:-
END:VEVENT
BEGIN:VEVENT
DTSTART;TZID=Europe/London:20240326T140000
DTEND;TZID=Europe/London:20240326T150000
DTSTAMP:20260425T153121
CREATED:20240229T121302Z
LAST-MODIFIED:20240319T114202Z
UID:10001751-1711461600-1711465200@www.monlife.co.uk
SUMMARY:Amser Stori a Chrefftau yn ystod y Pasg
DESCRIPTION:Ymunwch â ni yn Hyb Cil-y-coed yn ystod Gwyliau’r Pasg ar gyfer gweithgaredd Amser Stori a Chrefft arbennig ar gyfer y Pasg! \nArchebu yma! \nAddas ar gyfer plant 4 – 8 oed. \nNodwch fod rhaid i bob plentyn fod yng nghwmni oedolyn.
URL:https://www.monlife.co.uk/cy/event/amser-stori-a-chrefftau-yn-ystod-y-pasg/
LOCATION:Hyb Cymunedol Cil-y-Coed\, Woodstock Way\, Cil-y-Coed\, Sir Fynwy\, NP26 5DB\, United Kingdom
CATEGORIES:Gweithgareddau am ddim,Hanner Tymor Mis Mai,MonLife Treftadaeth
ATTACH;FMTTYPE=image/png:https://www.monlife.co.uk/wp-content/uploads/2024/02/Easter-Story-Time-Craft-Instagram-Post-1.png
END:VEVENT
BEGIN:VEVENT
DTSTART;TZID=Europe/London:20240327T100000
DTEND;TZID=Europe/London:20240327T110000
DTSTAMP:20260425T153121
CREATED:20240229T121457Z
LAST-MODIFIED:20240325T135324Z
UID:10001750-1711533600-1711537200@www.monlife.co.uk
SUMMARY:Gweithdy Lego
DESCRIPTION:Byddwch yn greadigol gyda ni y Pasg hwn drwy ddod lawr i Hyb Cil-y-coed am fore o hwyl yn y Gweithdy Lego! \nArchebu yma! \nAddas ar gyfer plant 5 – 9 oed. \nNodwch fod rhaid i bob plentyn fod yng nghwmni oedolyn.
URL:https://www.monlife.co.uk/cy/event/gweithdy-lego-3/
LOCATION:Hyb Cymunedol Cil-y-Coed\, Woodstock Way\, Cil-y-Coed\, Sir Fynwy\, NP26 5DB\, United Kingdom
CATEGORIES:Gweithgareddau am ddim,Hanner Tymor Mis Mai,MonLife Treftadaeth
ATTACH;FMTTYPE=image/png:https://www.monlife.co.uk/wp-content/uploads/2024/01/Lego-Workshop-Caldicot-Social-Media.png
END:VEVENT
BEGIN:VEVENT
DTSTART;TZID=Europe/London:20240327T101500
DTEND;TZID=Europe/London:20240327T104500
DTSTAMP:20260425T153121
CREATED:20240325T124640Z
LAST-MODIFIED:20240325T133922Z
UID:10001807-1711534500-1711536300@www.monlife.co.uk
SUMMARY:Amser Stori a Chrefftau yn ystod y Pasg
DESCRIPTION:Ymunwch â ni yn Hyb Y Fenni yn ystod Gwyliau’r Pasg ar gyfer gweithgaredd Amser Stori a Chrefft arbennig ar gyfer y Pasg! \nDim archebu.
URL:https://www.monlife.co.uk/cy/event/amser-stori-a-chrefftau-yn-ystod-y-pasg-2/2024-03-27/1/
LOCATION:Hyb Cymunedol Y Fenni\, Town Hall\, Cross Street\, Y Fenni\, Sir Fynwy\, NP7 5HD\, United Kingdom
CATEGORIES:Gweithgareddau am ddim,Hanner Tymor Mis Mai,MonLife Treftadaeth
ATTACH;FMTTYPE=image/png:https://www.monlife.co.uk/wp-content/uploads/2024/03/Easter-Stories-Crafts-ABVY-1.png
END:VEVENT
BEGIN:VEVENT
DTSTART;TZID=Europe/London:20240327T103000
DTEND;TZID=Europe/London:20240327T113000
DTSTAMP:20260425T153121
CREATED:20240318T153323Z
LAST-MODIFIED:20240319T113850Z
UID:10001796-1711535400-1711539000@www.monlife.co.uk
SUMMARY:Storïau a Chrefftau'r Pasg
DESCRIPTION:Ymunwch â ni yn Hyb Trefynwy yn ystod Gwyliau’r Pasg ar gyfer gweithgaredd Amser Stori a Chrefft arbennig ar gyfer y Pasg! \nDim archebu. \n4 – 8 oed. \nNodwch fod rhaid i bob plentyn fod yng nghwmni oedolyn.
URL:https://www.monlife.co.uk/cy/event/storiau-a-chrefftaur-pasg/
LOCATION:Hyb Cymunedol Trefynwy\, Rolls Hall\, Whitecross St\, Trefynwy\, Sir Fynwy\, NP25 3BY\, United Kingdom
CATEGORIES:Gweithgareddau am ddim,Hanner Tymor Mis Mai,MonLife Treftadaeth
ATTACH;FMTTYPE=image/png:https://www.monlife.co.uk/wp-content/uploads/2024/03/Monmouth-Easter-Instagram-Post-1.png
END:VEVENT
BEGIN:VEVENT
DTSTART;TZID=Europe/London:20240327T110000
DTEND;TZID=Europe/London:20240327T120000
DTSTAMP:20260425T153121
CREATED:20240229T121756Z
LAST-MODIFIED:20240319T113627Z
UID:10001749-1711537200-1711540800@www.monlife.co.uk
SUMMARY:Crefftau Clychau’r Gwynt
DESCRIPTION:Ymunwch â ni yn Hyb Brynbuga yn ystod Gwyliau’r Pasg am sesiwn Crefft Chwythbrennau lle byddwch yn gwneud eich clychau gwynt eich hun! \nArchebu yma! \nAddas ar gyfer plant 6+ \nNodwch fod rhaid i bob plentyn fod yng nghwmni oedolyn.
URL:https://www.monlife.co.uk/cy/event/crefftau-clychaur-gwynt/
LOCATION:Hyb Cymunedol Brynbuga\, 35 Maryport St\, Brynbuga\, Sir Fynwy\, NP15 1AE\, United Kingdom
CATEGORIES:Gweithgareddau am ddim,Hanner Tymor Mis Mai,MonLife Treftadaeth
ATTACH;FMTTYPE=image/png:https://www.monlife.co.uk/wp-content/uploads/2024/02/windchime-Usk-Hub-Lou.png
END:VEVENT
BEGIN:VEVENT
DTSTART;TZID=Europe/London:20240327T141500
DTEND;TZID=Europe/London:20240327T144500
DTSTAMP:20260425T153121
CREATED:20240325T124640Z
LAST-MODIFIED:20240325T133922Z
UID:10001808-1711548900-1711550700@www.monlife.co.uk
SUMMARY:Amser Stori a Chrefftau yn ystod y Pasg
DESCRIPTION:Ymunwch â ni yn Hyb Y Fenni yn ystod Gwyliau’r Pasg ar gyfer gweithgaredd Amser Stori a Chrefft arbennig ar gyfer y Pasg! \nDim archebu.
URL:https://www.monlife.co.uk/cy/event/amser-stori-a-chrefftau-yn-ystod-y-pasg-2/2024-03-27/2/
LOCATION:Hyb Cymunedol Y Fenni\, Town Hall\, Cross Street\, Y Fenni\, Sir Fynwy\, NP7 5HD\, United Kingdom
CATEGORIES:Gweithgareddau am ddim,Hanner Tymor Mis Mai,MonLife Treftadaeth
ATTACH;FMTTYPE=image/png:https://www.monlife.co.uk/wp-content/uploads/2024/03/Easter-Stories-Crafts-ABVY-1.png
END:VEVENT
BEGIN:VEVENT
DTSTART;TZID=Europe/London:20240328T103000
DTEND;TZID=Europe/London:20240328T113000
DTSTAMP:20260425T153121
CREATED:20240229T122156Z
LAST-MODIFIED:20240319T113529Z
UID:10001748-1711621800-1711625400@www.monlife.co.uk
SUMMARY:Stori Bwni a Chrefftau
DESCRIPTION:Dewch lawr i Hyb Brynbuga yn ystod Hanner Tymor y Pasg ac ymunwch â ni am fore o Straeon a Chrefftau Bwni! \nArchebu yma! \nAddas ar gyfer plant 2 – 5 oed. \nNodwch fod rhaid i bob plentyn fod yng nghwmni oedolyn.
URL:https://www.monlife.co.uk/cy/event/stori-bwni-a-chrefftau/
LOCATION:Hyb Cymunedol Brynbuga\, 35 Maryport St\, Brynbuga\, Sir Fynwy\, NP15 1AE\, United Kingdom
CATEGORIES:Gweithgareddau am ddim,Hanner Tymor Mis Mai,MonLife Treftadaeth
ATTACH;FMTTYPE=image/png:https://www.monlife.co.uk/wp-content/uploads/2024/02/Bunny-Story-Craft-Lou-1-1.png
END:VEVENT
BEGIN:VEVENT
DTSTART;VALUE=DATE:20240329
DTEND;VALUE=DATE:20240402
DTSTAMP:20260425T153121
CREATED:20231027T101629Z
LAST-MODIFIED:20250911T141914Z
UID:10000603-1711670400-1711933199@www.monlife.co.uk
SUMMARY:Nofio AM DDIM
DESCRIPTION:Gall rhai dan 16 hefyd fwynhau nofio am ddim yn eich canolfan hamdden MonLife yn Weithredol leol yn ystod yr amseroedd canlynol: \n\nCanolfan Hamdden Cas-gwent: Dydd Gwener rhwng 6:00pm – 7:00pm\nCanolfan Hamdden y Fenni: Dydd Gwener rhwng 8.00pm – 9.00pm\nCanolfan Hamdden Trefynwy: Dydd Sadwrn rhwng 3:0pm – 4:15pm (Am ddim i rai 16 oed ac iau gyda cherdyn MonLife)\nCanolfan Hamdden Cil-y-coed: Dydd Sadwrn rhwng 11.30am a 12.45pm\n\nDarganfod mwy: https://www.monlife.co.uk/cy/monactive/swimming/
URL:https://www.monlife.co.uk/cy/event/nofio-am-ddim/2024-03-29/
LOCATION:Canolfan Hamdden y Fenni\, Hen Ffordd Henffordd\, Y Fenni\, Sir Fynwy\, NP7 6EP\, United Kingdom
CATEGORIES:Gweithgareddau am ddim
ATTACH;FMTTYPE=image/png:https://www.monlife.co.uk/wp-content/uploads/2023/10/Untitled-design-9.png
ORGANIZER;CN="MonLife":MAILTO:-
END:VEVENT
END:VCALENDAR