BEGIN:VCALENDAR
VERSION:2.0
PRODID:-//Monlife - ECPv6.15.18//NONSGML v1.0//EN
CALSCALE:GREGORIAN
METHOD:PUBLISH
X-WR-CALNAME:Monlife
X-ORIGINAL-URL:https://www.monlife.co.uk/cy/
X-WR-CALDESC:Events for Monlife
REFRESH-INTERVAL;VALUE=DURATION:PT1H
X-Robots-Tag:noindex
X-PUBLISHED-TTL:PT1H
BEGIN:VTIMEZONE
TZID:Europe/London
BEGIN:DAYLIGHT
TZOFFSETFROM:+0000
TZOFFSETTO:+0100
TZNAME:BST
DTSTART:20250330T010000
END:DAYLIGHT
BEGIN:STANDARD
TZOFFSETFROM:+0100
TZOFFSETTO:+0000
TZNAME:GMT
DTSTART:20251026T010000
END:STANDARD
BEGIN:DAYLIGHT
TZOFFSETFROM:+0000
TZOFFSETTO:+0100
TZNAME:BST
DTSTART:20260329T010000
END:DAYLIGHT
BEGIN:STANDARD
TZOFFSETFROM:+0100
TZOFFSETTO:+0000
TZNAME:GMT
DTSTART:20261025T010000
END:STANDARD
BEGIN:DAYLIGHT
TZOFFSETFROM:+0000
TZOFFSETTO:+0100
TZNAME:BST
DTSTART:20270328T010000
END:DAYLIGHT
BEGIN:STANDARD
TZOFFSETFROM:+0100
TZOFFSETTO:+0000
TZNAME:GMT
DTSTART:20271031T010000
END:STANDARD
END:VTIMEZONE
BEGIN:VEVENT
DTSTART;VALUE=DATE:20260327
DTEND;VALUE=DATE:20260331
DTSTAMP:20260425T150713
CREATED:20231027T101629Z
LAST-MODIFIED:20250911T141914Z
UID:10000707-1774569600-1774832399@www.monlife.co.uk
SUMMARY:Nofio AM DDIM
DESCRIPTION:Gall rhai dan 16 hefyd fwynhau nofio am ddim yn eich canolfan hamdden MonLife yn Weithredol leol yn ystod yr amseroedd canlynol: \n\nCanolfan Hamdden Cas-gwent: Dydd Gwener rhwng 6:00pm – 7:00pm\nCanolfan Hamdden y Fenni: Dydd Gwener rhwng 8.00pm – 9.00pm\nCanolfan Hamdden Trefynwy: Dydd Sadwrn rhwng 3:0pm – 4:15pm (Am ddim i rai 16 oed ac iau gyda cherdyn MonLife)\nCanolfan Hamdden Cil-y-coed: Dydd Sadwrn rhwng 11.30am a 12.45pm\n\nDarganfod mwy: https://www.monlife.co.uk/cy/monactive/swimming/
URL:https://www.monlife.co.uk/cy/event/nofio-am-ddim/2026-03-27/
LOCATION:Canolfan Hamdden y Fenni\, Hen Ffordd Henffordd\, Y Fenni\, Sir Fynwy\, NP7 6EP\, United Kingdom
CATEGORIES:Gweithgareddau am ddim
ATTACH;FMTTYPE=image/png:https://www.monlife.co.uk/wp-content/uploads/2023/10/Untitled-design-9.png
ORGANIZER;CN="MonLife":MAILTO:-
END:VEVENT
BEGIN:VEVENT
DTSTART;TZID=Europe/London:20260327T180000
DTEND;TZID=Europe/London:20260327T200000
DTSTAMP:20260425T150714
CREATED:20260318T150025Z
LAST-MODIFIED:20260318T150157Z
UID:10009263-1774634400-1774641600@www.monlife.co.uk
SUMMARY:Disgo Pasg!
DESCRIPTION:Dewch i fwynhau noson llawn llawer o gemau hwyliog\, defnydd o’r Premier Play Centre\, a bocs pryd blasus i bob plentyn. Bydd digon o weithgareddau i gadw’r plant yn brysur ac yn cael amser bendigedig. \n📆27/03/2026\, 6-8pm \n👧Oedran/Ages 4-11 \n💰£11.50 \nEwch i’r dderbynfa i archebu eich lle.
URL:https://www.monlife.co.uk/cy/event/disgo-pasg/
LOCATION:Canolfan Hamdden Trefynwy\, Old Dixton Rd\, Trefynwy\, Sir Fynwy\, NP25 3DP\, United Kingdom
CATEGORIES:Hanner Tymor Mis Mai,MonLife Yn Weithredol
ATTACH;FMTTYPE=image/png:https://www.monlife.co.uk/wp-content/uploads/2026/03/1a674b86-1.png
ORGANIZER;CN="MonLife":MAILTO:-
END:VEVENT
END:VCALENDAR