BEGIN:VCALENDAR
VERSION:2.0
PRODID:-//Monlife - ECPv6.15.18//NONSGML v1.0//EN
CALSCALE:GREGORIAN
METHOD:PUBLISH
X-ORIGINAL-URL:https://www.monlife.co.uk/cy/
X-WR-CALDESC:Events for Monlife
REFRESH-INTERVAL;VALUE=DURATION:PT1H
X-Robots-Tag:noindex
X-PUBLISHED-TTL:PT1H
BEGIN:VTIMEZONE
TZID:Europe/London
BEGIN:DAYLIGHT
TZOFFSETFROM:+0000
TZOFFSETTO:+0100
TZNAME:BST
DTSTART:20240331T010000
END:DAYLIGHT
BEGIN:STANDARD
TZOFFSETFROM:+0100
TZOFFSETTO:+0000
TZNAME:GMT
DTSTART:20241027T010000
END:STANDARD
BEGIN:DAYLIGHT
TZOFFSETFROM:+0000
TZOFFSETTO:+0100
TZNAME:BST
DTSTART:20250330T010000
END:DAYLIGHT
BEGIN:STANDARD
TZOFFSETFROM:+0100
TZOFFSETTO:+0000
TZNAME:GMT
DTSTART:20251026T010000
END:STANDARD
BEGIN:DAYLIGHT
TZOFFSETFROM:+0000
TZOFFSETTO:+0100
TZNAME:BST
DTSTART:20260329T010000
END:DAYLIGHT
BEGIN:STANDARD
TZOFFSETFROM:+0100
TZOFFSETTO:+0000
TZNAME:GMT
DTSTART:20261025T010000
END:STANDARD
END:VTIMEZONE
BEGIN:VEVENT
DTSTART;VALUE=DATE:20251205
DTEND;VALUE=DATE:20251208
DTSTAMP:20260424T020848
CREATED:20231027T101629Z
LAST-MODIFIED:20250911T141914Z
UID:10000691-1764892800-1765151999@www.monlife.co.uk
SUMMARY:Nofio AM DDIM
DESCRIPTION:Gall rhai dan 16 hefyd fwynhau nofio am ddim yn eich canolfan hamdden MonLife yn Weithredol leol yn ystod yr amseroedd canlynol: \n\nCanolfan Hamdden Cas-gwent: Dydd Gwener rhwng 6:00pm – 7:00pm\nCanolfan Hamdden y Fenni: Dydd Gwener rhwng 8.00pm – 9.00pm\nCanolfan Hamdden Trefynwy: Dydd Sadwrn rhwng 3:0pm – 4:15pm (Am ddim i rai 16 oed ac iau gyda cherdyn MonLife)\nCanolfan Hamdden Cil-y-coed: Dydd Sadwrn rhwng 11.30am a 12.45pm\n\nDarganfod mwy: https://www.monlife.co.uk/cy/monactive/swimming/
URL:https://www.monlife.co.uk/cy/event/nofio-am-ddim/2025-12-05/
LOCATION:Canolfan Hamdden y Fenni\, Hen Ffordd Henffordd\, Y Fenni\, Sir Fynwy\, NP7 6EP\, United Kingdom
CATEGORIES:Gweithgareddau am ddim
ATTACH;FMTTYPE=image/png:https://www.monlife.co.uk/wp-content/uploads/2023/10/Untitled-design-9.png
ORGANIZER;CN="MonLife":MAILTO:-
END:VEVENT
BEGIN:VEVENT
DTSTART;TZID=Europe/London:20251207T103000
DTEND;TZID=Europe/London:20251207T150000
DTSTAMP:20260424T020848
CREATED:20251127T102518Z
LAST-MODIFIED:20251127T112820Z
UID:10009142-1765103400-1765119600@www.monlife.co.uk
SUMMARY:Llwybr Nadolig!
DESCRIPTION:Helpwch Sion Corn i ddod o hyd i’w geirw coll! \nDewch i ymuno a’n Llwybr Nadolig! \nYn Dechrau yng Nghanolfan Groeso Cas-gwent \n\n29ed Tachwedd i 24ain Rhagfyr. £3.50 y llwybr\n10:30am-3:00pm\, Dydd Llun-Dydd Sadwrn Ar Gau 12:30-13:30)\n\n*Gwobrau i’w Hennill*
URL:https://www.monlife.co.uk/cy/event/llwybr-nadolig/2025-12-07/
LOCATION:Canolfan Groeso Cas-gwent\, Castle Car Park\,\, Cas-gwent\, Sir Fynwy\, NP16 5EY\, United Kingdom
CATEGORIES:Hanner Tymor Mis Mai,MonLife Treftadaeth
ATTACH;FMTTYPE=image/png:https://www.monlife.co.uk/wp-content/uploads/2025/11/Festive-Trail-.png
ORGANIZER;CN="MonLife":MAILTO:-
END:VEVENT
END:VCALENDAR