BEGIN:VCALENDAR
VERSION:2.0
PRODID:-//Monlife - ECPv6.15.18//NONSGML v1.0//EN
CALSCALE:GREGORIAN
METHOD:PUBLISH
X-ORIGINAL-URL:https://www.monlife.co.uk/cy/
X-WR-CALDESC:Events for Monlife
REFRESH-INTERVAL;VALUE=DURATION:PT1H
X-Robots-Tag:noindex
X-PUBLISHED-TTL:PT1H
BEGIN:VTIMEZONE
TZID:Europe/London
BEGIN:DAYLIGHT
TZOFFSETFROM:+0000
TZOFFSETTO:+0100
TZNAME:BST
DTSTART:20240331T010000
END:DAYLIGHT
BEGIN:STANDARD
TZOFFSETFROM:+0100
TZOFFSETTO:+0000
TZNAME:GMT
DTSTART:20241027T010000
END:STANDARD
BEGIN:DAYLIGHT
TZOFFSETFROM:+0000
TZOFFSETTO:+0100
TZNAME:BST
DTSTART:20250330T010000
END:DAYLIGHT
BEGIN:STANDARD
TZOFFSETFROM:+0100
TZOFFSETTO:+0000
TZNAME:GMT
DTSTART:20251026T010000
END:STANDARD
BEGIN:DAYLIGHT
TZOFFSETFROM:+0000
TZOFFSETTO:+0100
TZNAME:BST
DTSTART:20260329T010000
END:DAYLIGHT
BEGIN:STANDARD
TZOFFSETFROM:+0100
TZOFFSETTO:+0000
TZNAME:GMT
DTSTART:20261025T010000
END:STANDARD
END:VTIMEZONE
BEGIN:VEVENT
DTSTART;VALUE=DATE:20250919
DTEND;VALUE=DATE:20250922
DTSTAMP:20260425T044520
CREATED:20231027T101629Z
LAST-MODIFIED:20250911T141914Z
UID:10000680-1758240000-1758499199@www.monlife.co.uk
SUMMARY:Nofio AM DDIM
DESCRIPTION:Gall rhai dan 16 hefyd fwynhau nofio am ddim yn eich canolfan hamdden MonLife yn Weithredol leol yn ystod yr amseroedd canlynol: \n\nCanolfan Hamdden Cas-gwent: Dydd Gwener rhwng 6:00pm – 7:00pm\nCanolfan Hamdden y Fenni: Dydd Gwener rhwng 8.00pm – 9.00pm\nCanolfan Hamdden Trefynwy: Dydd Sadwrn rhwng 3:0pm – 4:15pm (Am ddim i rai 16 oed ac iau gyda cherdyn MonLife)\nCanolfan Hamdden Cil-y-coed: Dydd Sadwrn rhwng 11.30am a 12.45pm\n\nDarganfod mwy: https://www.monlife.co.uk/cy/monactive/swimming/
URL:https://www.monlife.co.uk/cy/event/nofio-am-ddim/2025-09-19/
LOCATION:Canolfan Hamdden y Fenni\, Hen Ffordd Henffordd\, Y Fenni\, Sir Fynwy\, NP7 6EP\, United Kingdom
CATEGORIES:Gweithgareddau am ddim
ATTACH;FMTTYPE=image/png:https://www.monlife.co.uk/wp-content/uploads/2023/10/Untitled-design-9.png
ORGANIZER;CN="MonLife":MAILTO:-
END:VEVENT
BEGIN:VEVENT
DTSTART;TZID=Europe/London:20250920T100000
DTEND;TZID=Europe/London:20250920T170000
DTSTAMP:20260425T044520
CREATED:20250529T104546Z
LAST-MODIFIED:20250529T104833Z
UID:10007303-1758362400-1758387600@www.monlife.co.uk
SUMMARY:Kanine Karnival
DESCRIPTION:Dewch i ymuno â ni yng Nghastell Cil-y-coed ar gyfer Kanine Karnival! Bydd y diwrnod hwyliog i’r teulu hwn yn llawn gweithgareddau ac adloniant i bawb yn y teulu (gan gynnwys ein ffrindiau pedair coes!). \nBydd sioe gŵn\, gwerthwyr bwyd stryd\, cerddoriaeth fyw\, stondinau siopa\, adloniant i blant a mwy. Ac wrth gwrs\, mae hyn i gyd yn gyfeillgar iawn i gŵn. \nBydd yr holl elw o’r digwyddiad hwn yn mynd i gefnogi Help For Dogs\, llinell olaf o elusen cŵn amddiffyn. Arbed\, Gofalu am ac ailgartrefu cŵn y mae pawb arall wedi rhoi’r gorau iddi. \n\n20/09/2025\n10:00-17:00\n\nTocynnau!
URL:https://www.monlife.co.uk/cy/event/kanine-karnival-2/
LOCATION:Castell a Pharc Gwledig Cil-y-coed\, Church Rd\,\, Cil-y-Coed\, Sir Fynwy\, NP26 4HU\, United Kingdom
CATEGORIES:Hanner Tymor Mis Mai,MonLife Treftadaeth
ATTACH;FMTTYPE=image/jpeg:https://www.monlife.co.uk/wp-content/uploads/2025/05/474532967_470314566120509_1196697808404480781_n.jpg
END:VEVENT
END:VCALENDAR