BEGIN:VCALENDAR
VERSION:2.0
PRODID:-//Monlife - ECPv6.15.18//NONSGML v1.0//EN
CALSCALE:GREGORIAN
METHOD:PUBLISH
X-WR-CALNAME:Monlife
X-ORIGINAL-URL:https://www.monlife.co.uk/cy/
X-WR-CALDESC:Events for Monlife
REFRESH-INTERVAL;VALUE=DURATION:PT1H
X-Robots-Tag:noindex
X-PUBLISHED-TTL:PT1H
BEGIN:VTIMEZONE
TZID:Europe/London
BEGIN:DAYLIGHT
TZOFFSETFROM:+0000
TZOFFSETTO:+0100
TZNAME:BST
DTSTART:20230326T010000
END:DAYLIGHT
BEGIN:STANDARD
TZOFFSETFROM:+0100
TZOFFSETTO:+0000
TZNAME:GMT
DTSTART:20231029T010000
END:STANDARD
BEGIN:DAYLIGHT
TZOFFSETFROM:+0000
TZOFFSETTO:+0100
TZNAME:BST
DTSTART:20240331T010000
END:DAYLIGHT
BEGIN:STANDARD
TZOFFSETFROM:+0100
TZOFFSETTO:+0000
TZNAME:GMT
DTSTART:20241027T010000
END:STANDARD
BEGIN:DAYLIGHT
TZOFFSETFROM:+0000
TZOFFSETTO:+0100
TZNAME:BST
DTSTART:20250330T010000
END:DAYLIGHT
BEGIN:STANDARD
TZOFFSETFROM:+0100
TZOFFSETTO:+0000
TZNAME:GMT
DTSTART:20251026T010000
END:STANDARD
END:VTIMEZONE
BEGIN:VEVENT
DTSTART;VALUE=DATE:20241011
DTEND;VALUE=DATE:20241014
DTSTAMP:20260420T083416
CREATED:20231027T101629Z
LAST-MODIFIED:20250911T141914Z
UID:10000631-1728604800-1728863999@www.monlife.co.uk
SUMMARY:Nofio AM DDIM
DESCRIPTION:Gall rhai dan 16 hefyd fwynhau nofio am ddim yn eich canolfan hamdden MonLife yn Weithredol leol yn ystod yr amseroedd canlynol: \n\nCanolfan Hamdden Cas-gwent: Dydd Gwener rhwng 6:00pm – 7:00pm\nCanolfan Hamdden y Fenni: Dydd Gwener rhwng 8.00pm – 9.00pm\nCanolfan Hamdden Trefynwy: Dydd Sadwrn rhwng 3:0pm – 4:15pm (Am ddim i rai 16 oed ac iau gyda cherdyn MonLife)\nCanolfan Hamdden Cil-y-coed: Dydd Sadwrn rhwng 11.30am a 12.45pm\n\nDarganfod mwy: https://www.monlife.co.uk/cy/monactive/swimming/
URL:https://www.monlife.co.uk/cy/event/nofio-am-ddim/2024-10-11/
LOCATION:Canolfan Hamdden y Fenni\, Hen Ffordd Henffordd\, Y Fenni\, Sir Fynwy\, NP7 6EP\, United Kingdom
CATEGORIES:Gweithgareddau am ddim
ATTACH;FMTTYPE=image/png:https://www.monlife.co.uk/wp-content/uploads/2023/10/Untitled-design-9.png
ORGANIZER;CN="MonLife":MAILTO:-
END:VEVENT
BEGIN:VEVENT
DTSTART;TZID=Europe/London:20241012T093000
DTEND;TZID=Europe/London:20241012T123000
DTSTAMP:20260420T083416
CREATED:20240930T152439Z
LAST-MODIFIED:20240930T152703Z
UID:10005258-1728725400-1728736200@www.monlife.co.uk
SUMMARY:Gwehyddu helynt
DESCRIPTION:Gweithdy Gwehyddu Helyg yn Hyb Brynbuga – gwnewch dorch ar thema’r Hydref neu Galan Gaeaf. \nAm fwy o fanylion neu i archebu lle\, cysylltwch â 01291 426888 neu e-bostiwch uskhub@monmouthshire.gov.uk \n\nDydd Sadwrn\,12th Hydref 2024\n9.30am -12.30pm\nCost £20 – yn cynnwys defnyddiauost
URL:https://www.monlife.co.uk/cy/event/gwehyddu-helynt/
LOCATION:Hyb Cymunedol Brynbuga\, 35 Maryport St\, Brynbuga\, Sir Fynwy\, NP15 1AE\, United Kingdom
CATEGORIES:Gwyliau'r Pasg,MonLife Cysylltu
ATTACH;FMTTYPE=image/jpeg:https://www.monlife.co.uk/wp-content/uploads/2024/09/459982767_835665605353562_8098063720753768560_n.jpg
ORGANIZER;CN="MonLife":MAILTO:-
END:VEVENT
BEGIN:VEVENT
DTSTART;TZID=Europe/London:20241012T190000
DTEND;TZID=Europe/London:20241012T190000
DTSTAMP:20260420T083416
CREATED:20240912T114335Z
LAST-MODIFIED:20240912T114335Z
UID:10003672-1728759600-1728759600@www.monlife.co.uk
SUMMARY:A Night To Remember
DESCRIPTION:Daw talentau cerddorol Band Borough y Fenni\, Cymdeithas Operatig a Dramatig Amatur y Fenni ac Ethan Stockham ynghyd am noson i’w chofio er cof am ddau o breswylwyr uchel iawn eu parch o’r Fenni\, Sheila Woodhouse a John Powell. Ymunwch â ni ar daith gerddorol yn dathlu gyda’r holl elw i Hosbis Dewi Sant.
URL:https://www.monlife.co.uk/cy/event/a-night-to-remember/
LOCATION:Theatr Borough\, Y Fenni\, Neuadd y Dref\, Stryd y Groes\, Y Fenni\, Sir Fynwy\, NP7 5HD\, United Kingdom
END:VEVENT
END:VCALENDAR