BEGIN:VCALENDAR
VERSION:2.0
PRODID:-//Monlife - ECPv6.15.18//NONSGML v1.0//EN
CALSCALE:GREGORIAN
METHOD:PUBLISH
X-ORIGINAL-URL:https://www.monlife.co.uk/cy/
X-WR-CALDESC:Events for Monlife
REFRESH-INTERVAL;VALUE=DURATION:PT1H
X-Robots-Tag:noindex
X-PUBLISHED-TTL:PT1H
BEGIN:VTIMEZONE
TZID:Europe/London
BEGIN:DAYLIGHT
TZOFFSETFROM:+0000
TZOFFSETTO:+0100
TZNAME:BST
DTSTART:20230326T010000
END:DAYLIGHT
BEGIN:STANDARD
TZOFFSETFROM:+0100
TZOFFSETTO:+0000
TZNAME:GMT
DTSTART:20231029T010000
END:STANDARD
BEGIN:DAYLIGHT
TZOFFSETFROM:+0000
TZOFFSETTO:+0100
TZNAME:BST
DTSTART:20240331T010000
END:DAYLIGHT
BEGIN:STANDARD
TZOFFSETFROM:+0100
TZOFFSETTO:+0000
TZNAME:GMT
DTSTART:20241027T010000
END:STANDARD
BEGIN:DAYLIGHT
TZOFFSETFROM:+0000
TZOFFSETTO:+0100
TZNAME:BST
DTSTART:20250330T010000
END:DAYLIGHT
BEGIN:STANDARD
TZOFFSETFROM:+0100
TZOFFSETTO:+0000
TZNAME:GMT
DTSTART:20251026T010000
END:STANDARD
END:VTIMEZONE
BEGIN:VEVENT
DTSTART;VALUE=DATE:20241004
DTEND;VALUE=DATE:20241007
DTSTAMP:20260421T132452
CREATED:20231027T101629Z
LAST-MODIFIED:20250911T141914Z
UID:10000630-1728000000-1728259199@www.monlife.co.uk
SUMMARY:Nofio AM DDIM
DESCRIPTION:Gall rhai dan 16 hefyd fwynhau nofio am ddim yn eich canolfan hamdden MonLife yn Weithredol leol yn ystod yr amseroedd canlynol: \n\nCanolfan Hamdden Cas-gwent: Dydd Gwener rhwng 6:00pm – 7:00pm\nCanolfan Hamdden y Fenni: Dydd Gwener rhwng 8.00pm – 9.00pm\nCanolfan Hamdden Trefynwy: Dydd Sadwrn rhwng 3:0pm – 4:15pm (Am ddim i rai 16 oed ac iau gyda cherdyn MonLife)\nCanolfan Hamdden Cil-y-coed: Dydd Sadwrn rhwng 11.30am a 12.45pm\n\nDarganfod mwy: https://www.monlife.co.uk/cy/monactive/swimming/
URL:https://www.monlife.co.uk/cy/event/nofio-am-ddim/2024-10-04/
LOCATION:Canolfan Hamdden y Fenni\, Hen Ffordd Henffordd\, Y Fenni\, Sir Fynwy\, NP7 6EP\, United Kingdom
CATEGORIES:Gweithgareddau am ddim
ATTACH;FMTTYPE=image/png:https://www.monlife.co.uk/wp-content/uploads/2023/10/Untitled-design-9.png
ORGANIZER;CN="MonLife":MAILTO:-
END:VEVENT
BEGIN:VEVENT
DTSTART;TZID=Europe/London:20241005T103000
DTEND;TZID=Europe/London:20241005T113000
DTSTAMP:20260421T132452
CREATED:20240930T110528Z
LAST-MODIFIED:20240930T110830Z
UID:10005256-1728124200-1728127800@www.monlife.co.uk
SUMMARY:Gweithdy Lego
DESCRIPTION:Clicwch yma i archebu. \nAddas ar gyfer plant 5 – 9 oed. \nNodwch fod rhaid i bob plentyn fod yng nghwmni oedolyn.
URL:https://www.monlife.co.uk/cy/event/gweithdy-lego-8/
LOCATION:Hyb Cymunedol Cil-y-Coed\, Woodstock Way\, Cil-y-Coed\, Sir Fynwy\, NP26 5DB\, United Kingdom
CATEGORIES:Gweithgareddau am ddim,MonLife Treftadaeth
ATTACH;FMTTYPE=image/png:https://www.monlife.co.uk/wp-content/uploads/2024/04/Lego-Workshop-Caldicot-Social-Media-1.png
END:VEVENT
BEGIN:VEVENT
DTSTART;TZID=Europe/London:20241005T193000
DTEND;TZID=Europe/London:20241005T193000
DTSTAMP:20260421T132452
CREATED:20240904T142554Z
LAST-MODIFIED:20240904T142740Z
UID:10003616-1728156600-1728156600@www.monlife.co.uk
SUMMARY:From Gold to Rio
DESCRIPTION:Dathlu cerddoriaeth Spandau Ballet a Duran Duran\nGyda dros 20 cân yn yr 10 uchaf\, bydd y sioe yn cynnwys 2 awr o glasuron di-stop yn\ncynnwys old\, Rio\, True\, The Reflex\, Thru the Barricades\,\nSave A Prayer\, Lifeline\, Girls on Film\, ymhlith eraill –\nsydd yn sicr o adael y gynulleidfa yn gweiddi am fwy!
URL:https://www.monlife.co.uk/cy/event/from-gold-to-rio/
LOCATION:Theatr Borough\, Y Fenni\, Neuadd y Dref\, Stryd y Groes\, Y Fenni\, Sir Fynwy\, NP7 5HD\, United Kingdom
END:VEVENT
END:VCALENDAR