BEGIN:VCALENDAR
VERSION:2.0
PRODID:-//Monlife - ECPv6.15.18//NONSGML v1.0//EN
CALSCALE:GREGORIAN
METHOD:PUBLISH
X-ORIGINAL-URL:https://www.monlife.co.uk/cy/
X-WR-CALDESC:Events for Monlife
REFRESH-INTERVAL;VALUE=DURATION:PT1H
X-Robots-Tag:noindex
X-PUBLISHED-TTL:PT1H
BEGIN:VTIMEZONE
TZID:Europe/London
BEGIN:DAYLIGHT
TZOFFSETFROM:+0000
TZOFFSETTO:+0100
TZNAME:BST
DTSTART:20230326T010000
END:DAYLIGHT
BEGIN:STANDARD
TZOFFSETFROM:+0100
TZOFFSETTO:+0000
TZNAME:GMT
DTSTART:20231029T010000
END:STANDARD
BEGIN:DAYLIGHT
TZOFFSETFROM:+0000
TZOFFSETTO:+0100
TZNAME:BST
DTSTART:20240331T010000
END:DAYLIGHT
BEGIN:STANDARD
TZOFFSETFROM:+0100
TZOFFSETTO:+0000
TZNAME:GMT
DTSTART:20241027T010000
END:STANDARD
BEGIN:DAYLIGHT
TZOFFSETFROM:+0000
TZOFFSETTO:+0100
TZNAME:BST
DTSTART:20250330T010000
END:DAYLIGHT
BEGIN:STANDARD
TZOFFSETFROM:+0100
TZOFFSETTO:+0000
TZNAME:GMT
DTSTART:20251026T010000
END:STANDARD
END:VTIMEZONE
BEGIN:VEVENT
DTSTART;TZID=Europe/London:20241223T103000
DTEND;TZID=Europe/London:20241223T113000
DTSTAMP:20260425T152856
CREATED:20241009T151257Z
LAST-MODIFIED:20241010T103803Z
UID:10005287-1734949800-1734953400@www.monlife.co.uk
SUMMARY:Straeon & Chrefftau Nadolig
DESCRIPTION:Clicwch yma i archebu! \nDewch i ymuno â ni yn Hyb Cymunedol Cil-y-coed ddydd Llun 23 Rhagfyr 2024 am 10:30AM am fore llawn hwyl yr Ŵyl.  Byddwn yn rhannu straeon am y Nadolig ac yn gwneud crefftau creadigol i fynd i hwyl yr Ŵyl. \nMae’r digwyddiad wyneb yn wyneb hwn yn beffaith ar gyfer plant 4 – 8 oed. \nThis post is also available in: \n\n	English
URL:https://www.monlife.co.uk/cy/event/straeon-chrefftau-nadolig/
LOCATION:Hyb Cymunedol Cil-y-Coed\, Woodstock Way\, Cil-y-Coed\, Sir Fynwy\, NP26 5DB\, United Kingdom
CATEGORIES:Gweithgareddau am ddim,Hanner Tymor Mis Mai,MonLife Treftadaeth
ATTACH;FMTTYPE=image/png:https://www.monlife.co.uk/wp-content/uploads/2024/10/Stories-Craft-seasonal-posters-Instagram-Post-2.png
ORGANIZER;CN="MonLife":MAILTO:-
END:VEVENT
BEGIN:VEVENT
DTSTART;TZID=Europe/London:20241214T103000
DTEND;TZID=Europe/London:20241214T113000
DTSTAMP:20260425T152856
CREATED:20241009T150500Z
LAST-MODIFIED:20241010T105541Z
UID:10005290-1734172200-1734175800@www.monlife.co.uk
SUMMARY:Gweithdy Lego
DESCRIPTION:Clicwch isod i archebu! \nDydd Sadwrn 16 Tachwedd \nDydd Sadwrn 14 Rhagfyr \nDydd Iau 2 Ionwar \nAddas ar gyfer plant 5 – 9 oed. \nNodwch fod rhaid i bob plentyn fod yng nghwmni oedolyn. \nThis post is also available in: \n\n	English
URL:https://www.monlife.co.uk/cy/event/gweithdy-lego-9/2024-12-14/
LOCATION:Hyb Cymunedol Cil-y-Coed\, Woodstock Way\, Cil-y-Coed\, Sir Fynwy\, NP26 5DB\, United Kingdom
CATEGORIES:Gweithgareddau am ddim,MonLife Treftadaeth
ATTACH;FMTTYPE=image/png:https://www.monlife.co.uk/wp-content/uploads/2024/04/Lego-Workshop-Caldicot-Social-Media-1.png
ORGANIZER;CN="MonLife":MAILTO:-
END:VEVENT
BEGIN:VEVENT
DTSTART;TZID=Europe/London:20241116T103000
DTEND;TZID=Europe/London:20241116T113000
DTSTAMP:20260425T152856
CREATED:20241009T150500Z
LAST-MODIFIED:20241010T105541Z
UID:10005289-1731753000-1731756600@www.monlife.co.uk
SUMMARY:Gweithdy Lego
DESCRIPTION:Clicwch isod i archebu! \nDydd Sadwrn 16 Tachwedd \nDydd Sadwrn 14 Rhagfyr \nDydd Iau 2 Ionwar \nAddas ar gyfer plant 5 – 9 oed. \nNodwch fod rhaid i bob plentyn fod yng nghwmni oedolyn. \nThis post is also available in: \n\n	English
URL:https://www.monlife.co.uk/cy/event/gweithdy-lego-9/2024-11-16/
LOCATION:Hyb Cymunedol Cil-y-Coed\, Woodstock Way\, Cil-y-Coed\, Sir Fynwy\, NP26 5DB\, United Kingdom
CATEGORIES:Gweithgareddau am ddim,MonLife Treftadaeth
ATTACH;FMTTYPE=image/png:https://www.monlife.co.uk/wp-content/uploads/2024/04/Lego-Workshop-Caldicot-Social-Media-1.png
ORGANIZER;CN="MonLife":MAILTO:-
END:VEVENT
BEGIN:VEVENT
DTSTART;TZID=Europe/London:20241030T100000
DTEND;TZID=Europe/London:20241030T110000
DTSTAMP:20260425T152856
CREATED:20241010T133710Z
LAST-MODIFIED:20241010T134220Z
UID:10005295-1730282400-1730286000@www.monlife.co.uk
SUMMARY:Storïau a chrefftau'r Calan Gaeaf
DESCRIPTION:Dewch i ymuno â ni am fore bwganllyd llawn straeon fydd yn anfon ias lawr eich cefn a chrefftau i’ch cael i hwyl Calan Gaeaf! \nDydd Mercher 30ain Hydref 10.00-11.00 \n4-8 oed \nNid oes angen archebu lle \nRhaid i blant fod yng nghwmni oedolyn \nThis post is also available in: \n\n	English
URL:https://www.monlife.co.uk/cy/event/storiau-a-chrefftaur-calan-gaeaf-2/
LOCATION:Hyb Cymunedol Cil-y-Coed\, Woodstock Way\, Cil-y-Coed\, Sir Fynwy\, NP26 5DB\, United Kingdom
CATEGORIES:Gweithgareddau am ddim,Hanner Tymor Mis Mai,MonLife Treftadaeth
ATTACH;FMTTYPE=image/png:https://www.monlife.co.uk/wp-content/uploads/2024/10/Halloween-stories-and-craft-Monmouth-Instagram-Post.png
END:VEVENT
BEGIN:VEVENT
DTSTART;TZID=Europe/London:20241030T100000
DTEND;TZID=Europe/London:20241030T110000
DTSTAMP:20260425T152857
CREATED:20241001T101339Z
LAST-MODIFIED:20241001T121316Z
UID:10005265-1730282400-1730286000@www.monlife.co.uk
SUMMARY:Gweithdy Lego Calan Gaeaf
DESCRIPTION:Croeso i Weithdy Lego Calan Gaeaf! Paratowch am fore bwganllyd a chreadigol gyda hwyl adeiladu. Ymunwch â ni ddydd Mercher 30 Hydref 2024 am 10:00AM yn Hyb Cymunedol Cil-y-coed. Gadewch i’ch dychymyg redeg yn wyllt wrth i chi wneud eich dyfais Lego eich hun. Mae’r digwyddiad wyneb yn wyneb hwn yn beffaith ar gyfer plant 5-9 oed. Peidiwch â cholli’r cyfle yma i adeiladu\, chwarae a dathlu Calan Gaeaf gyda ni! \nMae’n bob plentyn fod yng nghwmni oedolyn. \nClicwch yma i archebu \nThis post is also available in: \n\n	English
URL:https://www.monlife.co.uk/cy/event/gweithdy-lego-calan-gaeaf/
LOCATION:Hyb Cymunedol Cil-y-Coed\, Woodstock Way\, Cil-y-Coed\, Sir Fynwy\, NP26 5DB\, United Kingdom
CATEGORIES:Gweithgareddau am ddim,Hanner Tymor Mis Mai,MonLife Treftadaeth
ATTACH;FMTTYPE=image/png:https://www.monlife.co.uk/wp-content/uploads/2024/10/Lego-Workshop-Instagram-Post-1.png
END:VEVENT
BEGIN:VEVENT
DTSTART;TZID=Europe/London:20241029T140000
DTEND;TZID=Europe/London:20241029T150000
DTSTAMP:20260425T152857
CREATED:20241001T100944Z
LAST-MODIFIED:20241001T123248Z
UID:10005266-1730210400-1730214000@www.monlife.co.uk
SUMMARY:Spooktacular Straeon Sesiwn Grefft Arswyd
DESCRIPTION:Dewch i ymuno â ni am brynhawn bwganllyd llawn straeon fydd yn anfon ias lawr eich cefn a chrefftau i’ch cael i hwyl Calan Gaeaf! Mae’r digwyddiad wyneb yn wyneb hwn yn berffaith ar gyfer plant 4-8 oed\, felly dewch â’ch ffrindiau a’ch teulu draw am hwyl Calan Gaeaf. Peidiwch anghofio dod yn eich gwisg orau! Fedrwn ni ddim aros i’ch gweld! \nMae’n bob plentyn fod yng nghwmni oedolyn. \nClicwch yma i archebu! \nThis post is also available in: \n\n	English
URL:https://www.monlife.co.uk/cy/event/spooktacular-straeon-sesiwn-grefft-arswyd/
LOCATION:Hyb Cymunedol Cil-y-Coed\, Woodstock Way\, Cil-y-Coed\, Sir Fynwy\, NP26 5DB\, United Kingdom
CATEGORIES:Gweithgareddau am ddim,Hanner Tymor Mis Mai,MonLife Treftadaeth
ATTACH;FMTTYPE=image/png:https://www.monlife.co.uk/wp-content/uploads/2024/10/Halloween-poster-Ceri-Instagram-Post-1.png
END:VEVENT
BEGIN:VEVENT
DTSTART;TZID=Europe/London:20241005T103000
DTEND;TZID=Europe/London:20241005T113000
DTSTAMP:20260425T152857
CREATED:20240930T110528Z
LAST-MODIFIED:20240930T110830Z
UID:10005256-1728124200-1728127800@www.monlife.co.uk
SUMMARY:Gweithdy Lego
DESCRIPTION:Clicwch yma i archebu. \nAddas ar gyfer plant 5 – 9 oed. \nNodwch fod rhaid i bob plentyn fod yng nghwmni oedolyn. \nThis post is also available in: \n\n	English
URL:https://www.monlife.co.uk/cy/event/gweithdy-lego-8/
LOCATION:Hyb Cymunedol Cil-y-Coed\, Woodstock Way\, Cil-y-Coed\, Sir Fynwy\, NP26 5DB\, United Kingdom
CATEGORIES:Gweithgareddau am ddim,MonLife Treftadaeth
ATTACH;FMTTYPE=image/png:https://www.monlife.co.uk/wp-content/uploads/2024/04/Lego-Workshop-Caldicot-Social-Media-1.png
END:VEVENT
BEGIN:VEVENT
DTSTART;TZID=Europe/London:20240822T144500
DTEND;TZID=Europe/London:20240822T153000
DTSTAMP:20260425T152857
CREATED:20240626T134026Z
LAST-MODIFIED:20240626T134517Z
UID:10003522-1724337900-1724340600@www.monlife.co.uk
SUMMARY:Sialens Ddarllen Yr Haf - Sesiwn Gardd Creadigrwydd
DESCRIPTION:Gadewch i ni fynd yn greadigol yn y Gweithdy Gardd! Creu eich gardd flodau eich hun gyda darnau rhwydd eu rhoi at ei gilydd. Gadewch i ni adeiladu rhywbeth hardd gyda’n gilydd. \nCliciwch y ddolen islaw i archebu. \nDydd Iau 1 Awst \nDydd Iau 22 Awst \n3 – 5 oed. \nNodwch fod rhaid i bob plentyn fod yng nghwmni oedolyn. \nThis post is also available in: \n\n	English
URL:https://www.monlife.co.uk/cy/event/sialens-ddarllen-yr-haf-sesiwn-gardd-creadigrwydd/2024-08-22/
LOCATION:Hyb Cymunedol Cil-y-Coed\, Woodstock Way\, Cil-y-Coed\, Sir Fynwy\, NP26 5DB\, United Kingdom
CATEGORIES:Gweithgareddau am ddim,Hanner Tymor Mis Mai,MonLife Treftadaeth
ATTACH;FMTTYPE=image/png:https://www.monlife.co.uk/wp-content/uploads/2024/06/Creativity-Garden-2208-Instagram-Post.png
END:VEVENT
BEGIN:VEVENT
DTSTART;TZID=Europe/London:20240821T100000
DTEND;TZID=Europe/London:20240821T110000
DTSTAMP:20260425T152857
CREATED:20240626T113529Z
LAST-MODIFIED:20240626T144826Z
UID:10003518-1724234400-1724238000@www.monlife.co.uk
SUMMARY:Sialens Ddarllen Yr Haf - Gweithdy Lego
DESCRIPTION:Ymunwch â ni am fore o Adeiladu Lego yn Hyb Cil-y-coed i’n helpu ni i ddathlu Sialens Ddarllen yr Haf eleni\, Crefftwyr Campus! \nCliciwch y ddolen islaw i archebu. \nDydd Mercher 24 Gorffennaf \nDydd Mercher 7 Awst \nDydd Mercher 14 Awst \nDydd Mercher 21 Awst \n5 – 9 oed. \nNodwch fod rhaid i bob plentyn fod yng nghwmni oedolyn. \nThis post is also available in: \n\n	English
URL:https://www.monlife.co.uk/cy/event/sialens-ddarllen-yr-haf/2024-08-21/
LOCATION:Hyb Cymunedol Cil-y-Coed\, Woodstock Way\, Cil-y-Coed\, Sir Fynwy\, NP26 5DB\, United Kingdom
CATEGORIES:Gweithgareddau am ddim,Hanner Tymor Mis Mai,MonLife Treftadaeth
ATTACH;FMTTYPE=image/png:https://www.monlife.co.uk/wp-content/uploads/2024/06/SRC-Lego-CYM.png
END:VEVENT
BEGIN:VEVENT
DTSTART;TZID=Europe/London:20240820T140000
DTEND;TZID=Europe/London:20240820T150000
DTSTAMP:20260425T152857
CREATED:20240626T111436Z
LAST-MODIFIED:20240626T144935Z
UID:10003576-1724162400-1724166000@www.monlife.co.uk
SUMMARY:Sialens Ddarllen Yr Haf - Storiau a Chrefftau
DESCRIPTION:Ymunwch â ni yn Hyb Cil-y-coed i ddathlu Sialens Ddarllen yr Haf eleni\, Crefftwyr Campus gyda gweithdy Straeon a Chrefft! \nCliciwch y ddolen islaw i archebu! \nDydd Mawrth 23 Gorffennaf \nDydd Mawrth 6 Awst \nDydd Mawrth 20 Awst \n4 – 8 oed. \nNodwch fod rhaid i bob plentyn fod yng nghwmni oedolyn. \nThis post is also available in: \n\n	English
URL:https://www.monlife.co.uk/cy/event/sialens-ddarllen-yr-haf-storiau-a-chrefftau/2024-08-20/
LOCATION:Hyb Cymunedol Cil-y-Coed\, Woodstock Way\, Cil-y-Coed\, Sir Fynwy\, NP26 5DB\, United Kingdom
CATEGORIES:Gweithgareddau am ddim,Hanner Tymor Mis Mai,MonLife Treftadaeth
ATTACH;FMTTYPE=image/png:https://www.monlife.co.uk/wp-content/uploads/2024/06/SRC-Stories-CYM.png
END:VEVENT
BEGIN:VEVENT
DTSTART;TZID=Europe/London:20240814T100000
DTEND;TZID=Europe/London:20240814T110000
DTSTAMP:20260425T152857
CREATED:20240626T113529Z
LAST-MODIFIED:20240626T144826Z
UID:10003517-1723629600-1723633200@www.monlife.co.uk
SUMMARY:Sialens Ddarllen Yr Haf - Gweithdy Lego
DESCRIPTION:Ymunwch â ni am fore o Adeiladu Lego yn Hyb Cil-y-coed i’n helpu ni i ddathlu Sialens Ddarllen yr Haf eleni\, Crefftwyr Campus! \nCliciwch y ddolen islaw i archebu. \nDydd Mercher 24 Gorffennaf \nDydd Mercher 7 Awst \nDydd Mercher 14 Awst \nDydd Mercher 21 Awst \n5 – 9 oed. \nNodwch fod rhaid i bob plentyn fod yng nghwmni oedolyn. \nThis post is also available in: \n\n	English
URL:https://www.monlife.co.uk/cy/event/sialens-ddarllen-yr-haf/2024-08-14/
LOCATION:Hyb Cymunedol Cil-y-Coed\, Woodstock Way\, Cil-y-Coed\, Sir Fynwy\, NP26 5DB\, United Kingdom
CATEGORIES:Gweithgareddau am ddim,Hanner Tymor Mis Mai,MonLife Treftadaeth
ATTACH;FMTTYPE=image/png:https://www.monlife.co.uk/wp-content/uploads/2024/06/SRC-Lego-CYM.png
END:VEVENT
BEGIN:VEVENT
DTSTART;TZID=Europe/London:20240813T140000
DTEND;TZID=Europe/London:20240813T150000
DTSTAMP:20260425T152857
CREATED:20240626T105935Z
LAST-MODIFIED:20240716T080238Z
UID:10003502-1723557600-1723561200@www.monlife.co.uk
SUMMARY:Sialens Ddarllen Yr Haf - Adrodd straeon ryngweithiol gyda Louby Lou
DESCRIPTION:Ymunwch â ni yng Nghil-y-coed am sesiwn adrodd straeon ryngweithiol gyda’r hyfryd Louby Lou i ddathlu Sialens Darllen yr Haf eleni\, Crefftwyr Campus! \nYmunwch â ni am brynhawn o adrodd straeon rhyngweithiol gyda Louby Lou! \nClicwch yma i archebu! \nNodwch fod rhaid i bob plentyn fod yng nghwmni oedolyn. \nThis post is also available in: \n\n	English
URL:https://www.monlife.co.uk/cy/event/summer-reading-challenge-adrodd-straeon-gyda-louby-lou/
LOCATION:Hyb Cymunedol Cil-y-Coed\, Woodstock Way\, Cil-y-Coed\, Sir Fynwy\, NP26 5DB\, United Kingdom
ATTACH;FMTTYPE=image/png:https://www.monlife.co.uk/wp-content/uploads/2024/06/SRC-Louby-CYM.png
END:VEVENT
BEGIN:VEVENT
DTSTART;TZID=Europe/London:20240807T100000
DTEND;TZID=Europe/London:20240807T110000
DTSTAMP:20260425T152857
CREATED:20240626T113529Z
LAST-MODIFIED:20240626T144826Z
UID:10003516-1723024800-1723028400@www.monlife.co.uk
SUMMARY:Sialens Ddarllen Yr Haf - Gweithdy Lego
DESCRIPTION:Ymunwch â ni am fore o Adeiladu Lego yn Hyb Cil-y-coed i’n helpu ni i ddathlu Sialens Ddarllen yr Haf eleni\, Crefftwyr Campus! \nCliciwch y ddolen islaw i archebu. \nDydd Mercher 24 Gorffennaf \nDydd Mercher 7 Awst \nDydd Mercher 14 Awst \nDydd Mercher 21 Awst \n5 – 9 oed. \nNodwch fod rhaid i bob plentyn fod yng nghwmni oedolyn. \nThis post is also available in: \n\n	English
URL:https://www.monlife.co.uk/cy/event/sialens-ddarllen-yr-haf/2024-08-07/
LOCATION:Hyb Cymunedol Cil-y-Coed\, Woodstock Way\, Cil-y-Coed\, Sir Fynwy\, NP26 5DB\, United Kingdom
CATEGORIES:Gweithgareddau am ddim,Hanner Tymor Mis Mai,MonLife Treftadaeth
ATTACH;FMTTYPE=image/png:https://www.monlife.co.uk/wp-content/uploads/2024/06/SRC-Lego-CYM.png
END:VEVENT
BEGIN:VEVENT
DTSTART;TZID=Europe/London:20240806T140000
DTEND;TZID=Europe/London:20240806T150000
DTSTAMP:20260425T152857
CREATED:20240626T111436Z
LAST-MODIFIED:20240626T144935Z
UID:10003513-1722952800-1722956400@www.monlife.co.uk
SUMMARY:Sialens Ddarllen Yr Haf - Storiau a Chrefftau
DESCRIPTION:Ymunwch â ni yn Hyb Cil-y-coed i ddathlu Sialens Ddarllen yr Haf eleni\, Crefftwyr Campus gyda gweithdy Straeon a Chrefft! \nCliciwch y ddolen islaw i archebu! \nDydd Mawrth 23 Gorffennaf \nDydd Mawrth 6 Awst \nDydd Mawrth 20 Awst \n4 – 8 oed. \nNodwch fod rhaid i bob plentyn fod yng nghwmni oedolyn. \nThis post is also available in: \n\n	English
URL:https://www.monlife.co.uk/cy/event/sialens-ddarllen-yr-haf-storiau-a-chrefftau/2024-08-06/
LOCATION:Hyb Cymunedol Cil-y-Coed\, Woodstock Way\, Cil-y-Coed\, Sir Fynwy\, NP26 5DB\, United Kingdom
CATEGORIES:Gweithgareddau am ddim,Hanner Tymor Mis Mai,MonLife Treftadaeth
ATTACH;FMTTYPE=image/png:https://www.monlife.co.uk/wp-content/uploads/2024/06/SRC-Stories-CYM.png
END:VEVENT
BEGIN:VEVENT
DTSTART;TZID=Europe/London:20240801T144500
DTEND;TZID=Europe/London:20240801T153000
DTSTAMP:20260425T152857
CREATED:20240626T134026Z
LAST-MODIFIED:20240626T134517Z
UID:10003521-1722523500-1722526200@www.monlife.co.uk
SUMMARY:Sialens Ddarllen Yr Haf - Sesiwn Gardd Creadigrwydd
DESCRIPTION:Gadewch i ni fynd yn greadigol yn y Gweithdy Gardd! Creu eich gardd flodau eich hun gyda darnau rhwydd eu rhoi at ei gilydd. Gadewch i ni adeiladu rhywbeth hardd gyda’n gilydd. \nCliciwch y ddolen islaw i archebu. \nDydd Iau 1 Awst \nDydd Iau 22 Awst \n3 – 5 oed. \nNodwch fod rhaid i bob plentyn fod yng nghwmni oedolyn. \nThis post is also available in: \n\n	English
URL:https://www.monlife.co.uk/cy/event/sialens-ddarllen-yr-haf-sesiwn-gardd-creadigrwydd/2024-08-01/
LOCATION:Hyb Cymunedol Cil-y-Coed\, Woodstock Way\, Cil-y-Coed\, Sir Fynwy\, NP26 5DB\, United Kingdom
CATEGORIES:Gweithgareddau am ddim,Hanner Tymor Mis Mai,MonLife Treftadaeth
ATTACH;FMTTYPE=image/png:https://www.monlife.co.uk/wp-content/uploads/2024/06/Creativity-Garden-2208-Instagram-Post.png
END:VEVENT
BEGIN:VEVENT
DTSTART;TZID=Europe/London:20240724T100000
DTEND;TZID=Europe/London:20240724T110000
DTSTAMP:20260425T152857
CREATED:20240626T113529Z
LAST-MODIFIED:20240626T144826Z
UID:10003515-1721815200-1721818800@www.monlife.co.uk
SUMMARY:Sialens Ddarllen Yr Haf - Gweithdy Lego
DESCRIPTION:Ymunwch â ni am fore o Adeiladu Lego yn Hyb Cil-y-coed i’n helpu ni i ddathlu Sialens Ddarllen yr Haf eleni\, Crefftwyr Campus! \nCliciwch y ddolen islaw i archebu. \nDydd Mercher 24 Gorffennaf \nDydd Mercher 7 Awst \nDydd Mercher 14 Awst \nDydd Mercher 21 Awst \n5 – 9 oed. \nNodwch fod rhaid i bob plentyn fod yng nghwmni oedolyn. \nThis post is also available in: \n\n	English
URL:https://www.monlife.co.uk/cy/event/sialens-ddarllen-yr-haf/2024-07-24/
LOCATION:Hyb Cymunedol Cil-y-Coed\, Woodstock Way\, Cil-y-Coed\, Sir Fynwy\, NP26 5DB\, United Kingdom
CATEGORIES:Gweithgareddau am ddim,Hanner Tymor Mis Mai,MonLife Treftadaeth
ATTACH;FMTTYPE=image/png:https://www.monlife.co.uk/wp-content/uploads/2024/06/SRC-Lego-CYM.png
END:VEVENT
BEGIN:VEVENT
DTSTART;TZID=Europe/London:20240723T140000
DTEND;TZID=Europe/London:20240723T150000
DTSTAMP:20260425T152857
CREATED:20240626T111436Z
LAST-MODIFIED:20240626T144935Z
UID:10003512-1721743200-1721746800@www.monlife.co.uk
SUMMARY:Sialens Ddarllen Yr Haf - Storiau a Chrefftau
DESCRIPTION:Ymunwch â ni yn Hyb Cil-y-coed i ddathlu Sialens Ddarllen yr Haf eleni\, Crefftwyr Campus gyda gweithdy Straeon a Chrefft! \nCliciwch y ddolen islaw i archebu! \nDydd Mawrth 23 Gorffennaf \nDydd Mawrth 6 Awst \nDydd Mawrth 20 Awst \n4 – 8 oed. \nNodwch fod rhaid i bob plentyn fod yng nghwmni oedolyn. \nThis post is also available in: \n\n	English
URL:https://www.monlife.co.uk/cy/event/sialens-ddarllen-yr-haf-storiau-a-chrefftau/2024-07-23/
LOCATION:Hyb Cymunedol Cil-y-Coed\, Woodstock Way\, Cil-y-Coed\, Sir Fynwy\, NP26 5DB\, United Kingdom
CATEGORIES:Gweithgareddau am ddim,Hanner Tymor Mis Mai,MonLife Treftadaeth
ATTACH;FMTTYPE=image/png:https://www.monlife.co.uk/wp-content/uploads/2024/06/SRC-Stories-CYM.png
END:VEVENT
BEGIN:VEVENT
DTSTART;TZID=Europe/London:20240706T103000
DTEND;TZID=Europe/London:20240706T120000
DTSTAMP:20260425T152857
CREATED:20240626T105044Z
LAST-MODIFIED:20240626T105334Z
UID:10003501-1720261800-1720267200@www.monlife.co.uk
SUMMARY:Adeiladu canon
DESCRIPTION:Mae 50 mlynedd wedi mynd heibio ers i’r canon gyrraedd Castell Cil-y-coed ac rydym yn dathlu drwy eich gwahodd i adeiladu canon! \nClicwch yma yr archebu! \n4 – 9 oed. \nNodwch fod rhaid i bob plentyn fod yng nghwmni oedolyn. \nThis post is also available in: \n\n	English
URL:https://www.monlife.co.uk/cy/event/adeiladu-canon/
LOCATION:Hyb Cymunedol Cil-y-Coed\, Woodstock Way\, Cil-y-Coed\, Sir Fynwy\, NP26 5DB\, United Kingdom
CATEGORIES:Gweithgareddau am ddim,Hanner Tymor Mis Mai,MonLife Treftadaeth
ATTACH;FMTTYPE=image/png:https://www.monlife.co.uk/wp-content/uploads/2024/06/Build-a-cannon-CYM.png
END:VEVENT
BEGIN:VEVENT
DTSTART;TZID=Europe/London:20240529T100000
DTEND;TZID=Europe/London:20240529T110000
DTSTAMP:20260425T152857
CREATED:20240411T102915Z
LAST-MODIFIED:20240411T104059Z
UID:10001818-1716976800-1716980400@www.monlife.co.uk
SUMMARY:Gweithdy Lego
DESCRIPTION:Clicwch yma i archebu. \nAddas ar gyfer plant 5 – 9 oed. \nNodwch fod rhaid i bob plentyn fod yng nghwmni oedolyn. \nThis post is also available in: \n\n	English
URL:https://www.monlife.co.uk/cy/event/gweithdy-lego-6/
LOCATION:Hyb Cymunedol Cil-y-Coed\, Woodstock Way\, Cil-y-Coed\, Sir Fynwy\, NP26 5DB\, United Kingdom
CATEGORIES:Gweithgareddau am ddim,Hanner Tymor Mis Mai,MonLife Treftadaeth
ATTACH;FMTTYPE=image/png:https://www.monlife.co.uk/wp-content/uploads/2024/04/Lego-Workshop-Caldicot-Social-Media-1.png
END:VEVENT
BEGIN:VEVENT
DTSTART;TZID=Europe/London:20240528T140000
DTEND;TZID=Europe/London:20240528T150000
DTSTAMP:20260425T152857
CREATED:20240411T102656Z
LAST-MODIFIED:20240411T104436Z
UID:10001819-1716904800-1716908400@www.monlife.co.uk
SUMMARY:Hanner Tymor Mai Storiau a Chrefftau
DESCRIPTION:Clicwch yma i archebu. \nAddas ar gyfer plant 4 – 9 oed. \nNodwch fod rhaid i bob plentyn fod yng nghwmni oedolyn. \nThis post is also available in: \n\n	English
URL:https://www.monlife.co.uk/cy/event/hanner-tymor-mai-storiau-a-chrefftau/
LOCATION:Hyb Cymunedol Cil-y-Coed\, Woodstock Way\, Cil-y-Coed\, Sir Fynwy\, NP26 5DB\, United Kingdom
CATEGORIES:Gweithgareddau am ddim,Hanner Tymor Mis Mai,MonLife Treftadaeth
ATTACH;FMTTYPE=image/png:https://www.monlife.co.uk/wp-content/uploads/2024/04/May-Half-Term-Stories-Craft-Session-Instagram-Post-1.png
END:VEVENT
BEGIN:VEVENT
DTSTART;TZID=Europe/London:20240516T150000
DTEND;TZID=Europe/London:20240516T160000
DTSTAMP:20260425T152857
CREATED:20240425T135547Z
LAST-MODIFIED:20240425T140222Z
UID:10001840-1715871600-1715875200@www.monlife.co.uk
SUMMARY:Cofio’r 1970au – Ymunwch â ni am de prynhawn!
DESCRIPTION:Mae 50 mlynedd ers i Cil-y-coed ennill ei statws tref swyddogol. I ddathlu\, byddwn yn cynnal digwyddiad hel atgofion yn Hyb Cil-y-coed gyda the prynhawn! \nDim archebu. \nThis post is also available in: \n\n	English
URL:https://www.monlife.co.uk/cy/event/cofior-1970au-ymunwch-a-ni-am-de-prynhawn/
LOCATION:Hyb Cymunedol Cil-y-Coed\, Woodstock Way\, Cil-y-Coed\, Sir Fynwy\, NP26 5DB\, United Kingdom
CATEGORIES:Gweithgareddau am ddim,MonLife Treftadaeth
ATTACH;FMTTYPE=image/png:https://www.monlife.co.uk/wp-content/uploads/2024/04/1970s-Poster-Instagram-Post-1.png
END:VEVENT
BEGIN:VEVENT
DTSTART;TZID=Europe/London:20240504T103000
DTEND;TZID=Europe/London:20240504T113000
DTSTAMP:20260425T152857
CREATED:20240411T102221Z
LAST-MODIFIED:20240411T104856Z
UID:10001820-1714818600-1714822200@www.monlife.co.uk
SUMMARY:Gweithdy Lego
DESCRIPTION:Clicwch yma i archebu. \nAddas ar gyfer plant 5 – 9 oed. \nNodwch fod rhaid i bob plentyn fod yng nghwmni oedolyn. \nThis post is also available in: \n\n	English
URL:https://www.monlife.co.uk/cy/event/gweithdy-lego-7/
LOCATION:Hyb Cymunedol Cil-y-Coed\, Woodstock Way\, Cil-y-Coed\, Sir Fynwy\, NP26 5DB\, United Kingdom
CATEGORIES:Gweithgareddau am ddim,MonLife Treftadaeth
ATTACH;FMTTYPE=image/png:https://www.monlife.co.uk/wp-content/uploads/2024/04/Lego-Workshop-Caldicot-Social-Media-1.png
END:VEVENT
BEGIN:VEVENT
DTSTART;TZID=Europe/London:20240420T100000
DTEND;TZID=Europe/London:20240420T110000
DTSTAMP:20260425T152857
CREATED:20240411T101833Z
LAST-MODIFIED:20240411T105229Z
UID:10001821-1713607200-1713610800@www.monlife.co.uk
SUMMARY:Sesiwn Chrefftau
DESCRIPTION:Clicwch yma i archebu. \nAddas ar gyfer plant 4 – 9 oed. \nNodwch fod rhaid i bob plentyn fod yng nghwmni oedolyn. \nThis post is also available in: \n\n	English
URL:https://www.monlife.co.uk/cy/event/sesiwn-chrefftau/
LOCATION:Hyb Cymunedol Cil-y-Coed\, Woodstock Way\, Cil-y-Coed\, Sir Fynwy\, NP26 5DB\, United Kingdom
CATEGORIES:Gweithgareddau am ddim,MonLife Treftadaeth
ATTACH;FMTTYPE=image/png:https://www.monlife.co.uk/wp-content/uploads/2024/04/Saturday-Craft-Session-Instagram-Post-1.png
END:VEVENT
BEGIN:VEVENT
DTSTART;TZID=Europe/London:20240404T103000
DTEND;TZID=Europe/London:20240404T110000
DTSTAMP:20260425T152857
CREATED:20240318T153739Z
LAST-MODIFIED:20240318T154011Z
UID:10001795-1712226600-1712228400@www.monlife.co.uk
SUMMARY:Sesiwn 'Gardd Creadigrwydd'
DESCRIPTION:Gadewch i ni fynd yn greadigol yn y Gweithdy Gardd! Creu eich gardd flodau eich hun gyda darnau rhwydd eu rhoi at ei gilydd. Gadewch i ni adeiladu rhywbeth hardd gyda’n gilydd. \nArchebu yma \n3 – 5 oed. \nNodwch fod rhaid i bob plentyn fod yng nghwmni oedolyn. \nThis post is also available in: \n\n	English
URL:https://www.monlife.co.uk/cy/event/sesiwn-gardd-creadigrwydd/
LOCATION:Hyb Cymunedol Cil-y-Coed\, Woodstock Way\, Cil-y-Coed\, Sir Fynwy\, NP26 5DB\, United Kingdom
CATEGORIES:Gweithgareddau am ddim,Hanner Tymor Mis Mai,MonLife Treftadaeth
ATTACH;FMTTYPE=image/png:https://www.monlife.co.uk/wp-content/uploads/2024/03/Creativity-Garden-Ceri-Instagram-Post-1.png
END:VEVENT
BEGIN:VEVENT
DTSTART;TZID=Europe/London:20240403T100000
DTEND;TZID=Europe/London:20240403T110000
DTSTAMP:20260425T152857
CREATED:20240319T154659Z
LAST-MODIFIED:20240319T154907Z
UID:10001798-1712138400-1712142000@www.monlife.co.uk
SUMMARY:Gweithdy Lego
DESCRIPTION:Byddwch yn greadigol gyda ni y Pasg hwn drwy ddod lawr i Hyb Cil-y-coed am fore o hwyl yn y Gweithdy Lego! \nArchebu yma! \nAddas ar gyfer plant 5 – 9 oed. \nNodwch fod rhaid i bob plentyn fod yng nghwmni oedolyn. \nThis post is also available in: \n\n	English
URL:https://www.monlife.co.uk/cy/event/gweithdy-lego-5/
LOCATION:Hyb Cymunedol Cil-y-Coed\, Woodstock Way\, Cil-y-Coed\, Sir Fynwy\, NP26 5DB\, United Kingdom
CATEGORIES:Gweithgareddau am ddim,Hanner Tymor Mis Mai,MonLife Treftadaeth
ATTACH;FMTTYPE=image/png:https://www.monlife.co.uk/wp-content/uploads/2024/01/Lego-Workshop-Caldicot-Social-Media.png
END:VEVENT
BEGIN:VEVENT
DTSTART;TZID=Europe/London:20240327T100000
DTEND;TZID=Europe/London:20240327T110000
DTSTAMP:20260425T152857
CREATED:20240229T121457Z
LAST-MODIFIED:20240325T135324Z
UID:10001750-1711533600-1711537200@www.monlife.co.uk
SUMMARY:Gweithdy Lego
DESCRIPTION:Byddwch yn greadigol gyda ni y Pasg hwn drwy ddod lawr i Hyb Cil-y-coed am fore o hwyl yn y Gweithdy Lego! \nArchebu yma! \nAddas ar gyfer plant 5 – 9 oed. \nNodwch fod rhaid i bob plentyn fod yng nghwmni oedolyn. \nThis post is also available in: \n\n	English
URL:https://www.monlife.co.uk/cy/event/gweithdy-lego-3/
LOCATION:Hyb Cymunedol Cil-y-Coed\, Woodstock Way\, Cil-y-Coed\, Sir Fynwy\, NP26 5DB\, United Kingdom
CATEGORIES:Gweithgareddau am ddim,Hanner Tymor Mis Mai,MonLife Treftadaeth
ATTACH;FMTTYPE=image/png:https://www.monlife.co.uk/wp-content/uploads/2024/01/Lego-Workshop-Caldicot-Social-Media.png
END:VEVENT
BEGIN:VEVENT
DTSTART;TZID=Europe/London:20240326T140000
DTEND;TZID=Europe/London:20240326T150000
DTSTAMP:20260425T152857
CREATED:20240229T121302Z
LAST-MODIFIED:20240319T114202Z
UID:10001751-1711461600-1711465200@www.monlife.co.uk
SUMMARY:Amser Stori a Chrefftau yn ystod y Pasg
DESCRIPTION:Ymunwch â ni yn Hyb Cil-y-coed yn ystod Gwyliau’r Pasg ar gyfer gweithgaredd Amser Stori a Chrefft arbennig ar gyfer y Pasg! \nArchebu yma! \nAddas ar gyfer plant 4 – 8 oed. \nNodwch fod rhaid i bob plentyn fod yng nghwmni oedolyn. \nThis post is also available in: \n\n	English
URL:https://www.monlife.co.uk/cy/event/amser-stori-a-chrefftau-yn-ystod-y-pasg/
LOCATION:Hyb Cymunedol Cil-y-Coed\, Woodstock Way\, Cil-y-Coed\, Sir Fynwy\, NP26 5DB\, United Kingdom
CATEGORIES:Gweithgareddau am ddim,Hanner Tymor Mis Mai,MonLife Treftadaeth
ATTACH;FMTTYPE=image/png:https://www.monlife.co.uk/wp-content/uploads/2024/02/Easter-Story-Time-Craft-Instagram-Post-1.png
END:VEVENT
BEGIN:VEVENT
DTSTART;TZID=Europe/London:20240309T103000
DTEND;TZID=Europe/London:20240309T113000
DTSTAMP:20260425T152857
CREATED:20240229T120928Z
LAST-MODIFIED:20240229T163534Z
UID:10001752-1709980200-1709983800@www.monlife.co.uk
SUMMARY:Gweithdy Lego
DESCRIPTION:Archebu yma! \nAddas ar gyfer plant 5 – 9 oed. \nNodwch fod rhaid i bob plentyn fod yng nghwmni oedolyn. \nThis post is also available in: \n\n	English
URL:https://www.monlife.co.uk/cy/event/gweithdy-lego-4/
LOCATION:Hyb Cymunedol Cil-y-Coed\, Woodstock Way\, Cil-y-Coed\, Sir Fynwy\, NP26 5DB\, United Kingdom
CATEGORIES:Gweithgareddau am ddim,Hanner Tymor Mis Mai,MonLife Treftadaeth
ATTACH;FMTTYPE=image/png:https://www.monlife.co.uk/wp-content/uploads/2024/01/Lego-Workshop-Caldicot-Social-Media.png
END:VEVENT
BEGIN:VEVENT
DTSTART;TZID=Europe/London:20240214T100000
DTEND;TZID=Europe/London:20240214T110000
DTSTAMP:20260425T152857
CREATED:20240108T160940Z
LAST-MODIFIED:20240110T134359Z
UID:10001002-1707904800-1707908400@www.monlife.co.uk
SUMMARY:Gweithdy Lego
DESCRIPTION:Cliciwch yma i archebu! \n*Nodwch fod rhaid i bob plentyn fod yng nghwmni oedolyn* \nThis post is also available in: \n\n	English
URL:https://www.monlife.co.uk/cy/event/gweithdy-lego/
LOCATION:Hyb Cymunedol Cil-y-Coed\, Woodstock Way\, Cil-y-Coed\, Sir Fynwy\, NP26 5DB\, United Kingdom
CATEGORIES:Gweithgareddau am ddim,Hanner Tymor Mis Mai,MonLife Treftadaeth
ATTACH;FMTTYPE=image/png:https://www.monlife.co.uk/wp-content/uploads/2024/01/Lego-Workshop-Caldicot-Social-Media.png
END:VEVENT
BEGIN:VEVENT
DTSTART;TZID=Europe/London:20240213T140000
DTEND;TZID=Europe/London:20240213T150000
DTSTAMP:20260425T152857
CREATED:20240108T161822Z
LAST-MODIFIED:20240110T135848Z
UID:10001004-1707832800-1707836400@www.monlife.co.uk
SUMMARY:Storïau a Chrefftau
DESCRIPTION:Cliciwch yma i archebu! \n*Nodwch fod rhaid i bob plentyn fod yng nghwmni oedolyn* \nThis post is also available in: \n\n	English
URL:https://www.monlife.co.uk/cy/event/storiau-a-chrefftau/
LOCATION:Hyb Cymunedol Cil-y-Coed\, Woodstock Way\, Cil-y-Coed\, Sir Fynwy\, NP26 5DB\, United Kingdom
CATEGORIES:Hanner Tymor Mis Mai,MonLife Treftadaeth
ATTACH;FMTTYPE=image/png:https://www.monlife.co.uk/wp-content/uploads/2024/01/February-half-term-Stories-and-Craft-Instagram-Post-1.png
END:VEVENT
END:VCALENDAR