BEGIN:VCALENDAR
VERSION:2.0
PRODID:-//Monlife - ECPv6.15.18//NONSGML v1.0//EN
CALSCALE:GREGORIAN
METHOD:PUBLISH
X-WR-CALNAME:Monlife
X-ORIGINAL-URL:https://www.monlife.co.uk/cy/
X-WR-CALDESC:Events for Monlife
REFRESH-INTERVAL;VALUE=DURATION:PT1H
X-Robots-Tag:noindex
X-PUBLISHED-TTL:PT1H
BEGIN:VTIMEZONE
TZID:Europe/London
BEGIN:DAYLIGHT
TZOFFSETFROM:+0000
TZOFFSETTO:+0100
TZNAME:BST
DTSTART:20220327T010000
END:DAYLIGHT
BEGIN:STANDARD
TZOFFSETFROM:+0100
TZOFFSETTO:+0000
TZNAME:GMT
DTSTART:20221030T010000
END:STANDARD
BEGIN:DAYLIGHT
TZOFFSETFROM:+0000
TZOFFSETTO:+0100
TZNAME:BST
DTSTART:20230326T010000
END:DAYLIGHT
BEGIN:STANDARD
TZOFFSETFROM:+0100
TZOFFSETTO:+0000
TZNAME:GMT
DTSTART:20231029T010000
END:STANDARD
BEGIN:DAYLIGHT
TZOFFSETFROM:+0000
TZOFFSETTO:+0100
TZNAME:BST
DTSTART:20240331T010000
END:DAYLIGHT
BEGIN:STANDARD
TZOFFSETFROM:+0100
TZOFFSETTO:+0000
TZNAME:GMT
DTSTART:20241027T010000
END:STANDARD
BEGIN:DAYLIGHT
TZOFFSETFROM:+0000
TZOFFSETTO:+0100
TZNAME:BST
DTSTART:20250330T010000
END:DAYLIGHT
BEGIN:STANDARD
TZOFFSETFROM:+0100
TZOFFSETTO:+0000
TZNAME:GMT
DTSTART:20251026T010000
END:STANDARD
END:VTIMEZONE
BEGIN:VEVENT
DTSTART;TZID=Europe/London:20240705T100000
DTEND;TZID=Europe/London:20240705T130000
DTSTAMP:20260425T134437
CREATED:20240618T154013Z
LAST-MODIFIED:20240618T154200Z
UID:10003467-1720173600-1720184400@www.monlife.co.uk
SUMMARY:Gweithdy Lluniadu Pen ac Inc
DESCRIPTION:Ar y gweithdy hwn byddwn yn arbrofi gyda beiro ac inc lliw i greu tirwedd fywiog. \n\nDydd Gwener 5th Gorffennaf 2024\n10am – 1pm\nCost £15\n01291 426888 / uskhub@monmouthshire.gov.uk\n\nThis post is also available in: \n\n	English
URL:https://www.monlife.co.uk/cy/event/gweithdy-lluniadu-pen-ac-inc/
LOCATION:Hyb Cymunedol Brynbuga\, 35 Maryport St\, Brynbuga\, Sir Fynwy\, NP15 1AE\, United Kingdom
CATEGORIES:MonLife Cysylltu
ATTACH;FMTTYPE=image/png:https://www.monlife.co.uk/wp-content/uploads/2024/06/2-3.png
END:VEVENT
BEGIN:VEVENT
DTSTART;TZID=Europe/London:20240628T100000
DTEND;TZID=Europe/London:20240628T130000
DTSTAMP:20260425T134437
CREATED:20240614T115745Z
LAST-MODIFIED:20240614T120147Z
UID:10003455-1719568800-1719579600@www.monlife.co.uk
SUMMARY:Sblash Dyfrlliw Gweithdy Peintio Blodau
DESCRIPTION:Dysgwch beintio blodau yn y ffordd hawdd. Defnyddio llawer o wahanol dechnegau i greu gwaith celf hardd. \n\nDydd Gwener 28th Mehefin 2024\n10am – 1pm\nCost £15\n\nArchebwch nawr: 01291 426888 / uskhub@monmouthshire.gov.uk \nThis post is also available in: \n\n	English
URL:https://www.monlife.co.uk/cy/event/sblash-dyfrlliw-gweithdy-peintio-blodau/
LOCATION:Hyb Cymunedol Brynbuga\, 35 Maryport St\, Brynbuga\, Sir Fynwy\, NP15 1AE\, United Kingdom
CATEGORIES:MonLife Cysylltu
ATTACH;FMTTYPE=image/png:https://www.monlife.co.uk/wp-content/uploads/2024/06/Sblash-Dyfrlliw-Gweithdy-Peintio-Blodau-1.png
END:VEVENT
BEGIN:VEVENT
DTSTART;TZID=Europe/London:20240622T130000
DTEND;TZID=Europe/London:20240622T150000
DTSTAMP:20260425T134437
CREATED:20240618T135939Z
LAST-MODIFIED:20240618T140244Z
UID:10003457-1719061200-1719068400@www.monlife.co.uk
SUMMARY:OEDOLYN A PHLANT Gwehyddu Helyg Gweithdy Addurniadau Gerddi
DESCRIPTION:Dewch i gael hwyl gyda’ch gilydd yn dysgu technegau gwehyddu helyg syml i greu eich addurniadau gardd eich hun. \n\nDydd Sadwrn\, 22 Mehefin 2024\n1pm – 3pm\nCost – Oedolyn £10 Plentyn £5 (5+ oed)\nynghyd â deunyddiau £2 y pen\n\n01291 426888 / uskhub@monmouthshire.gov.uk \nThis post is also available in: \n\n	English
URL:https://www.monlife.co.uk/cy/event/oedolyn-a-phlant-gwehyddu-helyg-gweithdy-addurniadau-gerddi/
LOCATION:Hyb Cymunedol Brynbuga\, 35 Maryport St\, Brynbuga\, Sir Fynwy\, NP15 1AE\, United Kingdom
CATEGORIES:MonLife Cysylltu
ATTACH;FMTTYPE=image/png:https://www.monlife.co.uk/wp-content/uploads/2024/06/Usk-Gardens-willow-whsp-Instagram-Post-1.png
END:VEVENT
BEGIN:VEVENT
DTSTART;TZID=Europe/London:20240622T093000
DTEND;TZID=Europe/London:20240622T130000
DTSTAMP:20260425T134437
CREATED:20240618T154822Z
LAST-MODIFIED:20240618T154945Z
UID:10003469-1719048600-1719061200@www.monlife.co.uk
SUMMARY:Arddangosfa Haf o Waith Myfyrwyr
DESCRIPTION:Mae Dysgu Cymunedol Brynbuga yn gyffrous iawn i gyflwyno eu ‘Arddangosfa o Waith Myfyrwyr’. Dewch draw i weld peth o’r gwaith gwych mae ein dysgwyr talentog iawn wedi’i gyflawni trwy gydol y flwyddyn. \n\nHyb Cymunedol Brynbuga\nDydd Sadwrn\, 22 Mehefin 2024\n9.30am – 1pm\n01291 426888 / uskhub@monmouthshire.gov.uk\n\n\nThis post is also available in: \n\n	English
URL:https://www.monlife.co.uk/cy/event/arddangosfa-haf-o-waith-myfyrwyr/
LOCATION:Hyb Cymunedol Brynbuga\, 35 Maryport St\, Brynbuga\, Sir Fynwy\, NP15 1AE\, United Kingdom
CATEGORIES:MonLife Cysylltu
ATTACH;FMTTYPE=image/png:https://www.monlife.co.uk/wp-content/uploads/2024/06/1-5.png
END:VEVENT
BEGIN:VEVENT
DTSTART;TZID=Europe/London:20240529T110000
DTEND;TZID=Europe/London:20240529T120000
DTSTAMP:20260425T134437
CREATED:20240411T103253Z
LAST-MODIFIED:20240411T103710Z
UID:10001817-1716980400-1716984000@www.monlife.co.uk
SUMMARY:Stori Ffa a Phlannu
DESCRIPTION:Clicwch yma i archebu. \nAddas ar gyfer plant 4 – 8 oed. \nNodwch fod rhaid i bob plentyn fod yng nghwmni oedolyn. \nThis post is also available in: \n\n	English
URL:https://www.monlife.co.uk/cy/event/stori-ffa-a-phlannu/
LOCATION:Hyb Cymunedol Brynbuga\, 35 Maryport St\, Brynbuga\, Sir Fynwy\, NP15 1AE\, United Kingdom
CATEGORIES:Gweithgareddau am ddim,Hanner Tymor Mis Mai,MonLife Treftadaeth
ATTACH;FMTTYPE=image/png:https://www.monlife.co.uk/wp-content/uploads/2024/04/Jackie-and-Bean-Stalk-May.png
END:VEVENT
BEGIN:VEVENT
DTSTART;TZID=Europe/London:20240328T103000
DTEND;TZID=Europe/London:20240328T113000
DTSTAMP:20260425T134437
CREATED:20240229T122156Z
LAST-MODIFIED:20240319T113529Z
UID:10001748-1711621800-1711625400@www.monlife.co.uk
SUMMARY:Stori Bwni a Chrefftau
DESCRIPTION:Dewch lawr i Hyb Brynbuga yn ystod Hanner Tymor y Pasg ac ymunwch â ni am fore o Straeon a Chrefftau Bwni! \nArchebu yma! \nAddas ar gyfer plant 2 – 5 oed. \nNodwch fod rhaid i bob plentyn fod yng nghwmni oedolyn. \nThis post is also available in: \n\n	English
URL:https://www.monlife.co.uk/cy/event/stori-bwni-a-chrefftau/
LOCATION:Hyb Cymunedol Brynbuga\, 35 Maryport St\, Brynbuga\, Sir Fynwy\, NP15 1AE\, United Kingdom
CATEGORIES:Gweithgareddau am ddim,Hanner Tymor Mis Mai,MonLife Treftadaeth
ATTACH;FMTTYPE=image/png:https://www.monlife.co.uk/wp-content/uploads/2024/02/Bunny-Story-Craft-Lou-1-1.png
END:VEVENT
BEGIN:VEVENT
DTSTART;TZID=Europe/London:20240327T110000
DTEND;TZID=Europe/London:20240327T120000
DTSTAMP:20260425T134437
CREATED:20240229T121756Z
LAST-MODIFIED:20240319T113627Z
UID:10001749-1711537200-1711540800@www.monlife.co.uk
SUMMARY:Crefftau Clychau’r Gwynt
DESCRIPTION:Ymunwch â ni yn Hyb Brynbuga yn ystod Gwyliau’r Pasg am sesiwn Crefft Chwythbrennau lle byddwch yn gwneud eich clychau gwynt eich hun! \nArchebu yma! \nAddas ar gyfer plant 6+ \nNodwch fod rhaid i bob plentyn fod yng nghwmni oedolyn. \nThis post is also available in: \n\n	English
URL:https://www.monlife.co.uk/cy/event/crefftau-clychaur-gwynt/
LOCATION:Hyb Cymunedol Brynbuga\, 35 Maryport St\, Brynbuga\, Sir Fynwy\, NP15 1AE\, United Kingdom
CATEGORIES:Gweithgareddau am ddim,Hanner Tymor Mis Mai,MonLife Treftadaeth
ATTACH;FMTTYPE=image/png:https://www.monlife.co.uk/wp-content/uploads/2024/02/windchime-Usk-Hub-Lou.png
END:VEVENT
BEGIN:VEVENT
DTSTART;TZID=Europe/London:20240307T103000
DTEND;TZID=Europe/London:20240307T113000
DTSTAMP:20260425T134437
CREATED:20240229T120554Z
LAST-MODIFIED:20240229T163834Z
UID:10001753-1709807400-1709811000@www.monlife.co.uk
SUMMARY:Stori Arth a Chrefftau
DESCRIPTION:Archebu yma! \nAddas ar gyfer plant 3 – 5 oed. \nNodwch fod rhaid i bob plentyn fod yng nghwmni oedolyn. \nThis post is also available in: \n\n	English
URL:https://www.monlife.co.uk/cy/event/stori-arth-a-chrefftau/
LOCATION:Hyb Cymunedol Brynbuga\, 35 Maryport St\, Brynbuga\, Sir Fynwy\, NP15 1AE\, United Kingdom
CATEGORIES:Gweithgareddau am ddim,Hanner Tymor Mis Mai,MonLife Treftadaeth
ATTACH;FMTTYPE=image/png:https://www.monlife.co.uk/wp-content/uploads/2024/02/Bear-Hunt-Usk-Hub-Lou.png
END:VEVENT
BEGIN:VEVENT
DTSTART;TZID=Europe/London:20240214T113000
DTEND;TZID=Europe/London:20240214T123000
DTSTAMP:20260425T134437
CREATED:20240108T162322Z
LAST-MODIFIED:20240110T133954Z
UID:10001001-1707910200-1707913800@www.monlife.co.uk
SUMMARY:Addurno Io-Io
DESCRIPTION:Cliciwch yma i archebu! \n*Nodwch fod rhaid i bob plentyn fod yng nghwmni oedolyn* \nThis post is also available in: \n\n	English
URL:https://www.monlife.co.uk/cy/event/addurno-io-io/
LOCATION:Hyb Cymunedol Brynbuga\, 35 Maryport St\, Brynbuga\, Sir Fynwy\, NP15 1AE\, United Kingdom
CATEGORIES:Gweithgareddau am ddim,Hanner Tymor Mis Mai
ATTACH;FMTTYPE=image/png:https://www.monlife.co.uk/wp-content/uploads/2024/01/Yo-Yo-decorating-1-1.png
END:VEVENT
BEGIN:VEVENT
DTSTART;TZID=Europe/London:20240214T100000
DTEND;TZID=Europe/London:20240214T110000
DTSTAMP:20260425T134437
CREATED:20240108T154604Z
LAST-MODIFIED:20240110T135414Z
UID:10001003-1707904800-1707908400@www.monlife.co.uk
SUMMARY:Stori Gofod a Chrefft
DESCRIPTION:Cliciwch yma i archebu! \n*Nodwch fod rhaid i bob plentyn fod yng nghwmni oedolyn* \nThis post is also available in: \n\n	English
URL:https://www.monlife.co.uk/cy/event/stori-gofod-a-chrefft/
LOCATION:Hyb Cymunedol Brynbuga\, 35 Maryport St\, Brynbuga\, Sir Fynwy\, NP15 1AE\, United Kingdom
CATEGORIES:Hanner Tymor Mis Mai,MonLife Treftadaeth
ATTACH;FMTTYPE=image/png:https://www.monlife.co.uk/wp-content/uploads/2024/01/space-Usk-Hub-Lou-1-1.png
END:VEVENT
BEGIN:VEVENT
DTSTART;TZID=Europe/London:20231220T110000
DTEND;TZID=Europe/London:20231220T120000
DTSTAMP:20260425T134437
CREATED:20231207T155913Z
LAST-MODIFIED:20231207T155913Z
UID:10000882-1703070000-1703073600@www.monlife.co.uk
SUMMARY:Straeon a Chrefftau Dyn Eira yn Hyb Cymunedol Brynbuga
DESCRIPTION:Straeon a Chrefftau Dyn Eira yn Hyb Cymunedol Brynbuga\n\nDydd Mercher 20 Rhagfyr\n11:00am\n3 – 5 oed\n\n\nArchebu yma: https://ow.ly/Oqwa50Qcqri\nThis post is also available in: \n\n	English
URL:https://www.monlife.co.uk/cy/event/straeon-a-chrefftau-dyn-eira-yn-hyb-cymunedol-brynbuga/
LOCATION:Hyb Cymunedol Brynbuga\, 35 Maryport St\, Brynbuga\, Sir Fynwy\, NP15 1AE\, United Kingdom
CATEGORIES:MonLife Treftadaeth
ATTACH;FMTTYPE=image/png:https://www.monlife.co.uk/wp-content/uploads/2023/12/MicrosoftTeams-image-79.png
ORGANIZER;CN="MonLife":MAILTO:-
END:VEVENT
BEGIN:VEVENT
DTSTART;VALUE=DATE:20231216
DTEND;VALUE=DATE:20231217
DTSTAMP:20260425T134437
CREATED:20231207T155357Z
LAST-MODIFIED:20231207T155357Z
UID:10000880-1702684800-1702771199@www.monlife.co.uk
SUMMARY:Sesiynau crefft Nadolig yn yr Hybiau Cymunedol
DESCRIPTION:Mae gennym nifer o sesiynau crefft galw heibio ar draws y sir ddydd Sadwrn 16 Rhagfyr felly croeso i chi ddod draw a mwynhau hwyl yr ŵyl! \nHyb Brynbuga – Gwneud Cardiau Nadolig\, 9:30 – 12:30\, 4+ oed\nHyb Cil-y-coed – Lliwio Cerdyn Nadolig\, 10:30 – 12:00\nY Fenni – Crefftau Nadolig\, 9:30 – 12:30\nThis post is also available in: \n\n	English
URL:https://www.monlife.co.uk/cy/event/sesiynau-crefft-nadolig-yn-yr-hybiau-cymunedol/
LOCATION:Hyb Cymunedol Y Fenni\, Town Hall\, Cross Street\, Y Fenni\, Sir Fynwy\, NP7 5HD\, United Kingdom
CATEGORIES:MonLife Treftadaeth
ATTACH;FMTTYPE=image/jpeg:https://www.monlife.co.uk/wp-content/uploads/2023/12/Untitled-design-5.jpg
END:VEVENT
BEGIN:VEVENT
DTSTART;TZID=Europe/London:20231101T110000
DTEND;TZID=Europe/London:20231101T120000
DTSTAMP:20260425T134437
CREATED:20231025T122807Z
LAST-MODIFIED:20231025T122807Z
UID:10000321-1698836400-1698840000@www.monlife.co.uk
SUMMARY:Stori a Chrefft y Dylluan
DESCRIPTION:Stori a Chrefft y Dylluan \nDydd Mercher 1 Tachwedd\, 11:00-12:00 \n3 – 7 Oed. \n*Sylwer bod rhaid i bob plentyn fod yng nghwmni oedolyn \nThis post is also available in: \n\n	English
URL:https://www.monlife.co.uk/cy/event/stori-a-chrefft-y-dylluan/
LOCATION:Hyb Cymunedol Brynbuga\, 35 Maryport St\, Brynbuga\, Sir Fynwy\, NP15 1AE\, United Kingdom
ATTACH;FMTTYPE=image/jpeg:https://www.monlife.co.uk/wp-content/uploads/2023/10/387077181_641054834814641_625662054066129004_n.jpg
ORGANIZER;CN="MonLife":MAILTO:-
END:VEVENT
BEGIN:VEVENT
DTSTART;TZID=Europe/London:20231030T100000
DTEND;TZID=Europe/London:20231030T110000
DTSTAMP:20260425T134437
CREATED:20231025T120829Z
LAST-MODIFIED:20231025T120829Z
UID:10000319-1698660000-1698663600@www.monlife.co.uk
SUMMARY:Crefft Daliwr Cannwyll Calangaeaf - Hyb Cymunedol Brynbuga
DESCRIPTION:Ymunwch â ni yn Hyb Cymunedol Brynbuga yr hanner tymor hwn i greu dalwyr Canhwyllau Calan Gaeaf! \nDydd Llyn 30 Hydref 10-11yp \n*Sylwer bod yn rhaid i bob plentyn fod yng nghwmni oedolyn. \nThis post is also available in: \n\n	English
URL:https://www.monlife.co.uk/cy/event/crefft-daliwr-cannwyll-calangaeaf-hyb-cymunedol-brynbuga/
LOCATION:Hyb Cymunedol Brynbuga\, 35 Maryport St\, Brynbuga\, Sir Fynwy\, NP15 1AE\, United Kingdom
CATEGORIES:Hanner Tymor Mis Mai
ATTACH;FMTTYPE=image/jpeg:https://www.monlife.co.uk/wp-content/uploads/2023/10/385255594_640678678185590_748141490807521243_n.jpg
ORGANIZER;CN="MonLife":MAILTO:-
END:VEVENT
END:VCALENDAR